{"text_format":"1","workbook":"xlsx","n_sheets":3,"sheets":["lista do wyboru","Sheet1","wybrane produkty - podsumowanie"],"not_rendered":{"charts":0,"images":157,"macros":1,"external_links":0,"defined_names":1,"comments":0,"pivot_tables":0},"unopened":[],"bounds":{"document_bytes":16777216,"sheet_cells":100000,"rows_first":2000,"rows_last":500,"rows_between":2000,"halvings":0,"cell_chars":16384,"cell_head_chars":4096},"cells_cut":0,"cells_raw":0,"read":"whole","date_system":"1900"}

{"sheet":"lista do wyboru","index":0,"n_rows":160,"n_cols":8,"rows_kept":160,"cut":false,"hidden":false,"merged":[[0,0,0,7],[1,0,1,7],[2,0,2,7],[3,0,3,7]]}
["Specyfikacja techniczna rekomendowanego wyposażenia pracowni przyrody"]
["Szanowni Państwo, \nponiżej znajdują sie wyselekcjonowane produkty dedykowane do pracowni przyrody.\n\nDecydując się na wybrany produkt prosimy o wpisanie odpowiedniej ilości w kolumnie pod nazwą \"Ilość\".\nW drugim arkuszu tego pliku o nazwie \"wybrane produkty - podsumowanie\" automatycznie wyświetli się Państwu kalkulacja wybranych produktów.\n\nJeżeli mają Państwo życzenie korzystać tylko z jednej kategorii produktów proszę dokonać jej wyboru w oknie znajdującym się poniżej."]
["Dane placówki:\n"]
["Wybierz Kategorię:"]
["Kategoria","Kod","Nazwa","Opis ","Ilość","Cena \nbrutto",null,"Zdjecie"]
["Przyrządy i urządzenia do obserwacji","571072","Lupa śr. 90 mm","• śr. głównej soczewki (powiększenie 2,5x): 90 mm • śr. 2 soczewki (4,5x): 21 mm • śr. 3 soczewki (25x): 20 mm • śr. 4 soczewki (55x): 12 mm • 4 podświetlające diody LED ze światłem białym i 1 z UV • wym. całkowite: 22,5 x 10,5 x 2,8 cm.",0,35.9,{"$f":"E6>0","v":false}]
["Przyrządy i urządzenia do obserwacji","571073","Pudełko do obserwacji okazów z 2 lupami","Przezroczyste plastikowe pudełko w kształcie walca, z dwoma lupami wbudowanymi w zdejmowaną pokrywę. Umożliwia bezpieczną i humanitarną obserwację okazów owadów i innych bezkręgowców, a następnie wypuszczenie ich do naturalnego otoczenia • pokrywa wyposażona w otwory wentylacyjne • dno z siatką ułatwiającą porównywanie wielkości okazów • min. 2-krotne powiększenie • wys. 7,8 cm • śr. 6,2-6,9 cm • śr. otworu z lupą: 4,3 cm • śr. 2 lupy: 3,6 cm.",0,9.9,{"$f":"E7>0","v":false}]
["Przyrządy i urządzenia do obserwacji","507002","Zestaw pudełek do obserwacji okazów","Zestaw 6 małych pojemniczków z przykrywką ze szkłem powiększającym. Całość w poręcznym opakowaniu. Zestaw wykonany z przezroczystego plastiku, pozwala na długofalową obserwację procesów przyrodniczych. • śr. pojemniczka 4 cm",0,59.9,false]
["Przyrządy i urządzenia do obserwacji","571075","Lornetka","Lornetka dachopryzmatyczna z kolorowymi soczewkami ze szkła optycznego BK7 • powiększenie 10x • kąt widzenia 5.8 ° • śr. soczewek 25 mm • śr. okularu 13,2 mm • waga 170 g.",0,49.9,false]
["Przyrządy i urządzenia do obserwacji","571076","Teleskop","Teleskop astronomiczny z podstawowym obiektywem. Umożliwia obserwację planet i księżyca, w dobrych warunkach (tzw. ciemne niebo) pozwala dostrzec 150-200 galaktyk i gromad gwiazd. Montaż azymutalny gwarantuje dobrą sztywność, umożliwiając obserwację przy dużych powiększeniach, a jednocześnie teleskop jest prosty w obsłudze. Lekki, wytrzymały statyw z aluminium wyposażony w półkę z regulowaną wysokością • Apertura: 60 mm • Ogniskowa: 700 mm, f/11.6, 600mm f/10 • Szukacz: 5*24 • Przekątna (hybrid diagonal): 90° • Wysokość MOSL: 125 cm • Taca na akcesoria • Okular: SR4mm + H6mm + H12.5mm + H20mm, 3 x soczewka Barlowa, podajnik 1,5.",0,299.89999999999998,false]
["Przyrządy i urządzenia do obserwacji","571077","Mikroskop - wersja zasilana z sieci","Mikroskop optyczny do codziennego użytku w pracowni biologicznej. Zasilany sieciowo. Wyposażony w podwójny system oświetlenia z płynną regulacją jasności światła przechodzącego i odbitego. Zakres powiększenia od 40 do 400 razy. Głowa lornetki pod kątem 45°, obracana o 360°. Stolik do preparatów  uchwytem krzyżowym i specjalną skalą poprawiającą dokładność odczytów • Okular szerokopolowy WF 10x • Obiektyw achromatyczny 4x, 10x, 40x (S) • Stolik na preparaty o wym. 9 x 9 cm • Regulacja ostrości: 15 mm • Kondenser NA0.65 z przysłoną • oświetlenie LED • wym. całkowite: 18,5 x 14 x 29 cm • W zestawie:\n- pokrowiec\n- nożyczki\n- pęseta\n- pipeta\n- odczynniki\n- zestaw 15 preparatów.\n",0,599.9,false]
["Preparaty biologiczne do obserwacji mikroskopowych ","571108","Zestaw preparatów mikroskopowych - bezkręgowce","• zestaw zawiera 5 preparatów, m.in. z dżdżownic i mrówek.",0,35.9,false]
["Preparaty biologiczne do obserwacji mikroskopowych ","571109","Zestaw preparatów mikroskopowych - skrzydła owadów","• zestaw zawiera 5 preparatów, m.in. ze skrzydeł pszczoły i motyla. ",0,35.9,false]
["Preparaty biologiczne do obserwacji mikroskopowych ","571110","Zestaw preparatów mikroskopowych - rośliny jadalne","• zestaw zawiera 5 preparatów, m.in. z korzenia cebuli i łodygi kukurydzy.",0,35.9,false]
["Preparaty biologiczne do obserwacji mikroskopowych ","571111","Zestaw preparatów mikroskopowych - tkanki ssaków","• zestaw zawiera 5 preparatów, m.in. z ludzkiego żołądka, serca i krwi.",0,35.9,false]
["Preparaty biologiczne do obserwacji mikroskopowych ","571112","Zestaw preparatów mikroskopowych - grzyby","• zestaw zawiera 5 preparatów, m.in. Rhizopus (pleśń z chleba) i Penicillium (Pędzlak).",0,35.9,false]
["Preparaty biologiczne do obserwacji mikroskopowych ","571113","Zestaw preparatów mikroskopowych - co żyje w kropli wody","• zestaw zawiera 10 preparatów, m.in. z różnych formy okrzemek, eugleny zielonej  i pchły.",0,99.9,false]
["Preparaty biologiczne do obserwacji mikroskopowych ","571114","Zestaw preparatów mikroskopowych - tkanki człowieka","• zestaw zawiera 20 preparatów, m.in. z wymazem z ludzkich krwinek, mięśni poprzecznie prążkowanych, ludzkiego mózgu, przekroju ludzkiej skóry i tkanki wątroby.",0,119.9,false]
["Preparaty biologiczne do obserwacji mikroskopowych ","571115","Zestaw preparatów mikroskopowych - tkanki człowieka zmienione chorobowo","• zestaw zawiera 10 preparatów, m.in. z gruźlicą (prosówka) w wątrobie, pylicą w płucach i malarią we krwi.",0,279.89999999999998,false]
["Preparaty biologiczne do obserwacji mikroskopowych ","571116","Zestaw preparatów mikroskopowych - preparaty zoologiczne","• zestaw zawiera 30 preparatów, m.in. z Pantofelkiem, trzema rodzajami bakterii, krwią, wymazem z żaby, organizmem jednokomórkowym, rozwielitkami, Dafnią, tasiemiecem bąblowcem, złożonym okiem owada, robakiem (przekrój), dżdżownicą (przekrój) , otworami gębowymi kilku owadów.",0,199.9,false]
["Preparaty biologiczne do obserwacji mikroskopowych ","571117","Zestaw preparatów mikroskopowych - przyroda","• zestaw zawiera 10 preparatów, m.in. z odnóża muchy, skrzydła ptaka i motyla oraz wymazem krwi ludzkiej.",0,69.900000000000006,false]
["Preparaty biologiczne do obserwacji mikroskopowych ","571122","Zestaw preparatów biologicznych 50 szt.","Zestaw preparatów mikroskopowych zawierający 50 gotowych preparatów na szkiełkach o wym. 7,6 x 2,5 x 0,1 cm. W zestawie preparaty z m.in. przekrojami poprzecznymi wątroby królika i ludzkich mięśni szkieletowych, wymazem z krwi żaby, odnożami i otworem gębowym owadów czy kaczym włosem.",0,199.9,false]
["Preparaty biologiczne do obserwacji mikroskopowych ","571123","Zestaw preparatów biologicznych 100 szt.","Zestaw preparatów mikroskopowych zawierający 100 gotowych preparatów na szkiełkach o wym. 7,6 x 2,5 x 0,1 cm. W zestawie preparaty z m.in. RNA i DNA, penicyliną, bakteriami Actinomyces, przekrojem ludzkiej nerki i wymazem z krwi, liściem ryżu czy przkrojem podłużnym łodygi kukurydzy. ",0,399.9,false]
["Przyrządy do pomiarów i wykonywania doświadczeń","500135","Taśma miernicza","Taśma dwustronna zwijana. Z jednej strony centymetry i milimetry, po drugiej cale. \nDł. taśmy 20 m",0,59.9,false]
["Przyrządy do pomiarów i wykonywania doświadczeń","514019","Stoper","Stoper to doskonały gadżet dla początkującego sportowca. • dokładność 1/100 sek. • licznik okrążeń • zegarek • alarm • instrukcja • wymagana bateria AG13 (załączona) ",0,42.9,false]
["Przyrządy do pomiarów i wykonywania doświadczeń","571080","Higrometr i termometr 2w1","Elektroniczny higrometr i termometr z czujnikiem termoparą na kablu o dł. 1 m. • wym. całkowite 19,3 x 8,8 x 2,7 cm • wyświetlacz LCD o wym. 9 x 6,5 cm • zakres pomiaru temperatury wewnątrz: od -10 ℃ do 50 ℃ • zakres pomiaru temperatury na zewnątrz: od -50 ℃ do 70 ℃ • dokładność pomiaru temperatury: 0,1 ° C • zakres pomiaru wilgotności: od 20% RH do 99% RH (gdy wilgotność spadnie poniżej 20% RH, wyświetla 10% RH) • zasilanie: 1 bateria 1.5V (AAA), brak w zestawie.",0,69.900000000000006,false]
["Przyrządy do pomiarów i wykonywania doświadczeń","571107","Termometr laboratoryjny","Laboratoryjny termometr alkoholowy ze szkła, w plastikowej osłonie. Nie zawiera rtęci \n• skala od -20 do 110°C • podziałka co 1 °C • dł. 30,4 cm • śr. 6 mm.",0,6.9,false]
["Przyrządy do pomiarów i wykonywania doświadczeń","571100","Termometr zaokienny","Plastikowy termometr zaokienny • zakres pomiaru temperatury od -40° do + 50° C \n• wym. 40 x 6,3 x 1 cm.",0,39.9,false]
["Przyrządy do pomiarów i wykonywania doświadczeń","841110","Waga elektroniczna - zasilanie z sieci i z baterii","Precyzyjna waga elektroniczna wykonana z plastiku, z wbudowaną na stałe, niewymienną szalką wykonaną ze stali nierdzewnej • zasilana sieciowo (zasilacz 7,5V/230V w zestawie) lub na baterie (6 baterii 1,5V LR6 AA, brak w zestawie) • wyświetlacz LCD • ważenie w gramach i uncjach • funckje: kalibracja, oszczędzanie energii, tarowanie, automatyczne zerowanie, zliczanie ilości sztuk o jednakowej masie • obiążenie maks. 2 kg • dokładność odczytu 0,1 g \n• wym. szalki 12 x 10 cm • wym. całkowite 13 x 16,5 x 6 cm.",0,799.9,false]
["Przyrządy do pomiarów i wykonywania doświadczeń","ZEST5211","Waga szalkowa metalowa + odważniki","Metalowa waga, z płaskimi szalkami. Doskonała do ważenia różnorodnych zabawek, materiałów, jedzenia itp. •wym. 16 x 20 x 49 cm • nośność 5 kg\nW zestawie odważniki:\nZestaw 4 odważników w kartonowym pudełku. • 1 x 500g • 2 x 200g • 1 x 100g\nZestaw 8 odważników: • 1 x 1g • 2 x 2g • 1 x 5g • 2 x 10g • 1 x 20g • 1 x 50g\n",0,409.7,false]
["Przyrządy do pomiarów i wykonywania doświadczeń","571078","Kompas","Kompas z zamykaną obudową i kółeczkiem do przywieszenia. Komora kompasu wypełniona olejem mineralnym tłumiącym drgania igły magnetycznej • śr. 5 cm.",0,29.9,false]
["Przyrządy do pomiarów i wykonywania doświadczeń",507027,"Deszczomierz","Proste w obsłudze i dokładne, wyskalowane w milimetrach urządzenie do pomiaru poziomu wody z opadów atmosferycznych. Wskaźnik można postawić lub umieścić w ziemi za pomocą dostarczonego kolca. Pokrywka zapobiega rozlaniu wody podczas przenoszenia. \n• wym. 16 x 8 cm",0,45.9,false]
["Przyrządy do pomiarów i wykonywania doświadczeń","571129","Barometr","Barometr mechaniczny z termometrem • zakres pomiaru ciśnienia: od min. 960 hPa do co  najmniej 1060 hPa • dokładność pomiaru: ok. +/- 5 hPa • dwie tarcze, o śr. 7 cm każda",0,129.9,false]
["Przyrządy do pomiarów i wykonywania doświadczeń","571071","Wiatromierz","Elektroniczny wiatromierz z wyświetlaczem LCD, zasilany na baterie 9V • dakres pomiaru prędkości wiatru: 0.3 - 45 m/s • dokładność pomiaru ± 3% rdg ± 0.1 • pomiar w: m/s, ft/min, km/h, mph, węzły • Prędkość wiatru (rozdzielczość): 0.001 m/s • pomiar bieżący / średni • podświetlenie ekranu • automatyczne / ręczne wyłączanie • wskaźnik baterii • funkcja zatrzymywania danych • waga netto produktu: 295 g • wym. 22 x 6,5 x 3 cm.",0,399.9,false]
["Przyrządy do pomiarów i wykonywania doświadczeń","571080","Higrometr i termometr 2w1","Elektroniczny higrometr i termometr z czujnikiem termoparą na kablu o dł. 1 m. • wym. całkowite 19,3 x 8,8 x 2,7 cm • wyświetlacz LCD o wym. 9 x 6,5 cm • zakres pomiaru temperatury wewnątrz: od -10 ℃ do 50 ℃ • zakres pomiaru temperatury na zewnątrz: od -50 ℃ do 70 ℃ • dokładność pomiaru temperatury: 0,1 ° C • zakres pomiaru wilgotności: od 20% RH do 99% RH (gdy wilgotność spadnie poniżej 20% RH, wyświetla 10% RH) • zasilanie: 1 bateria 1.5V (AAA), brak w zestawie.",0,29.9,false]
["Przyrządy do pomiarów i wykonywania doświadczeń","841120","Zestaw areometrów","W zestawie 5 aerometrów w zakresach od 0,700  do 1,200 g/cm³ • dł. całkowita od 18 do 30 cm.",0,699.9,false]
["Przyrządy do pomiarów i wykonywania doświadczeń","571068","Zestaw siłomierzy","• 6 szt. (1, 2, 5, 10, 20, 50 N)",0,69.900000000000006,false]
["Przyrządy do pomiarów i wykonywania doświadczeń","571081","Miernik uniwersalny wielkości elektrycznych","Uniwersalny miernik cyfrowy umożliwia pomiar różnych wielkości fizycznych, takich jak: temperatura, częstotliwość, napięcie i natężenie prądu stałego i przemiennego, rezystancja/opór i pojemność elektryczna przedmiotu, przez który płynie prąd.\nParametry pomiaru:\n• napięcie prądu stałego (DCV): 200m/2/20/200/600V (± 0,5%)\n• napięcie prądu przemiennego (ACV): 20/200/600V (± 1,0%)\n• natężenie prądu stałego (DCA): 20u/20m/200m/10A (± 1,8%)\n• natężenie prądu przemiennego (ACA): 200m/10A (± 2,0%)\n• rezystancja/opór elektryczny: 200/2k/20K/200k/2M/20M/200MΩ (± 1,0%)\n• pojemność elektryczna: 2n/20n/200n/2u/20uF (± 4,0%)\n• częstotliwość: 2k- 200kHz (± 3,0%)\n• temperatura: -20 ℃ do 1000 ℃ (± 2,0%).\nWłaściwości miernika:\n• wym. 12,4 x 6,9 x 1,9 • wym. wyświetlacza LCD: 4,2 x 1,5 cm • wskaźnik niskiego poziomu baterii • zabezpieczenie przed przeciążeniem • test diody test tranzystorów • test ciągłości • test LOGIC • automatyczne wyłączanie • Zapamiętywanie pomiarów • zasilanie: jedna bateria 9V 6F22.\nZestaw zawiera:\n• cyfrowy miernik uniwersalny,\n• zestaw przewodów,\n• baterię,\n• instrukcję obsługi.\n",0,79.900000000000006,false]
["Przyrządy do pomiarów i wykonywania doświadczeń","841150","Elektroskop - kształt kwadratu","Elektroskop listkowy używany podczas doświadczeń z elektrostatyki.  Służy do mierzenia wysokich napięć stałych .Elektroskop wykorzystuje zjawisko odpychania się jednoimiennych ładunków elektrycznych. W momencie, kiedy zetkniemy obiekt naładowany elektrycznie z prętem elektroskopu, część ładunku przepływa z tego obiektu do elektroskopu, a listki folii odpychają się. Wielkość zgromadzonego ładunku na listkach determinuje kąt odchylenia listków • wym. obudowy: 15 x 7 cm.",0,69.900000000000006,false]
["Przyrządy do pomiarów i wykonywania doświadczeń","841151","Zestaw pałeczek do elektryzowania","Zestaw 4 pałeczek do doświadczeń z elektrostatyki. Pałeczki wykonane z różnych materiałów: szklana, ebonitowa, winidurowa i stalowa • dł. 30 cm.",0,199.9,false]
["Przyrządy do pomiarów i wykonywania doświadczeń","571082","Żarówki miniaturowe 6 V","• gwint E10 • śr. żarówki 1,1 cm • dł. całkowita 2,3 cm • 10 szt.",0,19.899999999999999,false]
["Przyrządy do pomiarów i wykonywania doświadczeń","571096","Żarówki miniaturowe 3,5 V","• gwint typu E10 • napięcie robocze 3 V • 10 szt.",0,15.9,false]
["Przyrządy do pomiarów i wykonywania doświadczeń","571118","Oprawki do żarówek","Plastikowa oprawka z gniazdem na żarówkę E10 (śr. 10 mm) i 2 pinami do lutowania \n• wym. 7,4 x 3,4 x 2,2 cm.",0,3.9,false]
["Przyrządy do pomiarów i wykonywania doświadczeń","571083","Diody LED","• śr. diody 5 mm • kolory: biały i czerwony \n• napięcie robocze: 1,9-2,1 V (czerwone); 3,8 -4,5 V (białe) • 10 szt.",0,4.5,false]
["Przyrządy do pomiarów i wykonywania doświadczeń","571084","Opornik","• Rezystancja 100 Ω, moc 1W, tolerancja +/- 5% • maksymalne napięcie robocze: 350V \n• śr. 4 mm • dł. 10 mm • 1 szt.",0,2.9,false]
["Przyrządy do pomiarów i wykonywania doświadczeń","012014","Przewody z zakończeniami typu „krokodylek”","Komplet 10 kolorowych przewodów ze złączami krokodylkowymi. Każdy przewód jest w innym kolorze.",0,18.899999999999999,false]
["Przyrządy do pomiarów i wykonywania doświadczeń","571085","Sygnalizator piezoelektryczny","Elektrycznie sterowany brzęczyk z wewnętrzym generatorem • dźwięk ciągły • głośność  min. 80 dB • napięcie robocze 3-24 V • częstotliwość rezonansowa 2,7 kHz • śr. 4,2 cm • wys. 1,6 cm.",0,5.9,false]
["Przyrządy do pomiarów i wykonywania doświadczeń","012012","Zestaw podstawowych obwodów elektrycznych","Zestaw do budowania podstawowych obwodów elektrycznych. Elementy obwodu zamontowane są na przezroczystych płytkach, tak aby widoczny był cały obwód. Połączeń elektrycznych płytek dokonuje się szybko i łatwo poprzez specjalne magnetyczne styki. W zestawie: • 6 płytek: 3 z żarówką na podstawce (2 rodzaje żarówek) 1 z brzęczykiem, 1 z włącznikiem przyciskowym, 1 z silniczkiem • drut rezystancyjny • 10 przewodów ze specjalnymi stykami magnetycznymi • 2 przewody krokodylkowe • 3 łączniki baterii • wymagane 3 baterie C (brak w zestawie). ",0,349.9,false]
["Przyrządy do pomiarów i wykonywania doświadczeń","354067","Zestaw magnesów sztabkowych, 2 szt.","Silne magnesy sztabkowe, zamknięte w twardych, plastikowych obudowach zewnętrznych, oznaczonych po jedenj stronie kolorem czerwonym (północ), a po drugiej niebieskim (południe). • wym. 8 x 2,2 x 1 cm • 2 szt.",0,29.9,false]
["Przyrządy do pomiarów i wykonywania doświadczeń","571119","Zestaw magnesów podkowiastych","3 magnesy podkowiaste w różnych rozmiarach \n• wym. 7,5 x 5 x 1,3 cm; 9,5 x 6 x 1,7 cm; 16 x 8 x 2 cm.",0,89.9,false]
["Przyrządy do pomiarów i wykonywania doświadczeń","354008","Pudełko z opiłkami ferromagnetycznymi","Plastikowy, zamknięty, przezroczysty pojemnik, zawierający drobne opiłki metalowe. W połączeniu z magnesem umożliwia wykonywanie ciekawych doświadczeń z dziedziny magnetyzmu. • śr. 7 cm",0,8.9,false]
["Przyrządy do pomiarów i wykonywania doświadczeń","571121","Magnes neodymowy","Magnes neodymowy w kształcie niskiego cylindra o wys. 3 cm i śr. 20 cm, o osiowym kierunku namagnesowania. Wykonany z folii metalowej lub z tworzywa sztucznego.",0,3.9,false]
["Przyrządy do pomiarów i wykonywania doświadczeń","571065","Igła magnetyczna","Do doświadczeń magnetycznych, testowania pola magnetycznego oraz wyznaczania kierunku\n • mocowana na podstawie • wykonana z metalu i plastiku • dł. 3 cm",0,17.899999999999999,false]
["Przyrządy do pomiarów i wykonywania doświadczeń","571127","Zestaw soczewek ze stojakiem","Zestaw 6 różnych soczewek szklanych, każda soczewka o śr. 50 mm. Soczewki umieszczone są w drewnianym, zamykanym pudełku z miękkimi przegródkami na każdą soczewkę. Dołączony drewniany stojak służy do stabilnego umieszczania w nim soczewek podczas prezentacji oraz doświadczeń i eksperymentów szkolnych. Stojak można też wykorzystywać do soczewek o innej średnicy. • długość ogniskowej soczewek: -100, +100, -150, +150, -200 i +200 mm • wym. stojaka: 11,5 x 5 z 15 cm",0,99.9,false]
["Przyrządy do pomiarów i wykonywania doświadczeń","571128","Pryzmat szklany - trójkątny","Pryzmat szklany, trójkątny, równoboczny o lekko sfazowanych krawędziach. Doskonały do przeprowadzania doświadczeń fizycznych z zakresu optyki, także wykraczających poza podstawowy eksperyment, jakim w szkole jest demonstracja rozszczepiania światła. Używając pryzmatów można badać załamanie promienia świetlnego w pryzmacie i innych ośrodkach, całkowite wewnętrzne odbicie, czy też określać kąt graniczny. • kąty 60° • wym. 3,8 x 3,8 x 3,8 cm",0,39.9,false]
["Przyrządy do pomiarów i wykonywania doświadczeń","571066","Krążek Newtona","Koło podzielone na sektory o barwach tęczy. Wprawione w szybki ruch obrotowy przybiera kolor biały. Doświadczenie ilustruje zasadę działania wielu urządzeń, np. telewizorów kolorowych, monitorów komputerowych. • mocowany na podstawie  • wykonany z drewna, plastiku i metalu • wym. 24 x 43 cm",0,169.9,false]
["Przyrządy do pomiarów i wykonywania doświadczeń","841152","Zestaw kostek o równych masach i różnych objętościach ","Zestaw 4 sześcianów z haczykiem, do doświadczeń z wyznaczaniem gęstości różnych materiałów. Każdy sześcian wykonany jest z innego materiału: aluminium, mosiądzu, żelaza lub ołowiu • wym. 3,2 x 3,2 x 3,2 cm. ",0,129.9,false]
["Przyrządy do pomiarów i wykonywania doświadczeń","ZEST5212","Zestaw klocków","• wym. od 2,5 x 2,5 x 2,5 cm do 7,5 x 2,5 x 2,5 cm, 100 elementów",0,99.8,false]
["Przyrządy do pomiarów i wykonywania doświadczeń","594006","Zestaw klocków plastikowych","• 158 elem. o wym. 4 x 4 cm",0,79.900000000000006,false]
["Przyrządy do pomiarów i wykonywania doświadczeń","127014","Zestaw sprężyn metalowych","Zestaw 56 różnych skał i minerałów w drewnianym pudełku \n• minimalna śr. próbki: 3 cm.",0,249.9,false]
["Przyrządy do pomiarów i wykonywania doświadczeń","571074","Zestaw skał i minerałów","Zestaw 56 różnych skał i minerałów w drewnianym pudełku \n• minimalna śr. próbki: 3 cm.",0,199.9,false]
["Przyrządy do pomiarów i wykonywania doświadczeń","514030","Stetoskop","Dzięki niemu dzieci mogą usłyszeć bicie własnego serca lub serca kolegów. Do użytku w szkole i przedszkolu. • wym. 27 x 17 cm",0,49.9,false]
["IT","085078","Aparat fotograficzny","Aparat fotograficzny (zaawansowany kompakt) z szerokokątnym obiektywem, z opcją ustawień manualnych i możliwościami filmowania w rozdzielczości Full HD. Parametry minimalne:\n• matryca typu CMOS; rozmiar matrycy: 1/2,3\"; liczba pixeli: 16,3 mln • stabilizacja optyczna [OIS] • wyświetlacz 3\" dotykowy • ogniskowa obiektywu: 4.1-86.1 mm (odpowiednik dla 35 mm: 23-483 mm) • zoom optyczny: 21x, zoom cyfrowy: 5x • czułość: auto, ISO 100, ISO 200, ISO 400, ISO 800, ISO 1600, ISO 3200 • pomiar światła: wielosegmentowy, centralnie ważony i punktowy • detekcja twarzy • tryb ekspozycji: programowa AE, priorytet migawki, priorytet przysłony i ustawienia ręczne • kompensacja od -2 EV do 2 EV i w krokach co 1/3 EV • czas otwarcia migawki: 1/8-1/2000 s [auto] 1- 1/2000 s [programowa AE] 8-1/2000 s [zdjęcia nocne] 16-1/2000 s [ustawienia ręczne] • maksymalna rozdzielczość: 4608 x 3456 pikseli • format zapisu pliku: JPEG • rejestracja filmów z dźwiękiem • maksymalna rozdzielczość filmów: 1920 x 1080 • liczba klatek na sekundę: 30 • format zapisu filmów: MP4 • akumulator.",0,2099.9,false]
["IT","085079","Rzutnik multimedialny","Rzutnik multimedialny z matrycą typu DLP o następujących parametrach minimalnych: • lampa o mocy 240 W, żywotność lampy w trybie normalnym: 3500 godz., żywotność lampy w trybie eco: 6000 godz. • współczynnik kontrastu: 10000:1 • rozdzielczość podstawowa: full HD (1920 x 1080) • rozdzielczość maksymalna: WUXGA (1920 x 1200) • 3D ready • jasność: 2200 ANSI lumen • format obrazu: 16:9 lub 4:3 • zoom optyczny: 1,3:1 • korekcja pionowa i pozioma: +/- 30 stopni • wielkość obrazu od 40 cali-235 cali • 2 x wejście HDMI • wejście komponentowe • wejście D-Sub 15pin • wejście kompozytowe • port RS-232 • 2 x wejście liniowe audio • wyjście liniowe audio • 2 x złącze USB • głośnik o mocy 10W • głośność w trybie eco: 28 dB • głośność w trybie normalnym: 31 dB • możliwość prowadzenia prezentacji bez komputera • gwarancja: 36 miesięcy, gwarancja na lampę: 12 miesięcy. Minimalna zawartość dodatkowego wyposażenia:\n • instrukcja obsługi • kabel DSUB • kabel zasilający • pilot z bateriami. ",0,3999.9,false]
["IT","085080","Ekran do rzutnika multimedialnego","Elektrycznie zwijany ekran z możliwością montażu ściennego lub sufitowego. Parametry optymalne: • format: 16:10, • wymiar powierzchni projekcyjnej: 240 x 150 cm, • funkcja automatycznego zatrzymywania zwijania/rozwijania tkaniny, • radiowy system zdalnego sterowania, • uniwersalne uchwyty montażowe, • 2 lata gwarancji.",0,1479.9,false]
["IT","085081","Odtwarzacz CD z głośnikami","Radiomagnetofon z odtwarzaczem CD (odtwarza: Audio CD, CD-R/RW, MP3, WMA), z magnetofonem jednokasetowym i z radiem analogowym. Parametry: • dźwięk stereo, \n• możliwość zaprogramowania 20 stacji radiowych, • głośniki dwudrożne z systemem bass reflex, • moc wyjściowa głośników: 2 x 6 W, • korektor dźwięku, • podbicie basów, •podświetlany wyświetlacz LCD, • pilot, • wyłącznik czasowy, • odtwarzanie plików MP3 i WMA przez złącze USB, • wejście USB, • wejście liniowe stereo 3,5 mm, • wyjście słuchawkowe,\n • zasilanie: sieciowe 220-240 V, 50/60 Hz lub bateryjne. ",0,569.9,false]
["IT","085103","Laptop dla nauczyciela","Bezpieczne i wydajne notebooki TravelMate P2 zostały zaprojektowane w celu zapewnienia maksymalnej wydajności zarówno w domu, jak i w klasie. Notebooki, zapewniają uczniom moc i niezawodność, których potrzebują, aby przejść przez najtrudniejsze zadania.\nLaptop o parametrach minimalnych:\n• Ekran o przekątnej 15,6 cali\n• Procesor: Intel Core i7\n• Pamięć RAM: 8 GB\n• Dysk: 1 TB\n• Karta graficzna: NVIDIA GeForce 940MX\n• Wbudowany napęd optyczny: Nagrywarka DVD 8X Super-Multi\n• Złącza: 1x D-SUB, 1x HDMI, 1x USB Typ C (3.1), 2x USB 3.0, 1x USB 2.0, Czytnik kart SD\n• Komunikacja: Wi-Fi, Bluetooth 4.0\n• System operacyjny: Windows 10 Pro (64 Bit) EDU\n• Kolor: czarny",0,3999.9,false]
["Sprzęt laboratoryjny, odczynniki chemiczne ","841013","Probówka szklana - 18 cm, śr. 18 mm, 250 szt.","Probówka okrągłodenna bakteriologiczna, wykonana ze szkła borokrzemowego \nBORO 3.3. \n• 250 szt. • wym. 18 x 1,8 cm ",0,139.9,false]
["Sprzęt laboratoryjny, odczynniki chemiczne ","841014","Probówki okrągłodenne 10x100, 250 szt.","Probówka okrągłodenna bakteriologiczna, wykonana ze szkła borokrzemowego BORO 3.3. • 250 szt. • wym. 10 x 1 cm",0,69.900000000000006,false]
["Sprzęt laboratoryjny, odczynniki chemiczne ","571030","Statyw na probówki","• wykonany z tworzywa sztucznego • na 40 probówek o śr. do 25 mm • wym. 25 x 11 x 7 cm",0,14.9,false]
["Sprzęt laboratoryjny, odczynniki chemiczne ","571043","Kolba okrągłodenna 25 ml","• poj. 25 ml • wym. 4,2 x 8 cm",0,9.9,{"$f":"E71>0","v":false}]
["Sprzęt laboratoryjny, odczynniki chemiczne ","571044","Kolba okrągłodenna 50 ml","• poj. 50 ml • wym. 5,3 x 10 cm",0,9.9,false]
["Sprzęt laboratoryjny, odczynniki chemiczne ","571045","Kolba stożkowa z szeroką szyją 250 ml, \n10 szt.","• poj. 250 ml • wym. 8,5 x 14 cm",0,109.9,false]
["Sprzęt laboratoryjny, odczynniki chemiczne ","571046","Kolba stożkowa z szeroką szyją 300 ml, \n10 szt.","• poj. 300 ml • wym. 8,7 x 15,6 cm",0,129.9,false]
["Sprzęt laboratoryjny, odczynniki chemiczne ","571047","kolba stożkowa z wąską szyją 250 ml,\n 10 szt.","• poj. 250 ml • wym. 8,5 x 14 cm",0,109.9,false]
["Sprzęt laboratoryjny, odczynniki chemiczne ","571048","kolba stożkowa z wąską szyją 300 ml,\n 10 szt.","• poj. 300 ml • wym. 8,9 x 15,3 cm",0,129.9,false]
["Sprzęt laboratoryjny, odczynniki chemiczne ","571031","Zlewka niska - plastikowa 50 ml","• wykonana z tworzywa sztucznego • poj. 50 ml • wym. 4,9 x 5 cm",0,7.9,false]
["Sprzęt laboratoryjny, odczynniki chemiczne ","571040","Zlewka niska - szklana 100 ml, 10 szt.","• wykonana ze szkła • 10 szt. • poj. 100 ml",0,69.900000000000006,false]
["Sprzęt laboratoryjny, odczynniki chemiczne ","841024","Zlewka duża - szklana 250 ml, 10 szt.","• poj. 250 ml • śr. 7 cm • wys. 8 cm.",0,69,false]
["Sprzęt laboratoryjny, odczynniki chemiczne ","841025","Zlewka duża - szklana 500 ml, 10 szt.","• poj. 500 ml • śr. 8,7 cm • wys. 11 cm.",0,99,false]
["Sprzęt laboratoryjny, odczynniki chemiczne ","571087","Cylinder miarowy - plastikowy 25 ml","• poj. 25 ml • śr. 2 cm • wys. 17 cm.",0,5.9,false]
["Sprzęt laboratoryjny, odczynniki chemiczne ","571088","Cylinder miarowy - plastikowy 50 ml","• poj. 50 ml • śr. 2,6 cm • wys. 20 cm.",0,7.9,false]
["Sprzęt laboratoryjny, odczynniki chemiczne ","571089","Cylinder miarowy - plastikowy 100 ml","• poj. 100 ml • śr. 3,1 cm • wys. 25 cm.",0,11.9,false]
["Sprzęt laboratoryjny, odczynniki chemiczne ","571090","Cylinder miarowy - plastikowy 250 ml","• poj. 250 ml • śr. 4,1 cm • wys. 31,5 cm.",0,16.899999999999999,false]
["Sprzęt laboratoryjny, odczynniki chemiczne ","571039","Moździerz z tłuczkiem 135 ml","• wykonany z porcelany • poj. 135 ml • wym. 10 x 4,5 cm • śr. tłuczka 2,7 cm",0,12.9,false]
["Sprzęt laboratoryjny, odczynniki chemiczne ","ZEST5213","Mały palnik Bunsena na gaz","Zastosowanie w palniku zaworu iglicowego umożliwia dokładne wyregulowanie ilości podawanego gazu na dyszę .• śr. króćca 9 mm\nWąż do gazu bezpieczny z wzmocnionymi końcówkami. Testowany i zarejestrowany DIN DVGW. • ciśnienie pracy do 100 mbar • dł. 1,5 m ",0,649.79999999999995,false]
["Sprzęt laboratoryjny, odczynniki chemiczne ","571038","Palnik spirytusowy","\n• wykonany ze szkła • poj. 150 ml • śr. u góry 2 cm • wym. 8,7 x 12,6 cm \n",0,8.9,false]
["Sprzęt laboratoryjny, odczynniki chemiczne ","571091","Rurka gumowa","Rurka z naturalnej gumy • śr. zewnętrzna ok. 10 mm • śr. wewnętrzna ok. 6 mm \n• dł. min. 1,6 m.",0,19.899999999999999,false]
["Sprzęt laboratoryjny, odczynniki chemiczne ","571092","Rurka silikonowa","Akwariowa rurka silikonowa • śr. zewnętrzna ok. 6 mm • śr. wewnętrzna ok. 4 mm \n• dł. min. 2 m.",0,9.9,false]
["Sprzęt laboratoryjny, odczynniki chemiczne ","571120","Zestaw plastikowych pipet Pasteura 5 ml","Zestaw min. 500 Pipet Pasteura z polietylenu • poj. 5 ml • skalowanie co 0,5 ml • dł. 21 cm.",0,89.9,false]
["Sprzęt laboratoryjny, odczynniki chemiczne ","571093","Butelka z zakraplaczem 30 ml","Butelka z transparentnego szkła z zakraplaczem z gumowym korkiem \n• poj. 30 mm • śr. 3,9 cm • wys. całkowita 11 cm • wys. butelki 7 cm.",0,7.9,false]
["Sprzęt laboratoryjny, odczynniki chemiczne ","841018","Butelka na roztwory - szklana 250 ml","Zawartość borokrzemu - 72%. • gwint 45 • poj. 250 ml",0,9.9,false]
["Sprzęt laboratoryjny, odczynniki chemiczne ","841019","Butelka na roztwory - szklana 500 ml","Zawartość borokrzemu - 72%. • gwint 45 • poj. 500 ml",0,9.9,false]
["Sprzęt laboratoryjny, odczynniki chemiczne ","571061","Lejek plastikowy","• wykonany z tworzywa sztucznego • śr. 6 cm",0,1.9,false]
["Sprzęt laboratoryjny, odczynniki chemiczne ","841015","Szalka Petriego 90x15, 1 szt.","• wykonana ze szkła • 1 szt.\n• wym. 9 x 1,5 cm",0,4.9000000000000004,false]
["Sprzęt laboratoryjny, odczynniki chemiczne ","841016","Szalka Petriego 100x15, 1 szt.","• wykonana ze szkła • 1 szt.\n• wym. 10 x 1,5 cm",0,4.9000000000000004,false]
["Sprzęt laboratoryjny, odczynniki chemiczne ","841017","Szalka Petriego 120x20, 1 szt.","• wykonana ze szkła • 1 szt.\n• wym. 12 x 2 cm",0,6.9,false]
["Sprzęt laboratoryjny, odczynniki chemiczne ","571033","Bagietki - 5 szt.","• wykonane ze szkła • 5 szt. • wym. 0,6 x 25 cm",0,9.9,false]
["Sprzęt laboratoryjny, odczynniki chemiczne ","841029","Pęseta plastikowa","Pęseta wykonana z polimetylopentenu (PMP), z zaostrzonymi końcówkami • dł. 11,5 cm.",0,12.9,false]
["Sprzęt laboratoryjny, odczynniki chemiczne ","571063","Pęseta","• wykonana ze stali nierdzewnej • dł. 16 cm",0,4.9000000000000004,false]
["Sprzęt laboratoryjny, odczynniki chemiczne ","571061","Igły preparacyjne, 10 szt.","• wykonany z tworzywa sztucznego • śr. 6 cm",0,1.9,false]
["Sprzęt laboratoryjny, odczynniki chemiczne ","571069","Zestaw szkiełek podstawowych, 50 szt.","• wykonane ze szkła • 50 szt. • wym. 76 x 25 x 1 mm",0,6.9,false]
["Sprzęt laboratoryjny, odczynniki chemiczne ","571070","Zestaw szkiełek nakrywkowych, 100 szt.","• wykonane ze szkła • 100 szt. • wym. 22 x 22 mm",0,3.5,false]
["Sprzęt laboratoryjny, odczynniki chemiczne ","841027","Bibuła laboratoryjna","Bibuła jakościowa miękka • 100 arkuszy o wym. 58 x 58 cm.",0,179.9,false]
["Sprzęt laboratoryjny, odczynniki chemiczne ","841026","Wskaźniki pH - paski 1-14","Książeczka z papierkami wskaźnikowymi do mierzenia pH w zakresie od 1 do 14 • 100 szt.",0,12.9,false]
["Sprzęt laboratoryjny, odczynniki chemiczne ","841001","Kwas solny","• Zachować środki ostrożności ze względu na silne właściwości żrące. \n• Substancję przechowywać w szczelnie zamkniętych opakowaniach, zabezpieczonych przed możliwością kontaktu z wilgocią lub zasadami. Nie stosować opakowań z metali kolorowych (aluminium, cyna, cynku). Temperatura przechowywania: brak ograniczeń. Przechowywać z dala od produktów spożywczych.\n• 1 l",0,20.9,false]
["Sprzęt laboratoryjny, odczynniki chemiczne ","841002","Wodorotlenek sodu ","• Zachować szczególne środki ostrożności ze względu na silne właściwości żrące. Opary neutralizować za pomocą\nabsorbentów zasilanych wodą lub roztworem rozcieńczonych kwasów.\n• Przechowywać w szczelnie zamkniętych opakowaniach, zabezpieczonych przed możliwością kontaktu z wilgocią lub kwasami. Nie stosować opakowań z metali kolorowych (aluminium, cyna, cynk). Z\u001aabezpieczyć przed dostępem osób postronnych.\n• 1 kg",0,22.9,false]
["Sprzęt laboratoryjny, odczynniki chemiczne ","841003","Tlenek wapnia","• 500 g",0,129.9,false]
["Sprzęt laboratoryjny, odczynniki chemiczne ","841004","Jod krystaliczny, sublimowany ","• Puste pojemniki mogą zawierać pozostałości substancji i mogą być niebezpieczne. \nNie używać pojemnika powtórnie.\n• Należy przechowywać zgodnie z miejscowymi przepisami. Przechowywać w oryginalnym opakowaniu z dala od promieni słonecznych, materiałów niezgodnych, napojów i jedzenia. Pojemnik powinien pozostać zamknięty i szczelny do czasu użycia. Pojemniki, które zostały otwarte muszą być ponownie uszczelnione i przechowywane w położeniu pionowym, aby nie dopuścić do wycieku substancji. Nie przechowywać w nieoznakowanych pojemnikach. Używać odpowiednich pojemników zapobiegających skażeniu środowiska.\n• 100 g",0,399.9,false]
["Sprzęt laboratoryjny, odczynniki chemiczne ","841005","Siarka sublimowana","• Używać odpowiednich pojemników zapobiegających skażeniu środowiska.\n• 500 g",0,99.9,false]
["Sprzęt laboratoryjny, odczynniki chemiczne ","841006","Gliceryna ","• Unikać tworzenia pyłów, nie wdychać par / dymów / aerozoli. \n• 1 l",0,54.9,false]
["Sprzęt laboratoryjny, odczynniki chemiczne ","841007","Kwas benzoesowy ","• Używać odpowiednich pojemników zapobiegających skażeniu środowiska.\n• 250 g",0,39.9,false]
["Sprzęt laboratoryjny, odczynniki chemiczne ","841008","Siarczan (VI) miedzi (II) ","• Używać odpowiednich pojemników zapobiegających skażeniu środowiska.\n• 250 g",0,19.899999999999999,false]
["Sprzęt laboratoryjny, odczynniki chemiczne ","841009","Woda utleniona","• 100 ml",0,19.899999999999999,false]
["Sprzęt laboratoryjny, odczynniki chemiczne ","841010","Manganian (VII) potasu ","• Trzymać oddzielnie od środków redukujących i materiałów palnych, kwasów, nadtlenków, formaldehydu oraz innych substancji łatwo utleniających się. Używać odpowiednich pojemników zapobiegających skażeniu środowiska.\n• 500 g",0,54.9,false]
["Sprzęt laboratoryjny, odczynniki chemiczne ","571097","Metale i stopy - zestaw","Zestaw kilkunastu różnych płytek z metali i ich stopów. Zestaw zawiera następujące metale i stopy: magnetyt, hematyt, cynk, boksyty, chalkopiryt, ruda tytanu, surówka żelaza, stop żelaza, blacha ocynkowana, stop aluminium, stop miedzi, stop tytanu \"• wym. całkowite 16,4 x 7,8 x 2,0 cm • wymiary każdej z płytek min. 5 x 2,5 cm. ",0,129.9,false]
["Sprzęt laboratoryjny, odczynniki chemiczne ","571098","Drut miedziany","Miękki drut miedziany • dł. 3 m • śr. 2 mm.",0,16.899999999999999,false]
["Sprzęt laboratoryjny, odczynniki chemiczne ","012015","Przenośny zestaw do badania wody","Zestaw reagentów, naczyń i przyrządów niezbędnych do wykonania 100 badań (testów) każdego wskaźnika (razem 500 testów) i określenia następujących wskaźników jakości wody: 1) zawartość tlenu rozpuszczonego w wodzie, 2) zasadowość, 3) kwasowość, 4) poziom dwutlenku węgla, 5) twardość wody. Pomiarów dokonuje się metodą miareczkowania.\nZawartość zestawu umieszczona jest w specjalnej, przenośnej walizce z tworzywa sztucznego, co umożliwia swobodne dokonywanie badań zarówno w pomieszczeniach, jak i terenie. Zestaw zawiera m.in. wodoszczelny, elektroniczny pH-metr z elektrodą i wyświetlaczem ciekłokrystalicznym, na baterie (700 godzin ciągłego użytkowania; dołączone bufory do kalibracji).",0,1999.9,false]
["Sprzęt ochronny","571094","Parafilm","Niezwykle cienka folia laboratoryjna ze specjalnie preparowanej, bardzo czystej parafiny, szczelnie przylegająca nawet do nieregularnych kszałtów • bezbarwna, przejrzysta i nietoksyczna • wytrzymuje termperatury od 7 do 32 ℃ • odporna na działanie roztworów soli, kwasów i zasad nieorganicznych przez 48 godzin • rozciągliwa o 200 % • gr. 0,127 mm • szer. 5 cm • dł. 75 m.",0,359.9,false]
["Sprzęt ochronny","571095","Okulary ochronne","Okulary ochronne z tworzywa sztucznego, z otworami wentylacyjnymi i z gumką pozwalającą dopasować okulary do rozmiaru głowy. Chronią\nprzed chemikaliami, kurzem i odpryskami. Panoramiczne widzenie pod kątek 180 °.",0,14.9,false]
["Sprzęt ochronny","033004","Rękawiczki lateksowe pudrowane","Lateksowe rękawiczki diagnostyczne, lekko pudrowane skrobią kukurydzianą. Posiadają rolowany rant • niejałowe • jednorazowego użytku • 100 szt.",0,19.899999999999999,false]
["Sprzęt techniczny i pomocniczy","571032","Suszarka na szkło laboratoryjne","• wykonana ze stali, z powłoką z tworzywa sztucznego\n • 32 miejsca • wym. 36 x 15 x 47 cm",0,69.900000000000006,false]
["Sprzęt techniczny i pomocniczy","841023","Płyta ociekowa","Płyta wykonana z polistyrenu. W dolnej części znajduje się zbiorniczek zamknięty korkiem, zapobiegający wylaniu się pozostałości. Posiada kanał zlewu, który zbiera odpady, usuwane przez rurkę spustową. Płyta ma miejsca na 72 zdejmowane kołki (w zestawie) •  wym. płyty 45 x 63 x 11 cm • kołki o dł. 9,5 cm i śr. 0,6 cm • mocowanie i wąż spustowy w zestawie.",0,499.9,false]
["Sprzęt techniczny i pomocniczy","571067","Szczotka do mycia szkła","• wykonana z nylonu • wym. 2 x 25 cm",0,5.9,false]
["Sprzęt techniczny i pomocniczy","045023","Pompka do balonów","Ręczna pompka do balonów, dwustronnego działania, co przyspiesza pompowanie. ",0,9.9,false]
["Globusy, mapy","027010","Globus indukcyjny","Globus indukcyjny stanowi kulę o czarnej matowej powierzchni, na której z łatwością można kreślić i pisać różnokolorową kredą, przy czym wykonane napisy i rysunki dają się z niej usunąć podobnie jak z tablicy szkolnej. • śr. 25 cm • wys. 38 cm",0,55.9,false]
["Globusy, mapy","027002","Globus fizyczny","• śr. 22 cm • wys. 30 cm • opakowanie: folia",0,34.9,false]
["Globusy, mapy","027008","Globus fizyczny duży","Globus fizyczny. • śr. 42 cm • wys. 62 cm • 1:30 000 000",0,269.89999999999998,false]
["Globusy, mapy","027014","Globus konturowy śr. 25 cm","Znakomita pomoc dydaktyczna służąca zarówno do wprowadzania nowych pojęć, jak i utrwalania oraz sprawdzania wcześniej nabytych umiejętności. Kolor biały z wyraźnym rysunkiem: siatki geograficznej, kontynentów, granic państw. Możliwość pisania po globusie ścieralnym flamastrem umożliwia samodzielną pracę i kontrolę postępów podczas lekcji geografii. • śr. 25 cm.",0,79.900000000000006,false]
["Globusy, mapy","027015","Globus konturowy podświetlany śr. 25 cm","• po podświetleniu ukazują się kolorowe państwa, rzeki, nazwy i stolice.",0,99.9,false]
["Globusy, mapy","137001","Polska – mapa ścienna, fizyczna","Fizyczna mapa Polski na ścianę. Mapa jest dwustronna, przez co jest idealna do ćwiczeń. Jedna strona przedstawia ukształtowanie powierzchni,  rozmieszczenie obiektów hydrograficznych, sieć dróg, sieć osadniczą, granice województw, a druga strona przedstawia tę samą mapę bez nazewnictwa. • wym. 160 x 150 cm • skala: 1:500 000 ",0,369.9,false]
["Globusy, mapy","079106","Świat polityczno-fizyczny - mapa ścienna","Polityczno-fizyczna mapa świata na ścianę.  Oprawiona w rurki PCV, laminowana dwustronnie, gotowa do zawieszenia. \nMapa polityczna zawiera: podział polityczny świata, stolice państw, flagi wszystkich państw świata, ważne informacje w liczbach na temat kontynentów (wielkość, ludność). \nMapa fizyczna zawiera najważniejsze dane geograficzne takie jak: niziny, wyżyny, pasma górskie, wyspy, szczyty, jeziora, morza.\n• skala 1:25 000 000 • oprawa: rurki PCV • wym. 200 x 140 cm • waga: 850 g.",0,99.9,false]
["Globusy, mapy","079105","Europa polityczna - mapa ścienna","Fizyczna mapa Europy. Oprawiona w rurki PCV, laminowana dwustronnie, gotowa do zawieszenia.  Mapa ukazuje aktualny podział polityczny Europy z zaznaczonymi stolicami i ważniejszymi miastami. Na mapie zaznaczono granice państw i terytoriów zależnych, rzeki, kanały, szczyty górskie i wulkany. \n• skala 1:4 500 000 • oprawa: rurki PCV • wym. 140 x 100 cm.",0,109.9,false]
["Globusy, mapy","137002","Krajobrazy świata – mapa","Mapa jest dwustronna: jedna strona to mapa świata z zaznaczonymi i nazwanymi krajobrazami występującymi na świecie, dodatkowo sześć zdjęć z przykładowymi krajobrazami. Na drugiej stronie mapa świata z zaznaczonymi  strefami  klimatycznymi występującymi  na  świecie,  dodatkowo 10 klimatogramów dla charakterystycznych stacji z każdej strefy. • wym. 160 cm x 120 cm • skala 1:24 000 000 ",0,259.89999999999998,false]
["Globusy, mapy","137003","Ochrona przyrody w Polsce – mapa","Mapa jest dwustronna, przez co jest idealna do ćwiczeń. Jedna strona przedstawia aktualny stan ochrony przyrody w Polsce - rozmieszczenie obszarów chronionych (m.in.  parków  narodowych, parków krajobrazowych, rezerwatów przyrody) oraz podlegających ochronie obiektów przyrody nieożywionej. Na mapie zaznaczono występowanie gatunków roślin i zwierząt chronionych w Polsce oraz zastosowano nowy podział rezerwatów przyrody obowiązujący na mocy Rozporządzenia Ministra Środowiska. Na odwrocie taka sama mapa bez nazewnictwa. • mapa laminowana, oprawiona w rurki plastikowe, zawieszka ze sznurka \n• wym. 160 cm x 120 cm • skala 1:650 000.",0,229.9,false]
["Globusy, mapy","079018","Wrocław - duża ścienna mapa","Mapa ścienna miasta przedstawia wszystkie ulice z zaznaczeniem odcinków jednokierunkowych, sygnalizacji świetlnej oraz wysokości wiaduktów; ponadto ważne obiekty, w tym zabytkowe i handlowe itp. Zawiera szlaki turystyczne. Jest zafoliowana, można po niej pisać pisakiem. \n• wym. 112,8 x 93,8 cm • skala 1:20 000 • oprawa: foliowana, z wałkami i zawieszką sznurkową.\n",0,69.900000000000006,false]
["Globusy, mapy","079019","Łódź - duża ścienna mapa","Mapa ścienna miasta przedstawia wszystkie ulice z zaznaczeniem odcinków jednokierunkowych, sygnalizacji świetlnej oraz wysokości wiaduktów; ponadto ważne obiekty, w tym zabytkowe i handlowe itp. Zawiera szlaki turystyczne. Jest zafoliowana, można po niej pisać pisakiem. \n• wym. 112,8 x 93,8 cm • skala 1:20 000 • oprawa: foliowana, z wałkami i zawieszką sznurkową.\n",0,69.900000000000006,{"$f":"E137>0","v":false}]
["Globusy, mapy","079020","Poznań - duża ścienna mapa","Mapa ścienna miasta przedstawia wszystkie ulice z zaznaczeniem odcinków jednokierunkowych, sygnalizacji świetlnej oraz wysokości wiaduktów; ponadto ważne obiekty, w tym zabytkowe i handlowe itp. Zawiera szlaki turystyczne. Jest zafoliowana, można po niej pisać pisakiem. \n• wym. 112,8 x 93,8 cm • skala 1:20 000 • oprawa: foliowana, z wałkami i zawieszką sznurkową. Mapa ścienna Poznania obejmuje również pobliskie cztery miasta: Luboń, Mosina, Puszczykowo i Swarzędz.",0,69.900000000000006,false]
["Globusy, mapy","079021","Kraków - duża ścienna mapa","Mapa ścienna miasta przedstawia wszystkie ulice z zaznaczeniem odcinków jednokierunkowych, sygnalizacji świetlnej oraz wysokości wiaduktów; ponadto ważne obiekty, w tym zabytkowe i handlowe itp. Zawiera szlaki turystyczne. Jest zafoliowana, można po niej pisać pisakiem. \n• wym. 112,8 x 93,8 cm • skala 1:20 000 • oprawa: foliowana, z wałkami i zawieszką sznurkową.",0,69.900000000000006,false]
["Globusy, mapy","079016","Okręg Katowicki - duża mapa ścienna","Mapa ścienna miasta przedstawia wszystkie ulice z zaznaczeniem odcinków jednokierunkowych, sygnalizacji świetlnej oraz wysokości wiaduktów; ponadto ważne obiekty, w tym zabytkowe i handlowe itp. Zawiera szlaki turystyczne. Jest zafoliowana, można po niej pisać pisakiem. \n• wym. 112,8 x 93,8 cm • skala 1:20 000 • oprawa: foliowana, z wałkami i zawieszką sznurkową.",0,69.900000000000006,false]
["Globusy, mapy","079017","Warszawa - duża ścienna mapa","Mapa w formie laminowanego arkusza, oprawiona w rurki PCV, gotowe do zawieszenia. Wymiary: 94,5 x 112,5 cm. Plan Warszawy wykonany w pełnych granicach administracyjnych w skali 1:26 000, zaś centrum miasta przedstawiono w większej skali 1:15 000. Umieszczono wiele cennych informacji z punktu widzenia zarówno mieszkańców, jak i turystów, m.in. informacje o: parkingach, szpitalach, urzędach pocztowych, sklepach wielkopowierzchniowych, hotelach, muzeach, kinach, teatrach, pomnikach, kościołach, cmentarzach, zabytkach, budynkach użyteczności publicznej, parkach miejskich. \n",0,69.900000000000006,false]
["Globusy, mapy","011031","Obrotowa mapa nieba","Profesjonalna, okrągła obrotowa mapa nieba, która pomaga poznać niebo początkującym, jak i ułatwia odnajdywanie obiektów bardziej doświadczonym obserwatorom. Duży zasięg gwiazdowy do 6,5 magnitudo, wiele obiektów Messiera, NGC, asteryzmy oraz diagram do wyznaczania pozycji planet to niewątpliwe atuty naszej mapki, uważanej przez profesjonalistów za najlepszą obrotową mapkę nieba na świecie. • na odwrocie instrukcja korzystania z mapy i inne informacje pomocne w obserwacji nieba • foliowana oprawa \n• wodoodporna • śr. 30 cm.",0,29.9,false]
["Modele","571101","Szkielet człowieka 170 cm","Szkielet człowieka w naturalnym rozmiarze, idealny do prezentacji, wyposażenia pracowni biologicznych w szkołach oraz laboratoriach studenckich. Model pokazuje podstawowe elementy układu kostnego człowieka oraz dodatkowo początkowe odcinki nerwów rdzeniowych i tętnic kręgowych. Kończyny dolne i górne oraz szczęka zostały zamocowane ruchomo. Umieszczony na wzmocnionym, kołowym statywie. Statyw i kończyny dolne wymagają dokręcenia do tułowia • wykonany z wytrzymałego i łatwego do czyszczenia plastiku PVC • wys. całkowita 180 cm.",0,899.9,false]
["Modele","571102","Model - Szkielet zatopiony w pleksi - jaszczurka","Naturalne szkielety zwierząt umieszone w wytrzymałej pleksi w celu ochrony przed kurzem i uszkodzeniami mechanicznymi. Szkielety są przydatną pomocą dydaktyczną ułatwiającą realizację programu z zakresu biologii obowiązującego na różnych poziomach nauczania. Pozwalają nauczycielom na zaprezentowanie uczniom przystosowań budowy kośćca zwierzęcia np. do sposobu poruszania się. Uczniowie, którzy mieli szansę obejrzeć preparaty z łatwością zapamiętają także charakterystyczne cechy budowy szkieletowej. Pomoce pozwalają na bliską obserwację zatopionych w nich obiektów pod każdym kątem, są też niezwykle trwałe, przejrzyste i estetycznie wykonane. W preparatach oznaczono za pomocą numerów najważniejsze elementy szkieletów. Dołączona legenda zawiera nazwy zaznaczonych elementów w języku angielskim. \n• wym. 16,5 x 6 x 2,5 cm.",0,199.9,false]
["Modele","571103","Model - Szkielet zatopiony w pleksi - ryba","Naturalne szkielety zwierząt umieszone w wytrzymałej pleksi w celu ochrony przed kurzem i uszkodzeniami mechanicznymi. Szkielety są przydatną pomocą dydaktyczną ułatwiającą realizację programu z zakresu biologii obowiązującego na różnych poziomach nauczania. Pozwalają nauczycielom na zaprezentowanie uczniom przystosowań budowy kośćca zwierzęcia np. do sposobu poruszania się. Uczniowie, którzy mieli szansę obejrzeć preparaty z łatwością zapamiętają także charakterystyczne cechy budowy szkieletowej. Pomoce pozwalają na bliską obserwację zatopionych w nich obiektów pod każdym kątem, są też niezwykle trwałe, przejrzyste i estetycznie wykonane. W preparatach oznaczono za pomocą numerów najważniejsze elementy szkieletów. Dołączona legenda zawiera nazwy zaznaczonych elementów w języku angielskim. \n• wym. 16,5 x 6 x 2,5 cm.",0,199.9,false]
["Modele","571104","Model - Szkielet zatopiony w pleksi - żaba","Naturalne szkielety zwierząt umieszone w wytrzymałej pleksi w celu ochrony przed kurzem i uszkodzeniami mechanicznymi. Szkielety są przydatną pomocą dydaktyczną ułatwiającą realizację programu z zakresu biologii obowiązującego na różnych poziomach nauczania. Pozwalają nauczycielom na zaprezentowanie uczniom przystosowań budowy kośćca zwierzęcia np. do sposobu poruszania się. Uczniowie, którzy mieli szansę obejrzeć preparaty z łatwością zapamiętają także charakterystyczne cechy budowy szkieletowej. Pomoce pozwalają na bliską obserwację zatopionych w nich obiektów pod każdym kątem, są też niezwykle trwałe, przejrzyste i estetycznie wykonane. W preparatach oznaczono za pomocą numerów najważniejsze elementy szkieletów. Dołączona legenda zawiera nazwy zaznaczonych elementów w języku angielskim. \n• wym. 14 x 9,6 x 3,4 cm.",0,159.9,false]
["Modele","571105","Model - Szkielet zatopiony w pleksi - królik","Naturalne szkielety zwierząt umieszone w wytrzymałej pleksi w celu ochrony przed kurzem i uszkodzeniami mechanicznymi. Szkielety są przydatną pomocą dydaktyczną ułatwiającą realizację programu z zakresu biologii obowiązującego na różnych poziomach nauczania. Pozwalają nauczycielom na zaprezentowanie uczniom przystosowań budowy kośćca zwierzęcia np. do sposobu poruszania się. Uczniowie, którzy mieli szansę obejrzeć preparaty z łatwością zapamiętają także charakterystyczne cechy budowy szkieletowej. Pomoce pozwalają na bliską obserwację zatopionych w nich obiektów pod każdym kątem, są też niezwykle trwałe, przejrzyste i estetycznie wykonane. W preparatach oznaczono za pomocą numerów najważniejsze elementy szkieletów. Dołączona legenda zawiera nazwy zaznaczonych elementów w języku angielskim. \n• wym. 19,8 x 8,2 x 4 cm.",0,299.89999999999998,{"$f":"E147>0","v":false}]
["Modele","571106","Model - Szkielet zatopiony w pleksi - gołąb","Naturalne szkielety zwierząt umieszone w wytrzymałej pleksi w celu ochrony przed kurzem i uszkodzeniami mechanicznymi. Szkielety są przydatną pomocą dydaktyczną ułatwiającą realizację programu z zakresu biologii obowiązującego na różnych poziomach nauczania. Pozwalają nauczycielom na zaprezentowanie uczniom przystosowań budowy kośćca zwierzęcia np. do sposobu poruszania się. Uczniowie, którzy mieli szansę obejrzeć preparaty z łatwością zapamiętają także charakterystyczne cechy budowy szkieletowej. Pomoce pozwalają na bliską obserwację zatopionych w nich obiektów pod każdym kątem, są też niezwykle trwałe, przejrzyste i estetycznie wykonane. W preparatach oznaczono za pomocą numerów najważniejsze elementy szkieletów. Dołączona legenda zawiera nazwy zaznaczonych elementów w języku angielskim. \n• wym. 17,8 x 14 x 7 cm.",0,459.9,false]
["Modele","819223","Fantom dziecięcy","Lekki i bardzo realistyczny wizualnie oraz w dotyku manekin do treningu resuscytacji krążeniowo-oddechowej, AED ze wskaźnikiem diodowym oraz do usuwania ciał obcych z dróg oddechowych z torsem dziecka. Doskonale odzwierciedla anatomię dziecka, a za pomocą punktów orientacyjnych na torsie można łatwo odnaleźć odpowiednie miejsce kompresji lub zastosowania elektrod od defibrylatora. Ponadto manekin jest łatwy w utrzymaniu czystości dzięki zastosowaniu specjalnego tworzywa. Realizm prawidłowych czynności RKO zwiększa konieczność odchylenia głowy do udrożnienia dróg oddechowych oraz ruchoma klatka piersiowa podczas wentylacji. Dodatkowym atutem jest także możliwość ćwiczeń z zakresu pierwszej pomocy przy zadławieniach.\nWłaściwości produktu:\n- wyposażony w monitor diodowy pozwalający kontrolować częstotliwość kompresji\n- naturalna blokada dróg oddechowych (odpowiednie odchylenie głowy konieczne do udrożnienia)\n- realistyczne rysy twarzy oraz ruchoma żuchwa\n- klatka piersiowa unosząca się podczas sztucznego oddychania\n- realistyczne wskaźniki (żebra, mostek, sutki) umożliwiające zlokalizowanie miejsca prawidłowego przyłożenia dłoni lub przyklejenia elektrod AED\n- mechanizm „klik-klak” z sygnałem dźwiękowym pozwalający kontrolować głębokość kompresji\n- rękoczyn uciśnięcia nadbrzusza - możliwość nauki udzielenia pomocy przy zadławieniu\n- unikalny mechanizm pomagający w dostosowaniu siły ucisku\n- interaktywny mechanizm weryfikacji ćwiczącego - uczeń widzi, słyszy i czuje poprawność wykonywanego ćwiczenia\n- sygnał świetlny (kolorowe diody) informujący prawidłowości częstotliwości uciśnięć\n- torba służąca jednocześnie jako mata treningowa\n- zawartość zestawu (manekin Prestan ze wskaźnikiem diodowym, torba transportowa/mata treningowa, 10 wymiennych dróg oddechowych, instrukcja obsługi)\n- 2 lata gwarancji",0,1299.9000000000001,false]
["Plansze","817012","Plansza obrazująca zmysły człowieka","Plansza dydaktyczna drukowana na kartonie kredowym o gramaturze 250 g. Ofoliowana i wyposażona w listwy metalowe i zawieszkę. • wym. 68 x 98 cm",0,49.9,false]
["Plansze","817032","Plansza budowa kwiatu","Plansza dydaktyczna drukowana na kartonie kredowym o gramaturze 250 g. Ofoliowana i wyposażona w listwy metalowe i zawieszkę. • wym. 68 x 98 cm",0,49.9,false]
["Plansze","817034","Plansza rodzajów chmur","Plansza dydaktyczna drukowana na kartonie kredowym o gramaturze 250 g. Ofoliowana i wyposażona w listwy metalowe i zawieszkę. • wym. 68 x 98 cm",0,49.9,false]
["Plansze","817044","Plansza obiegu wody w przyrodzie","Plansza dydaktyczna drukowana na kartonie kredowym o gramaturze 250 g. Ofoliowana i wyposażona w listwy metalowe i zawieszkę. • wym. 68 x 98 cm",0,49.9,false]
["Drobne artykuły papiernicze","115402","Plastelina 6 kolorów","• 110 g",0,3.9,false]
["Drobne artykuły papiernicze","014007","Taśma dwustronna","• szer. 3,8 cm • dł. 10 m",0,6.9,false]
["Drobne artykuły papiernicze","121016","Taśma klejąca wąska","• 1 szt.",0,9.9,false]
["Drobne artykuły papiernicze","121009","Pinezki kolorowe","• 20 szt.",0,2.5,false]
["Drobne artykuły papiernicze","121008","Spinacze biurowe","• 100 szt. • wym. 28 mm",0,1.9,false]
["Drobne artykuły papiernicze","500203","Magnesy do tablicy","Zestaw kolorowych, okrągłych magnesów, w praktycznym, plastikowym słoiku. \n• 120 szt. • śr. 2,5 cm",0,79.900000000000006,false]
["Drobne artykuły papiernicze","045010","Balony","• 100 szt. • śr. około 20 cm",0,29.9,false]

{"sheet":"Sheet1","index":1,"n_rows":12,"n_cols":1,"rows_kept":12,"cut":false,"hidden":true,"merged":[]}
["Wszystko"]
["Przyrządy i urządzenia do obserwacji"]
["Preparaty biologiczne do obserwacji mikroskopowych "]
["Przyrządy do pomiarów i wykonywania doświadczeń"]
["IT"]
["Sprzęt laboratoryjny, odczynniki chemiczne "]
["Sprzęt ochronny"]
["Sprzęt techniczny i pomocniczy"]
["Globusy, mapy"]
["Modele"]
["Plansze"]
["Drobne artykuły papiernicze"]

{"sheet":"wybrane produkty - podsumowanie","index":2,"n_rows":281,"n_cols":7,"rows_kept":281,"cut":false,"hidden":false,"merged":[[0,0,0,5],[1,0,1,5],[2,0,2,4]]}
["REKOMENDOWANE WYPOSAŻENIE PRACOWNI PRZYRODY"]
[{"$f":"'lista do wyboru'!A3:F3","v":"Dane placówki:\n"}]
["Wybrane produkty",null,null,null,null,"Wartość całkowita \nwybranych produktów:"]
["Kod","Nazwa","Ilość","Cena\nbrutto","Wartość\nbrutto",{"$f":"SUM(E5:E329)","v":0}]
[{"$f":"IF($G5=\"\",\"--\",INDEX('lista do wyboru'!$B$6:$F$160,$G5,1))","v":"--"},{"$f":"IF($G5=\"\",\"--\",INDEX('lista do wyboru'!$B$6:$F$160,$G5,2))","v":"--"},{"$f":"IF($G5=\"\",\"--\",INDEX('lista do wyboru'!$B$6:$F$160,$G5,4))","v":"--"},{"$f":"IF($G5=\"\",\"--\",INDEX('lista do wyboru'!$B$6:$F$160,$G5,5))","v":"--"},{"$f":"IF(C5 = \"--\",0,D5*C5)","v":0},null,{"$f":"IF(FALSE = ISERROR(MATCH(TRUE,OFFSET('lista do wyboru'!$G$6:$G$160,G4,0),0)),G4+MATCH(TRUE,OFFSET('lista do wyboru'!$G$6:$G$160,G4,0),0),\"\")","v":""}]
[{"$f":"IF($G6=\"\",\"--\",INDEX('lista do wyboru'!$B$6:$F$160,$G6,1))","v":"--"},{"$f":"IF($G6=\"\",\"--\",INDEX('lista do wyboru'!$B$6:$F$160,$G6,2))","v":"--"},{"$f":"IF($G6=\"\",\"--\",INDEX('lista do wyboru'!$B$6:$F$160,$G6,4))","v":"--"},{"$f":"IF($G6=\"\",\"--\",INDEX('lista do wyboru'!$B$6:$F$160,$G6,5))","v":"--"},{"$f":"IF(C6 = \"--\",0,D6*C6)","v":0},null,{"$f":"IF(FALSE = ISERROR(MATCH(TRUE,OFFSET('lista do wyboru'!$G$6:$G$160,G5,0),0)),G5+MATCH(TRUE,OFFSET('lista do wyboru'!$G$6:$G$160,G5,0),0),\"\")","v":""}]
[{"$f":"IF($G7=\"\",\"--\",INDEX('lista do wyboru'!$B$6:$F$160,$G7,1))","v":"--"},{"$f":"IF($G7=\"\",\"--\",INDEX('lista do wyboru'!$B$6:$F$160,$G7,2))","v":"--"},{"$f":"IF($G7=\"\",\"--\",INDEX('lista do wyboru'!$B$6:$F$160,$G7,4))","v":"--"},{"$f":"IF($G7=\"\",\"--\",INDEX('lista do wyboru'!$B$6:$F$160,$G7,5))","v":"--"},0,null,{"$f":"IF(FALSE = ISERROR(MATCH(TRUE,OFFSET('lista do wyboru'!$G$6:$G$160,G6,0),0)),G6+MATCH(TRUE,OFFSET('lista do wyboru'!$G$6:$G$160,G6,0),0),\"\")","v":""}]
[{"$f":"IF($G8=\"\",\"--\",INDEX('lista do wyboru'!$B$6:$F$160,$G8,1))","v":"--"},{"$f":"IF($G8=\"\",\"--\",INDEX('lista do wyboru'!$B$6:$F$160,$G8,2))","v":"--"},{"$f":"IF($G8=\"\",\"--\",INDEX('lista do wyboru'!$B$6:$F$160,$G8,4))","v":"--"},{"$f":"IF($G8=\"\",\"--\",INDEX('lista do wyboru'!$B$6:$F$160,$G8,5))","v":"--"},0,null,{"$f":"IF(FALSE = ISERROR(MATCH(TRUE,OFFSET('lista do wyboru'!$G$6:$G$160,G7,0),0)),G7+MATCH(TRUE,OFFSET('lista do wyboru'!$G$6:$G$160,G7,0),0),\"\")","v":""}]
[{"$f":"IF($G9=\"\",\"--\",INDEX('lista do wyboru'!$B$6:$F$160,$G9,1))","v":"--"},{"$f":"IF($G9=\"\",\"--\",INDEX('lista do wyboru'!$B$6:$F$160,$G9,2))","v":"--"},{"$f":"IF($G9=\"\",\"--\",INDEX('lista do wyboru'!$B$6:$F$160,$G9,4))","v":"--"},{"$f":"IF($G9=\"\",\"--\",INDEX('lista do wyboru'!$B$6:$F$160,$G9,5))","v":"--"},0,null,{"$f":"IF(FALSE = ISERROR(MATCH(TRUE,OFFSET('lista do wyboru'!$G$6:$G$160,G8,0),0)),G8+MATCH(TRUE,OFFSET('lista do wyboru'!$G$6:$G$160,G8,0),0),\"\")","v":""}]
[{"$f":"IF($G10=\"\",\"--\",INDEX('lista do wyboru'!$B$6:$F$160,$G10,1))","v":"--"},{"$f":"IF($G10=\"\",\"--\",INDEX('lista do wyboru'!$B$6:$F$160,$G10,2))","v":"--"},{"$f":"IF($G10=\"\",\"--\",INDEX('lista do wyboru'!$B$6:$F$160,$G10,4))","v":"--"},{"$f":"IF($G10=\"\",\"--\",INDEX('lista do wyboru'!$B$6:$F$160,$G10,5))","v":"--"},0,null,{"$f":"IF(FALSE = ISERROR(MATCH(TRUE,OFFSET('lista do wyboru'!$G$6:$G$160,G9,0),0)),G9+MATCH(TRUE,OFFSET('lista do wyboru'!$G$6:$G$160,G9,0),0),\"\")","v":""}]
[{"$f":"IF($G11=\"\",\"--\",INDEX('lista do wyboru'!$B$6:$F$160,$G11,1))","v":"--"},{"$f":"IF($G11=\"\",\"--\",INDEX('lista do wyboru'!$B$6:$F$160,$G11,2))","v":"--"},{"$f":"IF($G11=\"\",\"--\",INDEX('lista do wyboru'!$B$6:$F$160,$G11,4))","v":"--"},{"$f":"IF($G11=\"\",\"--\",INDEX('lista do wyboru'!$B$6:$F$160,$G11,5))","v":"--"},0,null,{"$f":"IF(FALSE = ISERROR(MATCH(TRUE,OFFSET('lista do wyboru'!$G$6:$G$160,G10,0),0)),G10+MATCH(TRUE,OFFSET('lista do wyboru'!$G$6:$G$160,G10,0),0),\"\")","v":""}]
[{"$f":"IF($G12=\"\",\"--\",INDEX('lista do wyboru'!$B$6:$F$160,$G12,1))","v":"--"},{"$f":"IF($G12=\"\",\"--\",INDEX('lista do wyboru'!$B$6:$F$160,$G12,2))","v":"--"},{"$f":"IF($G12=\"\",\"--\",INDEX('lista do wyboru'!$B$6:$F$160,$G12,4))","v":"--"},{"$f":"IF($G12=\"\",\"--\",INDEX('lista do wyboru'!$B$6:$F$160,$G12,5))","v":"--"},0,null,{"$f":"IF(FALSE = ISERROR(MATCH(TRUE,OFFSET('lista do wyboru'!$G$6:$G$160,G11,0),0)),G11+MATCH(TRUE,OFFSET('lista do wyboru'!$G$6:$G$160,G11,0),0),\"\")","v":""}]
[{"$f":"IF($G13=\"\",\"--\",INDEX('lista do wyboru'!$B$6:$F$160,$G13,1))","v":"--"},{"$f":"IF($G13=\"\",\"--\",INDEX('lista do wyboru'!$B$6:$F$160,$G13,2))","v":"--"},{"$f":"IF($G13=\"\",\"--\",INDEX('lista do wyboru'!$B$6:$F$160,$G13,4))","v":"--"},{"$f":"IF($G13=\"\",\"--\",INDEX('lista do wyboru'!$B$6:$F$160,$G13,5))","v":"--"},0,null,{"$f":"IF(FALSE = ISERROR(MATCH(TRUE,OFFSET('lista do wyboru'!$G$6:$G$160,G12,0),0)),G12+MATCH(TRUE,OFFSET('lista do wyboru'!$G$6:$G$160,G12,0),0),\"\")","v":""}]
[{"$f":"IF($G14=\"\",\"--\",INDEX('lista do wyboru'!$B$6:$F$160,$G14,1))","v":"--"},{"$f":"IF($G14=\"\",\"--\",INDEX('lista do wyboru'!$B$6:$F$160,$G14,2))","v":"--"},{"$f":"IF($G14=\"\",\"--\",INDEX('lista do wyboru'!$B$6:$F$160,$G14,4))","v":"--"},{"$f":"IF($G14=\"\",\"--\",INDEX('lista do wyboru'!$B$6:$F$160,$G14,5))","v":"--"},0,null,{"$f":"IF(FALSE = ISERROR(MATCH(TRUE,OFFSET('lista do wyboru'!$G$6:$G$160,G13,0),0)),G13+MATCH(TRUE,OFFSET('lista do wyboru'!$G$6:$G$160,G13,0),0),\"\")","v":""}]
[{"$f":"IF($G15=\"\",\"--\",INDEX('lista do wyboru'!$B$6:$F$160,$G15,1))","v":"--"},{"$f":"IF($G15=\"\",\"--\",INDEX('lista do wyboru'!$B$6:$F$160,$G15,2))","v":"--"},{"$f":"IF($G15=\"\",\"--\",INDEX('lista do wyboru'!$B$6:$F$160,$G15,4))","v":"--"},{"$f":"IF($G15=\"\",\"--\",INDEX('lista do wyboru'!$B$6:$F$160,$G15,5))","v":"--"},0,null,{"$f":"IF(FALSE = ISERROR(MATCH(TRUE,OFFSET('lista do wyboru'!$G$6:$G$160,G14,0),0)),G14+MATCH(TRUE,OFFSET('lista do wyboru'!$G$6:$G$160,G14,0),0),\"\")","v":""}]
[{"$f":"IF($G16=\"\",\"--\",INDEX('lista do wyboru'!$B$6:$F$160,$G16,1))","v":"--"},{"$f":"IF($G16=\"\",\"--\",INDEX('lista do wyboru'!$B$6:$F$160,$G16,2))","v":"--"},{"$f":"IF($G16=\"\",\"--\",INDEX('lista do wyboru'!$B$6:$F$160,$G16,4))","v":"--"},{"$f":"IF($G16=\"\",\"--\",INDEX('lista do wyboru'!$B$6:$F$160,$G16,5))","v":"--"},0,null,{"$f":"IF(FALSE = ISERROR(MATCH(TRUE,OFFSET('lista do wyboru'!$G$6:$G$160,G15,0),0)),G15+MATCH(TRUE,OFFSET('lista do wyboru'!$G$6:$G$160,G15,0),0),\"\")","v":""}]
[{"$f":"IF($G17=\"\",\"--\",INDEX('lista do wyboru'!$B$6:$F$160,$G17,1))","v":"--"},{"$f":"IF($G17=\"\",\"--\",INDEX('lista do wyboru'!$B$6:$F$160,$G17,2))","v":"--"},{"$f":"IF($G17=\"\",\"--\",INDEX('lista do wyboru'!$B$6:$F$160,$G17,4))","v":"--"},{"$f":"IF($G17=\"\",\"--\",INDEX('lista do wyboru'!$B$6:$F$160,$G17,5))","v":"--"},0,null,{"$f":"IF(FALSE = ISERROR(MATCH(TRUE,OFFSET('lista do wyboru'!$G$6:$G$160,G16,0),0)),G16+MATCH(TRUE,OFFSET('lista do wyboru'!$G$6:$G$160,G16,0),0),\"\")","v":""}]
[{"$f":"IF($G18=\"\",\"--\",INDEX('lista do wyboru'!$B$6:$F$160,$G18,1))","v":"--"},{"$f":"IF($G18=\"\",\"--\",INDEX('lista do wyboru'!$B$6:$F$160,$G18,2))","v":"--"},{"$f":"IF($G18=\"\",\"--\",INDEX('lista do wyboru'!$B$6:$F$160,$G18,4))","v":"--"},{"$f":"IF($G18=\"\",\"--\",INDEX('lista do wyboru'!$B$6:$F$160,$G18,5))","v":"--"},0,null,{"$f":"IF(FALSE = ISERROR(MATCH(TRUE,OFFSET('lista do wyboru'!$G$6:$G$160,G17,0),0)),G17+MATCH(TRUE,OFFSET('lista do wyboru'!$G$6:$G$160,G17,0),0),\"\")","v":""}]
[{"$f":"IF($G19=\"\",\"--\",INDEX('lista do wyboru'!$B$6:$F$160,$G19,1))","v":"--"},{"$f":"IF($G19=\"\",\"--\",INDEX('lista do wyboru'!$B$6:$F$160,$G19,2))","v":"--"},{"$f":"IF($G19=\"\",\"--\",INDEX('lista do wyboru'!$B$6:$F$160,$G19,4))","v":"--"},{"$f":"IF($G19=\"\",\"--\",INDEX('lista do wyboru'!$B$6:$F$160,$G19,5))","v":"--"},0,null,{"$f":"IF(FALSE = ISERROR(MATCH(TRUE,OFFSET('lista do wyboru'!$G$6:$G$160,G18,0),0)),G18+MATCH(TRUE,OFFSET('lista do wyboru'!$G$6:$G$160,G18,0),0),\"\")","v":""}]
[{"$f":"IF($G20=\"\",\"--\",INDEX('lista do wyboru'!$B$6:$F$160,$G20,1))","v":"--"},{"$f":"IF($G20=\"\",\"--\",INDEX('lista do wyboru'!$B$6:$F$160,$G20,2))","v":"--"},{"$f":"IF($G20=\"\",\"--\",INDEX('lista do wyboru'!$B$6:$F$160,$G20,4))","v":"--"},{"$f":"IF($G20=\"\",\"--\",INDEX('lista do wyboru'!$B$6:$F$160,$G20,5))","v":"--"},0,null,{"$f":"IF(FALSE = ISERROR(MATCH(TRUE,OFFSET('lista do wyboru'!$G$6:$G$160,G19,0),0)),G19+MATCH(TRUE,OFFSET('lista do wyboru'!$G$6:$G$160,G19,0),0),\"\")","v":""}]
[{"$f":"IF($G21=\"\",\"--\",INDEX('lista do wyboru'!$B$6:$F$160,$G21,1))","v":"--"},{"$f":"IF($G21=\"\",\"--\",INDEX('lista do wyboru'!$B$6:$F$160,$G21,2))","v":"--"},{"$f":"IF($G21=\"\",\"--\",INDEX('lista do wyboru'!$B$6:$F$160,$G21,4))","v":"--"},{"$f":"IF($G21=\"\",\"--\",INDEX('lista do wyboru'!$B$6:$F$160,$G21,5))","v":"--"},0,null,{"$f":"IF(FALSE = ISERROR(MATCH(TRUE,OFFSET('lista do wyboru'!$G$6:$G$160,G20,0),0)),G20+MATCH(TRUE,OFFSET('lista do wyboru'!$G$6:$G$160,G20,0),0),\"\")","v":""}]
[{"$f":"IF($G22=\"\",\"--\",INDEX('lista do wyboru'!$B$6:$F$160,$G22,1))","v":"--"},{"$f":"IF($G22=\"\",\"--\",INDEX('lista do wyboru'!$B$6:$F$160,$G22,2))","v":"--"},{"$f":"IF($G22=\"\",\"--\",INDEX('lista do wyboru'!$B$6:$F$160,$G22,4))","v":"--"},{"$f":"IF($G22=\"\",\"--\",INDEX('lista do wyboru'!$B$6:$F$160,$G22,5))","v":"--"},0,null,{"$f":"IF(FALSE = ISERROR(MATCH(TRUE,OFFSET('lista do wyboru'!$G$6:$G$160,G21,0),0)),G21+MATCH(TRUE,OFFSET('lista do wyboru'!$G$6:$G$160,G21,0),0),\"\")","v":""}]
[{"$f":"IF($G23=\"\",\"--\",INDEX('lista do wyboru'!$B$6:$F$160,$G23,1))","v":"--"},{"$f":"IF($G23=\"\",\"--\",INDEX('lista do wyboru'!$B$6:$F$160,$G23,2))","v":"--"},{"$f":"IF($G23=\"\",\"--\",INDEX('lista do wyboru'!$B$6:$F$160,$G23,4))","v":"--"},{"$f":"IF($G23=\"\",\"--\",INDEX('lista do wyboru'!$B$6:$F$160,$G23,5))","v":"--"},0,null,{"$f":"IF(FALSE = ISERROR(MATCH(TRUE,OFFSET('lista do wyboru'!$G$6:$G$160,G22,0),0)),G22+MATCH(TRUE,OFFSET('lista do wyboru'!$G$6:$G$160,G22,0),0),\"\")","v":""}]
[{"$f":"IF($G24=\"\",\"--\",INDEX('lista do wyboru'!$B$6:$F$160,$G24,1))","v":"--"},{"$f":"IF($G24=\"\",\"--\",INDEX('lista do wyboru'!$B$6:$F$160,$G24,2))","v":"--"},{"$f":"IF($G24=\"\",\"--\",INDEX('lista do wyboru'!$B$6:$F$160,$G24,4))","v":"--"},{"$f":"IF($G24=\"\",\"--\",INDEX('lista do wyboru'!$B$6:$F$160,$G24,5))","v":"--"},0,null,{"$f":"IF(FALSE = ISERROR(MATCH(TRUE,OFFSET('lista do wyboru'!$G$6:$G$160,G23,0),0)),G23+MATCH(TRUE,OFFSET('lista do wyboru'!$G$6:$G$160,G23,0),0),\"\")","v":""}]
[{"$f":"IF($G25=\"\",\"--\",INDEX('lista do wyboru'!$B$6:$F$160,$G25,1))","v":"--"},{"$f":"IF($G25=\"\",\"--\",INDEX('lista do wyboru'!$B$6:$F$160,$G25,2))","v":"--"},{"$f":"IF($G25=\"\",\"--\",INDEX('lista do wyboru'!$B$6:$F$160,$G25,4))","v":"--"},{"$f":"IF($G25=\"\",\"--\",INDEX('lista do wyboru'!$B$6:$F$160,$G25,5))","v":"--"},0,null,{"$f":"IF(FALSE = ISERROR(MATCH(TRUE,OFFSET('lista do wyboru'!$G$6:$G$160,G24,0),0)),G24+MATCH(TRUE,OFFSET('lista do wyboru'!$G$6:$G$160,G24,0),0),\"\")","v":""}]
[{"$f":"IF($G26=\"\",\"--\",INDEX('lista do wyboru'!$B$6:$F$160,$G26,1))","v":"--"},{"$f":"IF($G26=\"\",\"--\",INDEX('lista do wyboru'!$B$6:$F$160,$G26,2))","v":"--"},{"$f":"IF($G26=\"\",\"--\",INDEX('lista do wyboru'!$B$6:$F$160,$G26,4))","v":"--"},{"$f":"IF($G26=\"\",\"--\",INDEX('lista do wyboru'!$B$6:$F$160,$G26,5))","v":"--"},0,null,{"$f":"IF(FALSE = ISERROR(MATCH(TRUE,OFFSET('lista do wyboru'!$G$6:$G$160,G25,0),0)),G25+MATCH(TRUE,OFFSET('lista do wyboru'!$G$6:$G$160,G25,0),0),\"\")","v":""}]
[{"$f":"IF($G27=\"\",\"--\",INDEX('lista do wyboru'!$B$6:$F$160,$G27,1))","v":"--"},{"$f":"IF($G27=\"\",\"--\",INDEX('lista do wyboru'!$B$6:$F$160,$G27,2))","v":"--"},{"$f":"IF($G27=\"\",\"--\",INDEX('lista do wyboru'!$B$6:$F$160,$G27,4))","v":"--"},{"$f":"IF($G27=\"\",\"--\",INDEX('lista do wyboru'!$B$6:$F$160,$G27,5))","v":"--"},0,null,{"$f":"IF(FALSE = ISERROR(MATCH(TRUE,OFFSET('lista do wyboru'!$G$6:$G$160,G26,0),0)),G26+MATCH(TRUE,OFFSET('lista do wyboru'!$G$6:$G$160,G26,0),0),\"\")","v":""}]
[{"$f":"IF($G28=\"\",\"--\",INDEX('lista do wyboru'!$B$6:$F$160,$G28,1))","v":"--"},{"$f":"IF($G28=\"\",\"--\",INDEX('lista do wyboru'!$B$6:$F$160,$G28,2))","v":"--"},{"$f":"IF($G28=\"\",\"--\",INDEX('lista do wyboru'!$B$6:$F$160,$G28,4))","v":"--"},{"$f":"IF($G28=\"\",\"--\",INDEX('lista do wyboru'!$B$6:$F$160,$G28,5))","v":"--"},0,null,{"$f":"IF(FALSE = ISERROR(MATCH(TRUE,OFFSET('lista do wyboru'!$G$6:$G$160,G27,0),0)),G27+MATCH(TRUE,OFFSET('lista do wyboru'!$G$6:$G$160,G27,0),0),\"\")","v":""}]
[{"$f":"IF($G29=\"\",\"--\",INDEX('lista do wyboru'!$B$6:$F$160,$G29,1))","v":"--"},{"$f":"IF($G29=\"\",\"--\",INDEX('lista do wyboru'!$B$6:$F$160,$G29,2))","v":"--"},{"$f":"IF($G29=\"\",\"--\",INDEX('lista do wyboru'!$B$6:$F$160,$G29,4))","v":"--"},{"$f":"IF($G29=\"\",\"--\",INDEX('lista do wyboru'!$B$6:$F$160,$G29,5))","v":"--"},0,null,{"$f":"IF(FALSE = ISERROR(MATCH(TRUE,OFFSET('lista do wyboru'!$G$6:$G$160,G28,0),0)),G28+MATCH(TRUE,OFFSET('lista do wyboru'!$G$6:$G$160,G28,0),0),\"\")","v":""}]
[{"$f":"IF($G30=\"\",\"--\",INDEX('lista do wyboru'!$B$6:$F$160,$G30,1))","v":"--"},{"$f":"IF($G30=\"\",\"--\",INDEX('lista do wyboru'!$B$6:$F$160,$G30,2))","v":"--"},{"$f":"IF($G30=\"\",\"--\",INDEX('lista do wyboru'!$B$6:$F$160,$G30,4))","v":"--"},{"$f":"IF($G30=\"\",\"--\",INDEX('lista do wyboru'!$B$6:$F$160,$G30,5))","v":"--"},0,null,{"$f":"IF(FALSE = ISERROR(MATCH(TRUE,OFFSET('lista do wyboru'!$G$6:$G$160,G29,0),0)),G29+MATCH(TRUE,OFFSET('lista do wyboru'!$G$6:$G$160,G29,0),0),\"\")","v":""}]
[{"$f":"IF($G31=\"\",\"--\",INDEX('lista do wyboru'!$B$6:$F$160,$G31,1))","v":"--"},{"$f":"IF($G31=\"\",\"--\",INDEX('lista do wyboru'!$B$6:$F$160,$G31,2))","v":"--"},{"$f":"IF($G31=\"\",\"--\",INDEX('lista do wyboru'!$B$6:$F$160,$G31,4))","v":"--"},{"$f":"IF($G31=\"\",\"--\",INDEX('lista do wyboru'!$B$6:$F$160,$G31,5))","v":"--"},0,null,{"$f":"IF(FALSE = ISERROR(MATCH(TRUE,OFFSET('lista do wyboru'!$G$6:$G$160,G30,0),0)),G30+MATCH(TRUE,OFFSET('lista do wyboru'!$G$6:$G$160,G30,0),0),\"\")","v":""}]
[{"$f":"IF($G32=\"\",\"--\",INDEX('lista do wyboru'!$B$6:$F$160,$G32,1))","v":"--"},{"$f":"IF($G32=\"\",\"--\",INDEX('lista do wyboru'!$B$6:$F$160,$G32,2))","v":"--"},{"$f":"IF($G32=\"\",\"--\",INDEX('lista do wyboru'!$B$6:$F$160,$G32,4))","v":"--"},{"$f":"IF($G32=\"\",\"--\",INDEX('lista do wyboru'!$B$6:$F$160,$G32,5))","v":"--"},0,null,{"$f":"IF(FALSE = ISERROR(MATCH(TRUE,OFFSET('lista do wyboru'!$G$6:$G$160,G31,0),0)),G31+MATCH(TRUE,OFFSET('lista do wyboru'!$G$6:$G$160,G31,0),0),\"\")","v":""}]
[{"$f":"IF($G33=\"\",\"--\",INDEX('lista do wyboru'!$B$6:$F$160,$G33,1))","v":"--"},{"$f":"IF($G33=\"\",\"--\",INDEX('lista do wyboru'!$B$6:$F$160,$G33,2))","v":"--"},{"$f":"IF($G33=\"\",\"--\",INDEX('lista do wyboru'!$B$6:$F$160,$G33,4))","v":"--"},{"$f":"IF($G33=\"\",\"--\",INDEX('lista do wyboru'!$B$6:$F$160,$G33,5))","v":"--"},0,null,{"$f":"IF(FALSE = ISERROR(MATCH(TRUE,OFFSET('lista do wyboru'!$G$6:$G$160,G32,0),0)),G32+MATCH(TRUE,OFFSET('lista do wyboru'!$G$6:$G$160,G32,0),0),\"\")","v":""}]
[{"$f":"IF($G34=\"\",\"--\",INDEX('lista do wyboru'!$B$6:$F$160,$G34,1))","v":"--"},{"$f":"IF($G34=\"\",\"--\",INDEX('lista do wyboru'!$B$6:$F$160,$G34,2))","v":"--"},{"$f":"IF($G34=\"\",\"--\",INDEX('lista do wyboru'!$B$6:$F$160,$G34,4))","v":"--"},{"$f":"IF($G34=\"\",\"--\",INDEX('lista do wyboru'!$B$6:$F$160,$G34,5))","v":"--"},0,null,{"$f":"IF(FALSE = ISERROR(MATCH(TRUE,OFFSET('lista do wyboru'!$G$6:$G$160,G33,0),0)),G33+MATCH(TRUE,OFFSET('lista do wyboru'!$G$6:$G$160,G33,0),0),\"\")","v":""}]
[{"$f":"IF($G35=\"\",\"--\",INDEX('lista do wyboru'!$B$6:$F$160,$G35,1))","v":"--"},{"$f":"IF($G35=\"\",\"--\",INDEX('lista do wyboru'!$B$6:$F$160,$G35,2))","v":"--"},{"$f":"IF($G35=\"\",\"--\",INDEX('lista do wyboru'!$B$6:$F$160,$G35,4))","v":"--"},{"$f":"IF($G35=\"\",\"--\",INDEX('lista do wyboru'!$B$6:$F$160,$G35,5))","v":"--"},0,null,{"$f":"IF(FALSE = ISERROR(MATCH(TRUE,OFFSET('lista do wyboru'!$G$6:$G$160,G34,0),0)),G34+MATCH(TRUE,OFFSET('lista do wyboru'!$G$6:$G$160,G34,0),0),\"\")","v":""}]
[{"$f":"IF($G36=\"\",\"--\",INDEX('lista do wyboru'!$B$6:$F$160,$G36,1))","v":"--"},{"$f":"IF($G36=\"\",\"--\",INDEX('lista do wyboru'!$B$6:$F$160,$G36,2))","v":"--"},{"$f":"IF($G36=\"\",\"--\",INDEX('lista do wyboru'!$B$6:$F$160,$G36,4))","v":"--"},{"$f":"IF($G36=\"\",\"--\",INDEX('lista do wyboru'!$B$6:$F$160,$G36,5))","v":"--"},0,null,{"$f":"IF(FALSE = ISERROR(MATCH(TRUE,OFFSET('lista do wyboru'!$G$6:$G$160,G35,0),0)),G35+MATCH(TRUE,OFFSET('lista do wyboru'!$G$6:$G$160,G35,0),0),\"\")","v":""}]
[{"$f":"IF($G37=\"\",\"--\",INDEX('lista do wyboru'!$B$6:$F$160,$G37,1))","v":"--"},{"$f":"IF($G37=\"\",\"--\",INDEX('lista do wyboru'!$B$6:$F$160,$G37,2))","v":"--"},{"$f":"IF($G37=\"\",\"--\",INDEX('lista do wyboru'!$B$6:$F$160,$G37,4))","v":"--"},{"$f":"IF($G37=\"\",\"--\",INDEX('lista do wyboru'!$B$6:$F$160,$G37,5))","v":"--"},0,null,{"$f":"IF(FALSE = ISERROR(MATCH(TRUE,OFFSET('lista do wyboru'!$G$6:$G$160,G36,0),0)),G36+MATCH(TRUE,OFFSET('lista do wyboru'!$G$6:$G$160,G36,0),0),\"\")","v":""}]
[{"$f":"IF($G38=\"\",\"--\",INDEX('lista do wyboru'!$B$6:$F$160,$G38,1))","v":"--"},{"$f":"IF($G38=\"\",\"--\",INDEX('lista do wyboru'!$B$6:$F$160,$G38,2))","v":"--"},{"$f":"IF($G38=\"\",\"--\",INDEX('lista do wyboru'!$B$6:$F$160,$G38,4))","v":"--"},{"$f":"IF($G38=\"\",\"--\",INDEX('lista do wyboru'!$B$6:$F$160,$G38,5))","v":"--"},0,null,{"$f":"IF(FALSE = ISERROR(MATCH(TRUE,OFFSET('lista do wyboru'!$G$6:$G$160,G37,0),0)),G37+MATCH(TRUE,OFFSET('lista do wyboru'!$G$6:$G$160,G37,0),0),\"\")","v":""}]
[{"$f":"IF($G39=\"\",\"--\",INDEX('lista do wyboru'!$B$6:$F$160,$G39,1))","v":"--"},{"$f":"IF($G39=\"\",\"--\",INDEX('lista do wyboru'!$B$6:$F$160,$G39,2))","v":"--"},{"$f":"IF($G39=\"\",\"--\",INDEX('lista do wyboru'!$B$6:$F$160,$G39,4))","v":"--"},{"$f":"IF($G39=\"\",\"--\",INDEX('lista do wyboru'!$B$6:$F$160,$G39,5))","v":"--"},0,null,{"$f":"IF(FALSE = ISERROR(MATCH(TRUE,OFFSET('lista do wyboru'!$G$6:$G$160,G38,0),0)),G38+MATCH(TRUE,OFFSET('lista do wyboru'!$G$6:$G$160,G38,0),0),\"\")","v":""}]
[{"$f":"IF($G40=\"\",\"--\",INDEX('lista do wyboru'!$B$6:$F$160,$G40,1))","v":"--"},{"$f":"IF($G40=\"\",\"--\",INDEX('lista do wyboru'!$B$6:$F$160,$G40,2))","v":"--"},{"$f":"IF($G40=\"\",\"--\",INDEX('lista do wyboru'!$B$6:$F$160,$G40,4))","v":"--"},{"$f":"IF($G40=\"\",\"--\",INDEX('lista do wyboru'!$B$6:$F$160,$G40,5))","v":"--"},0,null,{"$f":"IF(FALSE = ISERROR(MATCH(TRUE,OFFSET('lista do wyboru'!$G$6:$G$160,G39,0),0)),G39+MATCH(TRUE,OFFSET('lista do wyboru'!$G$6:$G$160,G39,0),0),\"\")","v":""}]
[{"$f":"IF($G41=\"\",\"--\",INDEX('lista do wyboru'!$B$6:$F$160,$G41,1))","v":"--"},{"$f":"IF($G41=\"\",\"--\",INDEX('lista do wyboru'!$B$6:$F$160,$G41,2))","v":"--"},{"$f":"IF($G41=\"\",\"--\",INDEX('lista do wyboru'!$B$6:$F$160,$G41,4))","v":"--"},{"$f":"IF($G41=\"\",\"--\",INDEX('lista do wyboru'!$B$6:$F$160,$G41,5))","v":"--"},0,null,{"$f":"IF(FALSE = ISERROR(MATCH(TRUE,OFFSET('lista do wyboru'!$G$6:$G$160,G40,0),0)),G40+MATCH(TRUE,OFFSET('lista do wyboru'!$G$6:$G$160,G40,0),0),\"\")","v":""}]
[{"$f":"IF($G42=\"\",\"--\",INDEX('lista do wyboru'!$B$6:$F$160,$G42,1))","v":"--"},{"$f":"IF($G42=\"\",\"--\",INDEX('lista do wyboru'!$B$6:$F$160,$G42,2))","v":"--"},{"$f":"IF($G42=\"\",\"--\",INDEX('lista do wyboru'!$B$6:$F$160,$G42,4))","v":"--"},{"$f":"IF($G42=\"\",\"--\",INDEX('lista do wyboru'!$B$6:$F$160,$G42,5))","v":"--"},0,null,{"$f":"IF(FALSE = ISERROR(MATCH(TRUE,OFFSET('lista do wyboru'!$G$6:$G$160,G41,0),0)),G41+MATCH(TRUE,OFFSET('lista do wyboru'!$G$6:$G$160,G41,0),0),\"\")","v":""}]
[{"$f":"IF($G43=\"\",\"--\",INDEX('lista do wyboru'!$B$6:$F$160,$G43,1))","v":"--"},{"$f":"IF($G43=\"\",\"--\",INDEX('lista do wyboru'!$B$6:$F$160,$G43,2))","v":"--"},{"$f":"IF($G43=\"\",\"--\",INDEX('lista do wyboru'!$B$6:$F$160,$G43,4))","v":"--"},{"$f":"IF($G43=\"\",\"--\",INDEX('lista do wyboru'!$B$6:$F$160,$G43,5))","v":"--"},0,null,{"$f":"IF(FALSE = ISERROR(MATCH(TRUE,OFFSET('lista do wyboru'!$G$6:$G$160,G42,0),0)),G42+MATCH(TRUE,OFFSET('lista do wyboru'!$G$6:$G$160,G42,0),0),\"\")","v":""}]
[{"$f":"IF($G44=\"\",\"--\",INDEX('lista do wyboru'!$B$6:$F$160,$G44,1))","v":"--"},{"$f":"IF($G44=\"\",\"--\",INDEX('lista do wyboru'!$B$6:$F$160,$G44,2))","v":"--"},{"$f":"IF($G44=\"\",\"--\",INDEX('lista do wyboru'!$B$6:$F$160,$G44,4))","v":"--"},{"$f":"IF($G44=\"\",\"--\",INDEX('lista do wyboru'!$B$6:$F$160,$G44,5))","v":"--"},0,null,{"$f":"IF(FALSE = ISERROR(MATCH(TRUE,OFFSET('lista do wyboru'!$G$6:$G$160,G43,0),0)),G43+MATCH(TRUE,OFFSET('lista do wyboru'!$G$6:$G$160,G43,0),0),\"\")","v":""}]
[{"$f":"IF($G45=\"\",\"--\",INDEX('lista do wyboru'!$B$6:$F$160,$G45,1))","v":"--"},{"$f":"IF($G45=\"\",\"--\",INDEX('lista do wyboru'!$B$6:$F$160,$G45,2))","v":"--"},{"$f":"IF($G45=\"\",\"--\",INDEX('lista do wyboru'!$B$6:$F$160,$G45,4))","v":"--"},{"$f":"IF($G45=\"\",\"--\",INDEX('lista do wyboru'!$B$6:$F$160,$G45,5))","v":"--"},0,null,{"$f":"IF(FALSE = ISERROR(MATCH(TRUE,OFFSET('lista do wyboru'!$G$6:$G$160,G44,0),0)),G44+MATCH(TRUE,OFFSET('lista do wyboru'!$G$6:$G$160,G44,0),0),\"\")","v":""}]
[{"$f":"IF($G46=\"\",\"--\",INDEX('lista do wyboru'!$B$6:$F$160,$G46,1))","v":"--"},{"$f":"IF($G46=\"\",\"--\",INDEX('lista do wyboru'!$B$6:$F$160,$G46,2))","v":"--"},{"$f":"IF($G46=\"\",\"--\",INDEX('lista do wyboru'!$B$6:$F$160,$G46,4))","v":"--"},{"$f":"IF($G46=\"\",\"--\",INDEX('lista do wyboru'!$B$6:$F$160,$G46,5))","v":"--"},0,null,{"$f":"IF(FALSE = ISERROR(MATCH(TRUE,OFFSET('lista do wyboru'!$G$6:$G$160,G45,0),0)),G45+MATCH(TRUE,OFFSET('lista do wyboru'!$G$6:$G$160,G45,0),0),\"\")","v":""}]
[{"$f":"IF($G47=\"\",\"--\",INDEX('lista do wyboru'!$B$6:$F$160,$G47,1))","v":"--"},{"$f":"IF($G47=\"\",\"--\",INDEX('lista do wyboru'!$B$6:$F$160,$G47,2))","v":"--"},{"$f":"IF($G47=\"\",\"--\",INDEX('lista do wyboru'!$B$6:$F$160,$G47,4))","v":"--"},{"$f":"IF($G47=\"\",\"--\",INDEX('lista do wyboru'!$B$6:$F$160,$G47,5))","v":"--"},0,null,{"$f":"IF(FALSE = ISERROR(MATCH(TRUE,OFFSET('lista do wyboru'!$G$6:$G$160,G46,0),0)),G46+MATCH(TRUE,OFFSET('lista do wyboru'!$G$6:$G$160,G46,0),0),\"\")","v":""}]
[{"$f":"IF($G48=\"\",\"--\",INDEX('lista do wyboru'!$B$6:$F$160,$G48,1))","v":"--"},{"$f":"IF($G48=\"\",\"--\",INDEX('lista do wyboru'!$B$6:$F$160,$G48,2))","v":"--"},{"$f":"IF($G48=\"\",\"--\",INDEX('lista do wyboru'!$B$6:$F$160,$G48,4))","v":"--"},{"$f":"IF($G48=\"\",\"--\",INDEX('lista do wyboru'!$B$6:$F$160,$G48,5))","v":"--"},0,null,{"$f":"IF(FALSE = ISERROR(MATCH(TRUE,OFFSET('lista do wyboru'!$G$6:$G$160,G47,0),0)),G47+MATCH(TRUE,OFFSET('lista do wyboru'!$G$6:$G$160,G47,0),0),\"\")","v":""}]
[{"$f":"IF($G49=\"\",\"--\",INDEX('lista do wyboru'!$B$6:$F$160,$G49,1))","v":"--"},{"$f":"IF($G49=\"\",\"--\",INDEX('lista do wyboru'!$B$6:$F$160,$G49,2))","v":"--"},{"$f":"IF($G49=\"\",\"--\",INDEX('lista do wyboru'!$B$6:$F$160,$G49,4))","v":"--"},{"$f":"IF($G49=\"\",\"--\",INDEX('lista do wyboru'!$B$6:$F$160,$G49,5))","v":"--"},0,null,{"$f":"IF(FALSE = ISERROR(MATCH(TRUE,OFFSET('lista do wyboru'!$G$6:$G$160,G48,0),0)),G48+MATCH(TRUE,OFFSET('lista do wyboru'!$G$6:$G$160,G48,0),0),\"\")","v":""}]
[{"$f":"IF($G50=\"\",\"--\",INDEX('lista do wyboru'!$B$6:$F$160,$G50,1))","v":"--"},{"$f":"IF($G50=\"\",\"--\",INDEX('lista do wyboru'!$B$6:$F$160,$G50,2))","v":"--"},{"$f":"IF($G50=\"\",\"--\",INDEX('lista do wyboru'!$B$6:$F$160,$G50,4))","v":"--"},{"$f":"IF($G50=\"\",\"--\",INDEX('lista do wyboru'!$B$6:$F$160,$G50,5))","v":"--"},0,null,{"$f":"IF(FALSE = ISERROR(MATCH(TRUE,OFFSET('lista do wyboru'!$G$6:$G$160,G49,0),0)),G49+MATCH(TRUE,OFFSET('lista do wyboru'!$G$6:$G$160,G49,0),0),\"\")","v":""}]
[{"$f":"IF($G51=\"\",\"--\",INDEX('lista do wyboru'!$B$6:$F$160,$G51,1))","v":"--"},{"$f":"IF($G51=\"\",\"--\",INDEX('lista do wyboru'!$B$6:$F$160,$G51,2))","v":"--"},{"$f":"IF($G51=\"\",\"--\",INDEX('lista do wyboru'!$B$6:$F$160,$G51,4))","v":"--"},{"$f":"IF($G51=\"\",\"--\",INDEX('lista do wyboru'!$B$6:$F$160,$G51,5))","v":"--"},0,null,{"$f":"IF(FALSE = ISERROR(MATCH(TRUE,OFFSET('lista do wyboru'!$G$6:$G$160,G50,0),0)),G50+MATCH(TRUE,OFFSET('lista do wyboru'!$G$6:$G$160,G50,0),0),\"\")","v":""}]
[{"$f":"IF($G52=\"\",\"--\",INDEX('lista do wyboru'!$B$6:$F$160,$G52,1))","v":"--"},{"$f":"IF($G52=\"\",\"--\",INDEX('lista do wyboru'!$B$6:$F$160,$G52,2))","v":"--"},{"$f":"IF($G52=\"\",\"--\",INDEX('lista do wyboru'!$B$6:$F$160,$G52,4))","v":"--"},{"$f":"IF($G52=\"\",\"--\",INDEX('lista do wyboru'!$B$6:$F$160,$G52,5))","v":"--"},0,null,{"$f":"IF(FALSE = ISERROR(MATCH(TRUE,OFFSET('lista do wyboru'!$G$6:$G$160,G51,0),0)),G51+MATCH(TRUE,OFFSET('lista do wyboru'!$G$6:$G$160,G51,0),0),\"\")","v":""}]
[{"$f":"IF($G53=\"\",\"--\",INDEX('lista do wyboru'!$B$6:$F$160,$G53,1))","v":"--"},{"$f":"IF($G53=\"\",\"--\",INDEX('lista do wyboru'!$B$6:$F$160,$G53,2))","v":"--"},{"$f":"IF($G53=\"\",\"--\",INDEX('lista do wyboru'!$B$6:$F$160,$G53,4))","v":"--"},{"$f":"IF($G53=\"\",\"--\",INDEX('lista do wyboru'!$B$6:$F$160,$G53,5))","v":"--"},0,null,{"$f":"IF(FALSE = ISERROR(MATCH(TRUE,OFFSET('lista do wyboru'!$G$6:$G$160,G52,0),0)),G52+MATCH(TRUE,OFFSET('lista do wyboru'!$G$6:$G$160,G52,0),0),\"\")","v":""}]
[{"$f":"IF($G54=\"\",\"--\",INDEX('lista do wyboru'!$B$6:$F$160,$G54,1))","v":"--"},{"$f":"IF($G54=\"\",\"--\",INDEX('lista do wyboru'!$B$6:$F$160,$G54,2))","v":"--"},{"$f":"IF($G54=\"\",\"--\",INDEX('lista do wyboru'!$B$6:$F$160,$G54,4))","v":"--"},{"$f":"IF($G54=\"\",\"--\",INDEX('lista do wyboru'!$B$6:$F$160,$G54,5))","v":"--"},0,null,{"$f":"IF(FALSE = ISERROR(MATCH(TRUE,OFFSET('lista do wyboru'!$G$6:$G$160,G53,0),0)),G53+MATCH(TRUE,OFFSET('lista do wyboru'!$G$6:$G$160,G53,0),0),\"\")","v":""}]
[{"$f":"IF($G55=\"\",\"--\",INDEX('lista do wyboru'!$B$6:$F$160,$G55,1))","v":"--"},{"$f":"IF($G55=\"\",\"--\",INDEX('lista do wyboru'!$B$6:$F$160,$G55,2))","v":"--"},{"$f":"IF($G55=\"\",\"--\",INDEX('lista do wyboru'!$B$6:$F$160,$G55,4))","v":"--"},{"$f":"IF($G55=\"\",\"--\",INDEX('lista do wyboru'!$B$6:$F$160,$G55,5))","v":"--"},0,null,{"$f":"IF(FALSE = ISERROR(MATCH(TRUE,OFFSET('lista do wyboru'!$G$6:$G$160,G54,0),0)),G54+MATCH(TRUE,OFFSET('lista do wyboru'!$G$6:$G$160,G54,0),0),\"\")","v":""}]
[{"$f":"IF($G56=\"\",\"--\",INDEX('lista do wyboru'!$B$6:$F$160,$G56,1))","v":"--"},{"$f":"IF($G56=\"\",\"--\",INDEX('lista do wyboru'!$B$6:$F$160,$G56,2))","v":"--"},{"$f":"IF($G56=\"\",\"--\",INDEX('lista do wyboru'!$B$6:$F$160,$G56,4))","v":"--"},{"$f":"IF($G56=\"\",\"--\",INDEX('lista do wyboru'!$B$6:$F$160,$G56,5))","v":"--"},0,null,{"$f":"IF(FALSE = ISERROR(MATCH(TRUE,OFFSET('lista do wyboru'!$G$6:$G$160,G55,0),0)),G55+MATCH(TRUE,OFFSET('lista do wyboru'!$G$6:$G$160,G55,0),0),\"\")","v":""}]
[{"$f":"IF($G57=\"\",\"--\",INDEX('lista do wyboru'!$B$6:$F$160,$G57,1))","v":"--"},{"$f":"IF($G57=\"\",\"--\",INDEX('lista do wyboru'!$B$6:$F$160,$G57,2))","v":"--"},{"$f":"IF($G57=\"\",\"--\",INDEX('lista do wyboru'!$B$6:$F$160,$G57,4))","v":"--"},{"$f":"IF($G57=\"\",\"--\",INDEX('lista do wyboru'!$B$6:$F$160,$G57,5))","v":"--"},0,null,{"$f":"IF(FALSE = ISERROR(MATCH(TRUE,OFFSET('lista do wyboru'!$G$6:$G$160,G56,0),0)),G56+MATCH(TRUE,OFFSET('lista do wyboru'!$G$6:$G$160,G56,0),0),\"\")","v":""}]
[{"$f":"IF($G58=\"\",\"--\",INDEX('lista do wyboru'!$B$6:$F$160,$G58,1))","v":"--"},{"$f":"IF($G58=\"\",\"--\",INDEX('lista do wyboru'!$B$6:$F$160,$G58,2))","v":"--"},{"$f":"IF($G58=\"\",\"--\",INDEX('lista do wyboru'!$B$6:$F$160,$G58,4))","v":"--"},{"$f":"IF($G58=\"\",\"--\",INDEX('lista do wyboru'!$B$6:$F$160,$G58,5))","v":"--"},0,null,{"$f":"IF(FALSE = ISERROR(MATCH(TRUE,OFFSET('lista do wyboru'!$G$6:$G$160,G57,0),0)),G57+MATCH(TRUE,OFFSET('lista do wyboru'!$G$6:$G$160,G57,0),0),\"\")","v":""}]
[{"$f":"IF($G59=\"\",\"--\",INDEX('lista do wyboru'!$B$6:$F$160,$G59,1))","v":"--"},{"$f":"IF($G59=\"\",\"--\",INDEX('lista do wyboru'!$B$6:$F$160,$G59,2))","v":"--"},{"$f":"IF($G59=\"\",\"--\",INDEX('lista do wyboru'!$B$6:$F$160,$G59,4))","v":"--"},{"$f":"IF($G59=\"\",\"--\",INDEX('lista do wyboru'!$B$6:$F$160,$G59,5))","v":"--"},0,null,{"$f":"IF(FALSE = ISERROR(MATCH(TRUE,OFFSET('lista do wyboru'!$G$6:$G$160,G58,0),0)),G58+MATCH(TRUE,OFFSET('lista do wyboru'!$G$6:$G$160,G58,0),0),\"\")","v":""}]
[{"$f":"IF($G60=\"\",\"--\",INDEX('lista do wyboru'!$B$6:$F$160,$G60,1))","v":"--"},{"$f":"IF($G60=\"\",\"--\",INDEX('lista do wyboru'!$B$6:$F$160,$G60,2))","v":"--"},{"$f":"IF($G60=\"\",\"--\",INDEX('lista do wyboru'!$B$6:$F$160,$G60,4))","v":"--"},{"$f":"IF($G60=\"\",\"--\",INDEX('lista do wyboru'!$B$6:$F$160,$G60,5))","v":"--"},0,null,{"$f":"IF(FALSE = ISERROR(MATCH(TRUE,OFFSET('lista do wyboru'!$G$6:$G$160,G59,0),0)),G59+MATCH(TRUE,OFFSET('lista do wyboru'!$G$6:$G$160,G59,0),0),\"\")","v":""}]
[{"$f":"IF($G61=\"\",\"--\",INDEX('lista do wyboru'!$B$6:$F$160,$G61,1))","v":"--"},{"$f":"IF($G61=\"\",\"--\",INDEX('lista do wyboru'!$B$6:$F$160,$G61,2))","v":"--"},{"$f":"IF($G61=\"\",\"--\",INDEX('lista do wyboru'!$B$6:$F$160,$G61,4))","v":"--"},{"$f":"IF($G61=\"\",\"--\",INDEX('lista do wyboru'!$B$6:$F$160,$G61,5))","v":"--"},0,null,{"$f":"IF(FALSE = ISERROR(MATCH(TRUE,OFFSET('lista do wyboru'!$G$6:$G$160,G60,0),0)),G60+MATCH(TRUE,OFFSET('lista do wyboru'!$G$6:$G$160,G60,0),0),\"\")","v":""}]
[{"$f":"IF($G62=\"\",\"--\",INDEX('lista do wyboru'!$B$6:$F$160,$G62,1))","v":"--"},{"$f":"IF($G62=\"\",\"--\",INDEX('lista do wyboru'!$B$6:$F$160,$G62,2))","v":"--"},{"$f":"IF($G62=\"\",\"--\",INDEX('lista do wyboru'!$B$6:$F$160,$G62,4))","v":"--"},{"$f":"IF($G62=\"\",\"--\",INDEX('lista do wyboru'!$B$6:$F$160,$G62,5))","v":"--"},0,null,{"$f":"IF(FALSE = ISERROR(MATCH(TRUE,OFFSET('lista do wyboru'!$G$6:$G$160,G61,0),0)),G61+MATCH(TRUE,OFFSET('lista do wyboru'!$G$6:$G$160,G61,0),0),\"\")","v":""}]
[{"$f":"IF($G63=\"\",\"--\",INDEX('lista do wyboru'!$B$6:$F$160,$G63,1))","v":"--"},{"$f":"IF($G63=\"\",\"--\",INDEX('lista do wyboru'!$B$6:$F$160,$G63,2))","v":"--"},{"$f":"IF($G63=\"\",\"--\",INDEX('lista do wyboru'!$B$6:$F$160,$G63,4))","v":"--"},{"$f":"IF($G63=\"\",\"--\",INDEX('lista do wyboru'!$B$6:$F$160,$G63,5))","v":"--"},0,null,{"$f":"IF(FALSE = ISERROR(MATCH(TRUE,OFFSET('lista do wyboru'!$G$6:$G$160,G62,0),0)),G62+MATCH(TRUE,OFFSET('lista do wyboru'!$G$6:$G$160,G62,0),0),\"\")","v":""}]
[{"$f":"IF($G64=\"\",\"--\",INDEX('lista do wyboru'!$B$6:$F$160,$G64,1))","v":"--"},{"$f":"IF($G64=\"\",\"--\",INDEX('lista do wyboru'!$B$6:$F$160,$G64,2))","v":"--"},{"$f":"IF($G64=\"\",\"--\",INDEX('lista do wyboru'!$B$6:$F$160,$G64,4))","v":"--"},{"$f":"IF($G64=\"\",\"--\",INDEX('lista do wyboru'!$B$6:$F$160,$G64,5))","v":"--"},0,null,{"$f":"IF(FALSE = ISERROR(MATCH(TRUE,OFFSET('lista do wyboru'!$G$6:$G$160,G63,0),0)),G63+MATCH(TRUE,OFFSET('lista do wyboru'!$G$6:$G$160,G63,0),0),\"\")","v":""}]
[{"$f":"IF($G65=\"\",\"--\",INDEX('lista do wyboru'!$B$6:$F$160,$G65,1))","v":"--"},{"$f":"IF($G65=\"\",\"--\",INDEX('lista do wyboru'!$B$6:$F$160,$G65,2))","v":"--"},{"$f":"IF($G65=\"\",\"--\",INDEX('lista do wyboru'!$B$6:$F$160,$G65,4))","v":"--"},{"$f":"IF($G65=\"\",\"--\",INDEX('lista do wyboru'!$B$6:$F$160,$G65,5))","v":"--"},0,null,{"$f":"IF(FALSE = ISERROR(MATCH(TRUE,OFFSET('lista do wyboru'!$G$6:$G$160,G64,0),0)),G64+MATCH(TRUE,OFFSET('lista do wyboru'!$G$6:$G$160,G64,0),0),\"\")","v":""}]
[{"$f":"IF($G66=\"\",\"--\",INDEX('lista do wyboru'!$B$6:$F$160,$G66,1))","v":"--"},{"$f":"IF($G66=\"\",\"--\",INDEX('lista do wyboru'!$B$6:$F$160,$G66,2))","v":"--"},{"$f":"IF($G66=\"\",\"--\",INDEX('lista do wyboru'!$B$6:$F$160,$G66,4))","v":"--"},{"$f":"IF($G66=\"\",\"--\",INDEX('lista do wyboru'!$B$6:$F$160,$G66,5))","v":"--"},0,null,{"$f":"IF(FALSE = ISERROR(MATCH(TRUE,OFFSET('lista do wyboru'!$G$6:$G$160,G65,0),0)),G65+MATCH(TRUE,OFFSET('lista do wyboru'!$G$6:$G$160,G65,0),0),\"\")","v":""}]
[{"$f":"IF($G67=\"\",\"--\",INDEX('lista do wyboru'!$B$6:$F$160,$G67,1))","v":"--"},{"$f":"IF($G67=\"\",\"--\",INDEX('lista do wyboru'!$B$6:$F$160,$G67,2))","v":"--"},{"$f":"IF($G67=\"\",\"--\",INDEX('lista do wyboru'!$B$6:$F$160,$G67,4))","v":"--"},{"$f":"IF($G67=\"\",\"--\",INDEX('lista do wyboru'!$B$6:$F$160,$G67,5))","v":"--"},0,null,{"$f":"IF(FALSE = ISERROR(MATCH(TRUE,OFFSET('lista do wyboru'!$G$6:$G$160,G66,0),0)),G66+MATCH(TRUE,OFFSET('lista do wyboru'!$G$6:$G$160,G66,0),0),\"\")","v":""}]
[{"$f":"IF($G68=\"\",\"--\",INDEX('lista do wyboru'!$B$6:$F$160,$G68,1))","v":"--"},{"$f":"IF($G68=\"\",\"--\",INDEX('lista do wyboru'!$B$6:$F$160,$G68,2))","v":"--"},{"$f":"IF($G68=\"\",\"--\",INDEX('lista do wyboru'!$B$6:$F$160,$G68,4))","v":"--"},{"$f":"IF($G68=\"\",\"--\",INDEX('lista do wyboru'!$B$6:$F$160,$G68,5))","v":"--"},0,null,{"$f":"IF(FALSE = ISERROR(MATCH(TRUE,OFFSET('lista do wyboru'!$G$6:$G$160,G67,0),0)),G67+MATCH(TRUE,OFFSET('lista do wyboru'!$G$6:$G$160,G67,0),0),\"\")","v":""}]
[{"$f":"IF($G69=\"\",\"--\",INDEX('lista do wyboru'!$B$6:$F$160,$G69,1))","v":"--"},{"$f":"IF($G69=\"\",\"--\",INDEX('lista do wyboru'!$B$6:$F$160,$G69,2))","v":"--"},{"$f":"IF($G69=\"\",\"--\",INDEX('lista do wyboru'!$B$6:$F$160,$G69,4))","v":"--"},{"$f":"IF($G69=\"\",\"--\",INDEX('lista do wyboru'!$B$6:$F$160,$G69,5))","v":"--"},0,null,{"$f":"IF(FALSE = ISERROR(MATCH(TRUE,OFFSET('lista do wyboru'!$G$6:$G$160,G68,0),0)),G68+MATCH(TRUE,OFFSET('lista do wyboru'!$G$6:$G$160,G68,0),0),\"\")","v":""}]
[{"$f":"IF($G70=\"\",\"--\",INDEX('lista do wyboru'!$B$6:$F$160,$G70,1))","v":"--"},{"$f":"IF($G70=\"\",\"--\",INDEX('lista do wyboru'!$B$6:$F$160,$G70,2))","v":"--"},{"$f":"IF($G70=\"\",\"--\",INDEX('lista do wyboru'!$B$6:$F$160,$G70,4))","v":"--"},{"$f":"IF($G70=\"\",\"--\",INDEX('lista do wyboru'!$B$6:$F$160,$G70,5))","v":"--"},{"$f":"IF(C70 = \"--\",0,D70*C70)","v":0},null,{"$f":"IF(FALSE = ISERROR(MATCH(TRUE,OFFSET('lista do wyboru'!$G$6:$G$160,G69,0),0)),G69+MATCH(TRUE,OFFSET('lista do wyboru'!$G$6:$G$160,G69,0),0),\"\")","v":""}]
[{"$f":"IF($G71=\"\",\"--\",INDEX('lista do wyboru'!$B$6:$F$160,$G71,1))","v":"--"},{"$f":"IF($G71=\"\",\"--\",INDEX('lista do wyboru'!$B$6:$F$160,$G71,2))","v":"--"},{"$f":"IF($G71=\"\",\"--\",INDEX('lista do wyboru'!$B$6:$F$160,$G71,4))","v":"--"},{"$f":"IF($G71=\"\",\"--\",INDEX('lista do wyboru'!$B$6:$F$160,$G71,5))","v":"--"},0,null,{"$f":"IF(FALSE = ISERROR(MATCH(TRUE,OFFSET('lista do wyboru'!$G$6:$G$160,G70,0),0)),G70+MATCH(TRUE,OFFSET('lista do wyboru'!$G$6:$G$160,G70,0),0),\"\")","v":""}]
[{"$f":"IF($G72=\"\",\"--\",INDEX('lista do wyboru'!$B$6:$F$160,$G72,1))","v":"--"},{"$f":"IF($G72=\"\",\"--\",INDEX('lista do wyboru'!$B$6:$F$160,$G72,2))","v":"--"},{"$f":"IF($G72=\"\",\"--\",INDEX('lista do wyboru'!$B$6:$F$160,$G72,4))","v":"--"},{"$f":"IF($G72=\"\",\"--\",INDEX('lista do wyboru'!$B$6:$F$160,$G72,5))","v":"--"},0,null,{"$f":"IF(FALSE = ISERROR(MATCH(TRUE,OFFSET('lista do wyboru'!$G$6:$G$160,G71,0),0)),G71+MATCH(TRUE,OFFSET('lista do wyboru'!$G$6:$G$160,G71,0),0),\"\")","v":""}]
[{"$f":"IF($G73=\"\",\"--\",INDEX('lista do wyboru'!$B$6:$F$160,$G73,1))","v":"--"},{"$f":"IF($G73=\"\",\"--\",INDEX('lista do wyboru'!$B$6:$F$160,$G73,2))","v":"--"},{"$f":"IF($G73=\"\",\"--\",INDEX('lista do wyboru'!$B$6:$F$160,$G73,4))","v":"--"},{"$f":"IF($G73=\"\",\"--\",INDEX('lista do wyboru'!$B$6:$F$160,$G73,5))","v":"--"},0,null,{"$f":"IF(FALSE = ISERROR(MATCH(TRUE,OFFSET('lista do wyboru'!$G$6:$G$160,G72,0),0)),G72+MATCH(TRUE,OFFSET('lista do wyboru'!$G$6:$G$160,G72,0),0),\"\")","v":""}]
[{"$f":"IF($G74=\"\",\"--\",INDEX('lista do wyboru'!$B$6:$F$160,$G74,1))","v":"--"},{"$f":"IF($G74=\"\",\"--\",INDEX('lista do wyboru'!$B$6:$F$160,$G74,2))","v":"--"},{"$f":"IF($G74=\"\",\"--\",INDEX('lista do wyboru'!$B$6:$F$160,$G74,4))","v":"--"},{"$f":"IF($G74=\"\",\"--\",INDEX('lista do wyboru'!$B$6:$F$160,$G74,5))","v":"--"},0,null,{"$f":"IF(FALSE = ISERROR(MATCH(TRUE,OFFSET('lista do wyboru'!$G$6:$G$160,G73,0),0)),G73+MATCH(TRUE,OFFSET('lista do wyboru'!$G$6:$G$160,G73,0),0),\"\")","v":""}]
[{"$f":"IF($G75=\"\",\"--\",INDEX('lista do wyboru'!$B$6:$F$160,$G75,1))","v":"--"},{"$f":"IF($G75=\"\",\"--\",INDEX('lista do wyboru'!$B$6:$F$160,$G75,2))","v":"--"},{"$f":"IF($G75=\"\",\"--\",INDEX('lista do wyboru'!$B$6:$F$160,$G75,4))","v":"--"},{"$f":"IF($G75=\"\",\"--\",INDEX('lista do wyboru'!$B$6:$F$160,$G75,5))","v":"--"},0,null,{"$f":"IF(FALSE = ISERROR(MATCH(TRUE,OFFSET('lista do wyboru'!$G$6:$G$160,G74,0),0)),G74+MATCH(TRUE,OFFSET('lista do wyboru'!$G$6:$G$160,G74,0),0),\"\")","v":""}]
[{"$f":"IF($G76=\"\",\"--\",INDEX('lista do wyboru'!$B$6:$F$160,$G76,1))","v":"--"},{"$f":"IF($G76=\"\",\"--\",INDEX('lista do wyboru'!$B$6:$F$160,$G76,2))","v":"--"},{"$f":"IF($G76=\"\",\"--\",INDEX('lista do wyboru'!$B$6:$F$160,$G76,4))","v":"--"},{"$f":"IF($G76=\"\",\"--\",INDEX('lista do wyboru'!$B$6:$F$160,$G76,5))","v":"--"},0,null,{"$f":"IF(FALSE = ISERROR(MATCH(TRUE,OFFSET('lista do wyboru'!$G$6:$G$160,G75,0),0)),G75+MATCH(TRUE,OFFSET('lista do wyboru'!$G$6:$G$160,G75,0),0),\"\")","v":""}]
[{"$f":"IF($G77=\"\",\"--\",INDEX('lista do wyboru'!$B$6:$F$160,$G77,1))","v":"--"},{"$f":"IF($G77=\"\",\"--\",INDEX('lista do wyboru'!$B$6:$F$160,$G77,2))","v":"--"},{"$f":"IF($G77=\"\",\"--\",INDEX('lista do wyboru'!$B$6:$F$160,$G77,4))","v":"--"},{"$f":"IF($G77=\"\",\"--\",INDEX('lista do wyboru'!$B$6:$F$160,$G77,5))","v":"--"},0,null,{"$f":"IF(FALSE = ISERROR(MATCH(TRUE,OFFSET('lista do wyboru'!$G$6:$G$160,G76,0),0)),G76+MATCH(TRUE,OFFSET('lista do wyboru'!$G$6:$G$160,G76,0),0),\"\")","v":""}]
[{"$f":"IF($G78=\"\",\"--\",INDEX('lista do wyboru'!$B$6:$F$160,$G78,1))","v":"--"},{"$f":"IF($G78=\"\",\"--\",INDEX('lista do wyboru'!$B$6:$F$160,$G78,2))","v":"--"},{"$f":"IF($G78=\"\",\"--\",INDEX('lista do wyboru'!$B$6:$F$160,$G78,4))","v":"--"},{"$f":"IF($G78=\"\",\"--\",INDEX('lista do wyboru'!$B$6:$F$160,$G78,5))","v":"--"},0,null,{"$f":"IF(FALSE = ISERROR(MATCH(TRUE,OFFSET('lista do wyboru'!$G$6:$G$160,G77,0),0)),G77+MATCH(TRUE,OFFSET('lista do wyboru'!$G$6:$G$160,G77,0),0),\"\")","v":""}]
[{"$f":"IF($G79=\"\",\"--\",INDEX('lista do wyboru'!$B$6:$F$160,$G79,1))","v":"--"},{"$f":"IF($G79=\"\",\"--\",INDEX('lista do wyboru'!$B$6:$F$160,$G79,2))","v":"--"},{"$f":"IF($G79=\"\",\"--\",INDEX('lista do wyboru'!$B$6:$F$160,$G79,4))","v":"--"},{"$f":"IF($G79=\"\",\"--\",INDEX('lista do wyboru'!$B$6:$F$160,$G79,5))","v":"--"},0,null,{"$f":"IF(FALSE = ISERROR(MATCH(TRUE,OFFSET('lista do wyboru'!$G$6:$G$160,G78,0),0)),G78+MATCH(TRUE,OFFSET('lista do wyboru'!$G$6:$G$160,G78,0),0),\"\")","v":""}]
[{"$f":"IF($G80=\"\",\"--\",INDEX('lista do wyboru'!$B$6:$F$160,$G80,1))","v":"--"},{"$f":"IF($G80=\"\",\"--\",INDEX('lista do wyboru'!$B$6:$F$160,$G80,2))","v":"--"},{"$f":"IF($G80=\"\",\"--\",INDEX('lista do wyboru'!$B$6:$F$160,$G80,4))","v":"--"},{"$f":"IF($G80=\"\",\"--\",INDEX('lista do wyboru'!$B$6:$F$160,$G80,5))","v":"--"},0,null,{"$f":"IF(FALSE = ISERROR(MATCH(TRUE,OFFSET('lista do wyboru'!$G$6:$G$160,G79,0),0)),G79+MATCH(TRUE,OFFSET('lista do wyboru'!$G$6:$G$160,G79,0),0),\"\")","v":""}]
[{"$f":"IF($G81=\"\",\"--\",INDEX('lista do wyboru'!$B$6:$F$160,$G81,1))","v":"--"},{"$f":"IF($G81=\"\",\"--\",INDEX('lista do wyboru'!$B$6:$F$160,$G81,2))","v":"--"},{"$f":"IF($G81=\"\",\"--\",INDEX('lista do wyboru'!$B$6:$F$160,$G81,4))","v":"--"},{"$f":"IF($G81=\"\",\"--\",INDEX('lista do wyboru'!$B$6:$F$160,$G81,5))","v":"--"},0,null,{"$f":"IF(FALSE = ISERROR(MATCH(TRUE,OFFSET('lista do wyboru'!$G$6:$G$160,G80,0),0)),G80+MATCH(TRUE,OFFSET('lista do wyboru'!$G$6:$G$160,G80,0),0),\"\")","v":""}]
[{"$f":"IF($G82=\"\",\"--\",INDEX('lista do wyboru'!$B$6:$F$160,$G82,1))","v":"--"},{"$f":"IF($G82=\"\",\"--\",INDEX('lista do wyboru'!$B$6:$F$160,$G82,2))","v":"--"},{"$f":"IF($G82=\"\",\"--\",INDEX('lista do wyboru'!$B$6:$F$160,$G82,4))","v":"--"},{"$f":"IF($G82=\"\",\"--\",INDEX('lista do wyboru'!$B$6:$F$160,$G82,5))","v":"--"},0,null,{"$f":"IF(FALSE = ISERROR(MATCH(TRUE,OFFSET('lista do wyboru'!$G$6:$G$160,G81,0),0)),G81+MATCH(TRUE,OFFSET('lista do wyboru'!$G$6:$G$160,G81,0),0),\"\")","v":""}]
[{"$f":"IF($G83=\"\",\"--\",INDEX('lista do wyboru'!$B$6:$F$160,$G83,1))","v":"--"},{"$f":"IF($G83=\"\",\"--\",INDEX('lista do wyboru'!$B$6:$F$160,$G83,2))","v":"--"},{"$f":"IF($G83=\"\",\"--\",INDEX('lista do wyboru'!$B$6:$F$160,$G83,4))","v":"--"},{"$f":"IF($G83=\"\",\"--\",INDEX('lista do wyboru'!$B$6:$F$160,$G83,5))","v":"--"},0,null,{"$f":"IF(FALSE = ISERROR(MATCH(TRUE,OFFSET('lista do wyboru'!$G$6:$G$160,G82,0),0)),G82+MATCH(TRUE,OFFSET('lista do wyboru'!$G$6:$G$160,G82,0),0),\"\")","v":""}]
[{"$f":"IF($G84=\"\",\"--\",INDEX('lista do wyboru'!$B$6:$F$160,$G84,1))","v":"--"},{"$f":"IF($G84=\"\",\"--\",INDEX('lista do wyboru'!$B$6:$F$160,$G84,2))","v":"--"},{"$f":"IF($G84=\"\",\"--\",INDEX('lista do wyboru'!$B$6:$F$160,$G84,4))","v":"--"},{"$f":"IF($G84=\"\",\"--\",INDEX('lista do wyboru'!$B$6:$F$160,$G84,5))","v":"--"},0,null,{"$f":"IF(FALSE = ISERROR(MATCH(TRUE,OFFSET('lista do wyboru'!$G$6:$G$160,G83,0),0)),G83+MATCH(TRUE,OFFSET('lista do wyboru'!$G$6:$G$160,G83,0),0),\"\")","v":""}]
[{"$f":"IF($G85=\"\",\"--\",INDEX('lista do wyboru'!$B$6:$F$160,$G85,1))","v":"--"},{"$f":"IF($G85=\"\",\"--\",INDEX('lista do wyboru'!$B$6:$F$160,$G85,2))","v":"--"},{"$f":"IF($G85=\"\",\"--\",INDEX('lista do wyboru'!$B$6:$F$160,$G85,4))","v":"--"},{"$f":"IF($G85=\"\",\"--\",INDEX('lista do wyboru'!$B$6:$F$160,$G85,5))","v":"--"},0,null,{"$f":"IF(FALSE = ISERROR(MATCH(TRUE,OFFSET('lista do wyboru'!$G$6:$G$160,G84,0),0)),G84+MATCH(TRUE,OFFSET('lista do wyboru'!$G$6:$G$160,G84,0),0),\"\")","v":""}]
[{"$f":"IF($G86=\"\",\"--\",INDEX('lista do wyboru'!$B$6:$F$160,$G86,1))","v":"--"},{"$f":"IF($G86=\"\",\"--\",INDEX('lista do wyboru'!$B$6:$F$160,$G86,2))","v":"--"},{"$f":"IF($G86=\"\",\"--\",INDEX('lista do wyboru'!$B$6:$F$160,$G86,4))","v":"--"},{"$f":"IF($G86=\"\",\"--\",INDEX('lista do wyboru'!$B$6:$F$160,$G86,5))","v":"--"},0,null,{"$f":"IF(FALSE = ISERROR(MATCH(TRUE,OFFSET('lista do wyboru'!$G$6:$G$160,G85,0),0)),G85+MATCH(TRUE,OFFSET('lista do wyboru'!$G$6:$G$160,G85,0),0),\"\")","v":""}]
[{"$f":"IF($G87=\"\",\"--\",INDEX('lista do wyboru'!$B$6:$F$160,$G87,1))","v":"--"},{"$f":"IF($G87=\"\",\"--\",INDEX('lista do wyboru'!$B$6:$F$160,$G87,2))","v":"--"},{"$f":"IF($G87=\"\",\"--\",INDEX('lista do wyboru'!$B$6:$F$160,$G87,4))","v":"--"},{"$f":"IF($G87=\"\",\"--\",INDEX('lista do wyboru'!$B$6:$F$160,$G87,5))","v":"--"},0,null,{"$f":"IF(FALSE = ISERROR(MATCH(TRUE,OFFSET('lista do wyboru'!$G$6:$G$160,G86,0),0)),G86+MATCH(TRUE,OFFSET('lista do wyboru'!$G$6:$G$160,G86,0),0),\"\")","v":""}]
[{"$f":"IF($G88=\"\",\"--\",INDEX('lista do wyboru'!$B$6:$F$160,$G88,1))","v":"--"},{"$f":"IF($G88=\"\",\"--\",INDEX('lista do wyboru'!$B$6:$F$160,$G88,2))","v":"--"},{"$f":"IF($G88=\"\",\"--\",INDEX('lista do wyboru'!$B$6:$F$160,$G88,4))","v":"--"},{"$f":"IF($G88=\"\",\"--\",INDEX('lista do wyboru'!$B$6:$F$160,$G88,5))","v":"--"},0,null,{"$f":"IF(FALSE = ISERROR(MATCH(TRUE,OFFSET('lista do wyboru'!$G$6:$G$160,G87,0),0)),G87+MATCH(TRUE,OFFSET('lista do wyboru'!$G$6:$G$160,G87,0),0),\"\")","v":""}]
[{"$f":"IF($G89=\"\",\"--\",INDEX('lista do wyboru'!$B$6:$F$160,$G89,1))","v":"--"},{"$f":"IF($G89=\"\",\"--\",INDEX('lista do wyboru'!$B$6:$F$160,$G89,2))","v":"--"},{"$f":"IF($G89=\"\",\"--\",INDEX('lista do wyboru'!$B$6:$F$160,$G89,4))","v":"--"},{"$f":"IF($G89=\"\",\"--\",INDEX('lista do wyboru'!$B$6:$F$160,$G89,5))","v":"--"},0,null,{"$f":"IF(FALSE = ISERROR(MATCH(TRUE,OFFSET('lista do wyboru'!$G$6:$G$160,G88,0),0)),G88+MATCH(TRUE,OFFSET('lista do wyboru'!$G$6:$G$160,G88,0),0),\"\")","v":""}]
[{"$f":"IF($G90=\"\",\"--\",INDEX('lista do wyboru'!$B$6:$F$160,$G90,1))","v":"--"},{"$f":"IF($G90=\"\",\"--\",INDEX('lista do wyboru'!$B$6:$F$160,$G90,2))","v":"--"},{"$f":"IF($G90=\"\",\"--\",INDEX('lista do wyboru'!$B$6:$F$160,$G90,4))","v":"--"},{"$f":"IF($G90=\"\",\"--\",INDEX('lista do wyboru'!$B$6:$F$160,$G90,5))","v":"--"},0,null,{"$f":"IF(FALSE = ISERROR(MATCH(TRUE,OFFSET('lista do wyboru'!$G$6:$G$160,G89,0),0)),G89+MATCH(TRUE,OFFSET('lista do wyboru'!$G$6:$G$160,G89,0),0),\"\")","v":""}]
[{"$f":"IF($G91=\"\",\"--\",INDEX('lista do wyboru'!$B$6:$F$160,$G91,1))","v":"--"},{"$f":"IF($G91=\"\",\"--\",INDEX('lista do wyboru'!$B$6:$F$160,$G91,2))","v":"--"},{"$f":"IF($G91=\"\",\"--\",INDEX('lista do wyboru'!$B$6:$F$160,$G91,4))","v":"--"},{"$f":"IF($G91=\"\",\"--\",INDEX('lista do wyboru'!$B$6:$F$160,$G91,5))","v":"--"},0,null,{"$f":"IF(FALSE = ISERROR(MATCH(TRUE,OFFSET('lista do wyboru'!$G$6:$G$160,G90,0),0)),G90+MATCH(TRUE,OFFSET('lista do wyboru'!$G$6:$G$160,G90,0),0),\"\")","v":""}]
[{"$f":"IF($G92=\"\",\"--\",INDEX('lista do wyboru'!$B$6:$F$160,$G92,1))","v":"--"},{"$f":"IF($G92=\"\",\"--\",INDEX('lista do wyboru'!$B$6:$F$160,$G92,2))","v":"--"},{"$f":"IF($G92=\"\",\"--\",INDEX('lista do wyboru'!$B$6:$F$160,$G92,4))","v":"--"},{"$f":"IF($G92=\"\",\"--\",INDEX('lista do wyboru'!$B$6:$F$160,$G92,5))","v":"--"},0,null,{"$f":"IF(FALSE = ISERROR(MATCH(TRUE,OFFSET('lista do wyboru'!$G$6:$G$160,G91,0),0)),G91+MATCH(TRUE,OFFSET('lista do wyboru'!$G$6:$G$160,G91,0),0),\"\")","v":""}]
[{"$f":"IF($G93=\"\",\"--\",INDEX('lista do wyboru'!$B$6:$F$160,$G93,1))","v":"--"},{"$f":"IF($G93=\"\",\"--\",INDEX('lista do wyboru'!$B$6:$F$160,$G93,2))","v":"--"},{"$f":"IF($G93=\"\",\"--\",INDEX('lista do wyboru'!$B$6:$F$160,$G93,4))","v":"--"},{"$f":"IF($G93=\"\",\"--\",INDEX('lista do wyboru'!$B$6:$F$160,$G93,5))","v":"--"},0,null,{"$f":"IF(FALSE = ISERROR(MATCH(TRUE,OFFSET('lista do wyboru'!$G$6:$G$160,G92,0),0)),G92+MATCH(TRUE,OFFSET('lista do wyboru'!$G$6:$G$160,G92,0),0),\"\")","v":""}]
[{"$f":"IF($G94=\"\",\"--\",INDEX('lista do wyboru'!$B$6:$F$160,$G94,1))","v":"--"},{"$f":"IF($G94=\"\",\"--\",INDEX('lista do wyboru'!$B$6:$F$160,$G94,2))","v":"--"},{"$f":"IF($G94=\"\",\"--\",INDEX('lista do wyboru'!$B$6:$F$160,$G94,4))","v":"--"},{"$f":"IF($G94=\"\",\"--\",INDEX('lista do wyboru'!$B$6:$F$160,$G94,5))","v":"--"},0,null,{"$f":"IF(FALSE = ISERROR(MATCH(TRUE,OFFSET('lista do wyboru'!$G$6:$G$160,G93,0),0)),G93+MATCH(TRUE,OFFSET('lista do wyboru'!$G$6:$G$160,G93,0),0),\"\")","v":""}]
[{"$f":"IF($G95=\"\",\"--\",INDEX('lista do wyboru'!$B$6:$F$160,$G95,1))","v":"--"},{"$f":"IF($G95=\"\",\"--\",INDEX('lista do wyboru'!$B$6:$F$160,$G95,2))","v":"--"},{"$f":"IF($G95=\"\",\"--\",INDEX('lista do wyboru'!$B$6:$F$160,$G95,4))","v":"--"},{"$f":"IF($G95=\"\",\"--\",INDEX('lista do wyboru'!$B$6:$F$160,$G95,5))","v":"--"},0,null,{"$f":"IF(FALSE = ISERROR(MATCH(TRUE,OFFSET('lista do wyboru'!$G$6:$G$160,G94,0),0)),G94+MATCH(TRUE,OFFSET('lista do wyboru'!$G$6:$G$160,G94,0),0),\"\")","v":""}]
[{"$f":"IF($G96=\"\",\"--\",INDEX('lista do wyboru'!$B$6:$F$160,$G96,1))","v":"--"},{"$f":"IF($G96=\"\",\"--\",INDEX('lista do wyboru'!$B$6:$F$160,$G96,2))","v":"--"},{"$f":"IF($G96=\"\",\"--\",INDEX('lista do wyboru'!$B$6:$F$160,$G96,4))","v":"--"},{"$f":"IF($G96=\"\",\"--\",INDEX('lista do wyboru'!$B$6:$F$160,$G96,5))","v":"--"},0,null,{"$f":"IF(FALSE = ISERROR(MATCH(TRUE,OFFSET('lista do wyboru'!$G$6:$G$160,G95,0),0)),G95+MATCH(TRUE,OFFSET('lista do wyboru'!$G$6:$G$160,G95,0),0),\"\")","v":""}]
[{"$f":"IF($G97=\"\",\"--\",INDEX('lista do wyboru'!$B$6:$F$160,$G97,1))","v":"--"},{"$f":"IF($G97=\"\",\"--\",INDEX('lista do wyboru'!$B$6:$F$160,$G97,2))","v":"--"},{"$f":"IF($G97=\"\",\"--\",INDEX('lista do wyboru'!$B$6:$F$160,$G97,4))","v":"--"},{"$f":"IF($G97=\"\",\"--\",INDEX('lista do wyboru'!$B$6:$F$160,$G97,5))","v":"--"},0,null,{"$f":"IF(FALSE = ISERROR(MATCH(TRUE,OFFSET('lista do wyboru'!$G$6:$G$160,G96,0),0)),G96+MATCH(TRUE,OFFSET('lista do wyboru'!$G$6:$G$160,G96,0),0),\"\")","v":""}]
[{"$f":"IF($G98=\"\",\"--\",INDEX('lista do wyboru'!$B$6:$F$160,$G98,1))","v":"--"},{"$f":"IF($G98=\"\",\"--\",INDEX('lista do wyboru'!$B$6:$F$160,$G98,2))","v":"--"},{"$f":"IF($G98=\"\",\"--\",INDEX('lista do wyboru'!$B$6:$F$160,$G98,4))","v":"--"},{"$f":"IF($G98=\"\",\"--\",INDEX('lista do wyboru'!$B$6:$F$160,$G98,5))","v":"--"},0,null,{"$f":"IF(FALSE = ISERROR(MATCH(TRUE,OFFSET('lista do wyboru'!$G$6:$G$160,G97,0),0)),G97+MATCH(TRUE,OFFSET('lista do wyboru'!$G$6:$G$160,G97,0),0),\"\")","v":""}]
[{"$f":"IF($G99=\"\",\"--\",INDEX('lista do wyboru'!$B$6:$F$160,$G99,1))","v":"--"},{"$f":"IF($G99=\"\",\"--\",INDEX('lista do wyboru'!$B$6:$F$160,$G99,2))","v":"--"},{"$f":"IF($G99=\"\",\"--\",INDEX('lista do wyboru'!$B$6:$F$160,$G99,4))","v":"--"},{"$f":"IF($G99=\"\",\"--\",INDEX('lista do wyboru'!$B$6:$F$160,$G99,5))","v":"--"},0,null,{"$f":"IF(FALSE = ISERROR(MATCH(TRUE,OFFSET('lista do wyboru'!$G$6:$G$160,G98,0),0)),G98+MATCH(TRUE,OFFSET('lista do wyboru'!$G$6:$G$160,G98,0),0),\"\")","v":""}]
[{"$f":"IF($G100=\"\",\"--\",INDEX('lista do wyboru'!$B$6:$F$160,$G100,1))","v":"--"},{"$f":"IF($G100=\"\",\"--\",INDEX('lista do wyboru'!$B$6:$F$160,$G100,2))","v":"--"},{"$f":"IF($G100=\"\",\"--\",INDEX('lista do wyboru'!$B$6:$F$160,$G100,4))","v":"--"},{"$f":"IF($G100=\"\",\"--\",INDEX('lista do wyboru'!$B$6:$F$160,$G100,5))","v":"--"},0,null,{"$f":"IF(FALSE = ISERROR(MATCH(TRUE,OFFSET('lista do wyboru'!$G$6:$G$160,G99,0),0)),G99+MATCH(TRUE,OFFSET('lista do wyboru'!$G$6:$G$160,G99,0),0),\"\")","v":""}]
[{"$f":"IF($G101=\"\",\"--\",INDEX('lista do wyboru'!$B$6:$F$160,$G101,1))","v":"--"},{"$f":"IF($G101=\"\",\"--\",INDEX('lista do wyboru'!$B$6:$F$160,$G101,2))","v":"--"},{"$f":"IF($G101=\"\",\"--\",INDEX('lista do wyboru'!$B$6:$F$160,$G101,4))","v":"--"},{"$f":"IF($G101=\"\",\"--\",INDEX('lista do wyboru'!$B$6:$F$160,$G101,5))","v":"--"},0,null,{"$f":"IF(FALSE = ISERROR(MATCH(TRUE,OFFSET('lista do wyboru'!$G$6:$G$160,G100,0),0)),G100+MATCH(TRUE,OFFSET('lista do wyboru'!$G$6:$G$160,G100,0),0),\"\")","v":""}]
[{"$f":"IF($G102=\"\",\"--\",INDEX('lista do wyboru'!$B$6:$F$160,$G102,1))","v":"--"},{"$f":"IF($G102=\"\",\"--\",INDEX('lista do wyboru'!$B$6:$F$160,$G102,2))","v":"--"},{"$f":"IF($G102=\"\",\"--\",INDEX('lista do wyboru'!$B$6:$F$160,$G102,4))","v":"--"},{"$f":"IF($G102=\"\",\"--\",INDEX('lista do wyboru'!$B$6:$F$160,$G102,5))","v":"--"},0,null,{"$f":"IF(FALSE = ISERROR(MATCH(TRUE,OFFSET('lista do wyboru'!$G$6:$G$160,G101,0),0)),G101+MATCH(TRUE,OFFSET('lista do wyboru'!$G$6:$G$160,G101,0),0),\"\")","v":""}]
[{"$f":"IF($G103=\"\",\"--\",INDEX('lista do wyboru'!$B$6:$F$160,$G103,1))","v":"--"},{"$f":"IF($G103=\"\",\"--\",INDEX('lista do wyboru'!$B$6:$F$160,$G103,2))","v":"--"},{"$f":"IF($G103=\"\",\"--\",INDEX('lista do wyboru'!$B$6:$F$160,$G103,4))","v":"--"},{"$f":"IF($G103=\"\",\"--\",INDEX('lista do wyboru'!$B$6:$F$160,$G103,5))","v":"--"},0,null,{"$f":"IF(FALSE = ISERROR(MATCH(TRUE,OFFSET('lista do wyboru'!$G$6:$G$160,G102,0),0)),G102+MATCH(TRUE,OFFSET('lista do wyboru'!$G$6:$G$160,G102,0),0),\"\")","v":""}]
[{"$f":"IF($G104=\"\",\"--\",INDEX('lista do wyboru'!$B$6:$F$160,$G104,1))","v":"--"},{"$f":"IF($G104=\"\",\"--\",INDEX('lista do wyboru'!$B$6:$F$160,$G104,2))","v":"--"},{"$f":"IF($G104=\"\",\"--\",INDEX('lista do wyboru'!$B$6:$F$160,$G104,4))","v":"--"},{"$f":"IF($G104=\"\",\"--\",INDEX('lista do wyboru'!$B$6:$F$160,$G104,5))","v":"--"},0,null,{"$f":"IF(FALSE = ISERROR(MATCH(TRUE,OFFSET('lista do wyboru'!$G$6:$G$160,G103,0),0)),G103+MATCH(TRUE,OFFSET('lista do wyboru'!$G$6:$G$160,G103,0),0),\"\")","v":""}]
[{"$f":"IF($G105=\"\",\"--\",INDEX('lista do wyboru'!$B$6:$F$160,$G105,1))","v":"--"},{"$f":"IF($G105=\"\",\"--\",INDEX('lista do wyboru'!$B$6:$F$160,$G105,2))","v":"--"},{"$f":"IF($G105=\"\",\"--\",INDEX('lista do wyboru'!$B$6:$F$160,$G105,4))","v":"--"},{"$f":"IF($G105=\"\",\"--\",INDEX('lista do wyboru'!$B$6:$F$160,$G105,5))","v":"--"},0,null,{"$f":"IF(FALSE = ISERROR(MATCH(TRUE,OFFSET('lista do wyboru'!$G$6:$G$160,G104,0),0)),G104+MATCH(TRUE,OFFSET('lista do wyboru'!$G$6:$G$160,G104,0),0),\"\")","v":""}]
[{"$f":"IF($G106=\"\",\"--\",INDEX('lista do wyboru'!$B$6:$F$160,$G106,1))","v":"--"},{"$f":"IF($G106=\"\",\"--\",INDEX('lista do wyboru'!$B$6:$F$160,$G106,2))","v":"--"},{"$f":"IF($G106=\"\",\"--\",INDEX('lista do wyboru'!$B$6:$F$160,$G106,4))","v":"--"},{"$f":"IF($G106=\"\",\"--\",INDEX('lista do wyboru'!$B$6:$F$160,$G106,5))","v":"--"},0,null,{"$f":"IF(FALSE = ISERROR(MATCH(TRUE,OFFSET('lista do wyboru'!$G$6:$G$160,G105,0),0)),G105+MATCH(TRUE,OFFSET('lista do wyboru'!$G$6:$G$160,G105,0),0),\"\")","v":""}]
[{"$f":"IF($G107=\"\",\"--\",INDEX('lista do wyboru'!$B$6:$F$160,$G107,1))","v":"--"},{"$f":"IF($G107=\"\",\"--\",INDEX('lista do wyboru'!$B$6:$F$160,$G107,2))","v":"--"},{"$f":"IF($G107=\"\",\"--\",INDEX('lista do wyboru'!$B$6:$F$160,$G107,4))","v":"--"},{"$f":"IF($G107=\"\",\"--\",INDEX('lista do wyboru'!$B$6:$F$160,$G107,5))","v":"--"},0,null,{"$f":"IF(FALSE = ISERROR(MATCH(TRUE,OFFSET('lista do wyboru'!$G$6:$G$160,G106,0),0)),G106+MATCH(TRUE,OFFSET('lista do wyboru'!$G$6:$G$160,G106,0),0),\"\")","v":""}]
[{"$f":"IF($G108=\"\",\"--\",INDEX('lista do wyboru'!$B$6:$F$160,$G108,1))","v":"--"},{"$f":"IF($G108=\"\",\"--\",INDEX('lista do wyboru'!$B$6:$F$160,$G108,2))","v":"--"},{"$f":"IF($G108=\"\",\"--\",INDEX('lista do wyboru'!$B$6:$F$160,$G108,4))","v":"--"},{"$f":"IF($G108=\"\",\"--\",INDEX('lista do wyboru'!$B$6:$F$160,$G108,5))","v":"--"},0,null,{"$f":"IF(FALSE = ISERROR(MATCH(TRUE,OFFSET('lista do wyboru'!$G$6:$G$160,G107,0),0)),G107+MATCH(TRUE,OFFSET('lista do wyboru'!$G$6:$G$160,G107,0),0),\"\")","v":""}]
[{"$f":"IF($G109=\"\",\"--\",INDEX('lista do wyboru'!$B$6:$F$160,$G109,1))","v":"--"},{"$f":"IF($G109=\"\",\"--\",INDEX('lista do wyboru'!$B$6:$F$160,$G109,2))","v":"--"},{"$f":"IF($G109=\"\",\"--\",INDEX('lista do wyboru'!$B$6:$F$160,$G109,4))","v":"--"},{"$f":"IF($G109=\"\",\"--\",INDEX('lista do wyboru'!$B$6:$F$160,$G109,5))","v":"--"},0,null,{"$f":"IF(FALSE = ISERROR(MATCH(TRUE,OFFSET('lista do wyboru'!$G$6:$G$160,G108,0),0)),G108+MATCH(TRUE,OFFSET('lista do wyboru'!$G$6:$G$160,G108,0),0),\"\")","v":""}]
[{"$f":"IF($G110=\"\",\"--\",INDEX('lista do wyboru'!$B$6:$F$160,$G110,1))","v":"--"},{"$f":"IF($G110=\"\",\"--\",INDEX('lista do wyboru'!$B$6:$F$160,$G110,2))","v":"--"},{"$f":"IF($G110=\"\",\"--\",INDEX('lista do wyboru'!$B$6:$F$160,$G110,4))","v":"--"},{"$f":"IF($G110=\"\",\"--\",INDEX('lista do wyboru'!$B$6:$F$160,$G110,5))","v":"--"},0,null,{"$f":"IF(FALSE = ISERROR(MATCH(TRUE,OFFSET('lista do wyboru'!$G$6:$G$160,G109,0),0)),G109+MATCH(TRUE,OFFSET('lista do wyboru'!$G$6:$G$160,G109,0),0),\"\")","v":""}]
[{"$f":"IF($G111=\"\",\"--\",INDEX('lista do wyboru'!$B$6:$F$160,$G111,1))","v":"--"},{"$f":"IF($G111=\"\",\"--\",INDEX('lista do wyboru'!$B$6:$F$160,$G111,2))","v":"--"},{"$f":"IF($G111=\"\",\"--\",INDEX('lista do wyboru'!$B$6:$F$160,$G111,4))","v":"--"},{"$f":"IF($G111=\"\",\"--\",INDEX('lista do wyboru'!$B$6:$F$160,$G111,5))","v":"--"},0,null,{"$f":"IF(FALSE = ISERROR(MATCH(TRUE,OFFSET('lista do wyboru'!$G$6:$G$160,G110,0),0)),G110+MATCH(TRUE,OFFSET('lista do wyboru'!$G$6:$G$160,G110,0),0),\"\")","v":""}]
[{"$f":"IF($G112=\"\",\"--\",INDEX('lista do wyboru'!$B$6:$F$160,$G112,1))","v":"--"},{"$f":"IF($G112=\"\",\"--\",INDEX('lista do wyboru'!$B$6:$F$160,$G112,2))","v":"--"},{"$f":"IF($G112=\"\",\"--\",INDEX('lista do wyboru'!$B$6:$F$160,$G112,4))","v":"--"},{"$f":"IF($G112=\"\",\"--\",INDEX('lista do wyboru'!$B$6:$F$160,$G112,5))","v":"--"},0,null,{"$f":"IF(FALSE = ISERROR(MATCH(TRUE,OFFSET('lista do wyboru'!$G$6:$G$160,G111,0),0)),G111+MATCH(TRUE,OFFSET('lista do wyboru'!$G$6:$G$160,G111,0),0),\"\")","v":""}]
[{"$f":"IF($G113=\"\",\"--\",INDEX('lista do wyboru'!$B$6:$F$160,$G113,1))","v":"--"},{"$f":"IF($G113=\"\",\"--\",INDEX('lista do wyboru'!$B$6:$F$160,$G113,2))","v":"--"},{"$f":"IF($G113=\"\",\"--\",INDEX('lista do wyboru'!$B$6:$F$160,$G113,4))","v":"--"},{"$f":"IF($G113=\"\",\"--\",INDEX('lista do wyboru'!$B$6:$F$160,$G113,5))","v":"--"},0,null,{"$f":"IF(FALSE = ISERROR(MATCH(TRUE,OFFSET('lista do wyboru'!$G$6:$G$160,G112,0),0)),G112+MATCH(TRUE,OFFSET('lista do wyboru'!$G$6:$G$160,G112,0),0),\"\")","v":""}]
[{"$f":"IF($G114=\"\",\"--\",INDEX('lista do wyboru'!$B$6:$F$160,$G114,1))","v":"--"},{"$f":"IF($G114=\"\",\"--\",INDEX('lista do wyboru'!$B$6:$F$160,$G114,2))","v":"--"},{"$f":"IF($G114=\"\",\"--\",INDEX('lista do wyboru'!$B$6:$F$160,$G114,4))","v":"--"},{"$f":"IF($G114=\"\",\"--\",INDEX('lista do wyboru'!$B$6:$F$160,$G114,5))","v":"--"},0,null,{"$f":"IF(FALSE = ISERROR(MATCH(TRUE,OFFSET('lista do wyboru'!$G$6:$G$160,G113,0),0)),G113+MATCH(TRUE,OFFSET('lista do wyboru'!$G$6:$G$160,G113,0),0),\"\")","v":""}]
[{"$f":"IF($G115=\"\",\"--\",INDEX('lista do wyboru'!$B$6:$F$160,$G115,1))","v":"--"},{"$f":"IF($G115=\"\",\"--\",INDEX('lista do wyboru'!$B$6:$F$160,$G115,2))","v":"--"},{"$f":"IF($G115=\"\",\"--\",INDEX('lista do wyboru'!$B$6:$F$160,$G115,4))","v":"--"},{"$f":"IF($G115=\"\",\"--\",INDEX('lista do wyboru'!$B$6:$F$160,$G115,5))","v":"--"},0,null,{"$f":"IF(FALSE = ISERROR(MATCH(TRUE,OFFSET('lista do wyboru'!$G$6:$G$160,G114,0),0)),G114+MATCH(TRUE,OFFSET('lista do wyboru'!$G$6:$G$160,G114,0),0),\"\")","v":""}]
[{"$f":"IF($G116=\"\",\"--\",INDEX('lista do wyboru'!$B$6:$F$160,$G116,1))","v":"--"},{"$f":"IF($G116=\"\",\"--\",INDEX('lista do wyboru'!$B$6:$F$160,$G116,2))","v":"--"},{"$f":"IF($G116=\"\",\"--\",INDEX('lista do wyboru'!$B$6:$F$160,$G116,4))","v":"--"},{"$f":"IF($G116=\"\",\"--\",INDEX('lista do wyboru'!$B$6:$F$160,$G116,5))","v":"--"},0,null,{"$f":"IF(FALSE = ISERROR(MATCH(TRUE,OFFSET('lista do wyboru'!$G$6:$G$160,G115,0),0)),G115+MATCH(TRUE,OFFSET('lista do wyboru'!$G$6:$G$160,G115,0),0),\"\")","v":""}]
[{"$f":"IF($G117=\"\",\"--\",INDEX('lista do wyboru'!$B$6:$F$160,$G117,1))","v":"--"},{"$f":"IF($G117=\"\",\"--\",INDEX('lista do wyboru'!$B$6:$F$160,$G117,2))","v":"--"},{"$f":"IF($G117=\"\",\"--\",INDEX('lista do wyboru'!$B$6:$F$160,$G117,4))","v":"--"},{"$f":"IF($G117=\"\",\"--\",INDEX('lista do wyboru'!$B$6:$F$160,$G117,5))","v":"--"},0,null,{"$f":"IF(FALSE = ISERROR(MATCH(TRUE,OFFSET('lista do wyboru'!$G$6:$G$160,G116,0),0)),G116+MATCH(TRUE,OFFSET('lista do wyboru'!$G$6:$G$160,G116,0),0),\"\")","v":""}]
[{"$f":"IF($G118=\"\",\"--\",INDEX('lista do wyboru'!$B$6:$F$160,$G118,1))","v":"--"},{"$f":"IF($G118=\"\",\"--\",INDEX('lista do wyboru'!$B$6:$F$160,$G118,2))","v":"--"},{"$f":"IF($G118=\"\",\"--\",INDEX('lista do wyboru'!$B$6:$F$160,$G118,4))","v":"--"},{"$f":"IF($G118=\"\",\"--\",INDEX('lista do wyboru'!$B$6:$F$160,$G118,5))","v":"--"},0,null,{"$f":"IF(FALSE = ISERROR(MATCH(TRUE,OFFSET('lista do wyboru'!$G$6:$G$160,G117,0),0)),G117+MATCH(TRUE,OFFSET('lista do wyboru'!$G$6:$G$160,G117,0),0),\"\")","v":""}]
[{"$f":"IF($G119=\"\",\"--\",INDEX('lista do wyboru'!$B$6:$F$160,$G119,1))","v":"--"},{"$f":"IF($G119=\"\",\"--\",INDEX('lista do wyboru'!$B$6:$F$160,$G119,2))","v":"--"},{"$f":"IF($G119=\"\",\"--\",INDEX('lista do wyboru'!$B$6:$F$160,$G119,4))","v":"--"},{"$f":"IF($G119=\"\",\"--\",INDEX('lista do wyboru'!$B$6:$F$160,$G119,5))","v":"--"},0,null,{"$f":"IF(FALSE = ISERROR(MATCH(TRUE,OFFSET('lista do wyboru'!$G$6:$G$160,G118,0),0)),G118+MATCH(TRUE,OFFSET('lista do wyboru'!$G$6:$G$160,G118,0),0),\"\")","v":""}]
[{"$f":"IF($G120=\"\",\"--\",INDEX('lista do wyboru'!$B$6:$F$160,$G120,1))","v":"--"},{"$f":"IF($G120=\"\",\"--\",INDEX('lista do wyboru'!$B$6:$F$160,$G120,2))","v":"--"},{"$f":"IF($G120=\"\",\"--\",INDEX('lista do wyboru'!$B$6:$F$160,$G120,4))","v":"--"},{"$f":"IF($G120=\"\",\"--\",INDEX('lista do wyboru'!$B$6:$F$160,$G120,5))","v":"--"},0,null,{"$f":"IF(FALSE = ISERROR(MATCH(TRUE,OFFSET('lista do wyboru'!$G$6:$G$160,G119,0),0)),G119+MATCH(TRUE,OFFSET('lista do wyboru'!$G$6:$G$160,G119,0),0),\"\")","v":""}]
[{"$f":"IF($G121=\"\",\"--\",INDEX('lista do wyboru'!$B$6:$F$160,$G121,1))","v":"--"},{"$f":"IF($G121=\"\",\"--\",INDEX('lista do wyboru'!$B$6:$F$160,$G121,2))","v":"--"},{"$f":"IF($G121=\"\",\"--\",INDEX('lista do wyboru'!$B$6:$F$160,$G121,4))","v":"--"},{"$f":"IF($G121=\"\",\"--\",INDEX('lista do wyboru'!$B$6:$F$160,$G121,5))","v":"--"},0,null,{"$f":"IF(FALSE = ISERROR(MATCH(TRUE,OFFSET('lista do wyboru'!$G$6:$G$160,G120,0),0)),G120+MATCH(TRUE,OFFSET('lista do wyboru'!$G$6:$G$160,G120,0),0),\"\")","v":""}]
[{"$f":"IF($G122=\"\",\"--\",INDEX('lista do wyboru'!$B$6:$F$160,$G122,1))","v":"--"},{"$f":"IF($G122=\"\",\"--\",INDEX('lista do wyboru'!$B$6:$F$160,$G122,2))","v":"--"},{"$f":"IF($G122=\"\",\"--\",INDEX('lista do wyboru'!$B$6:$F$160,$G122,4))","v":"--"},{"$f":"IF($G122=\"\",\"--\",INDEX('lista do wyboru'!$B$6:$F$160,$G122,5))","v":"--"},0,null,{"$f":"IF(FALSE = ISERROR(MATCH(TRUE,OFFSET('lista do wyboru'!$G$6:$G$160,G121,0),0)),G121+MATCH(TRUE,OFFSET('lista do wyboru'!$G$6:$G$160,G121,0),0),\"\")","v":""}]
[{"$f":"IF($G123=\"\",\"--\",INDEX('lista do wyboru'!$B$6:$F$160,$G123,1))","v":"--"},{"$f":"IF($G123=\"\",\"--\",INDEX('lista do wyboru'!$B$6:$F$160,$G123,2))","v":"--"},{"$f":"IF($G123=\"\",\"--\",INDEX('lista do wyboru'!$B$6:$F$160,$G123,4))","v":"--"},{"$f":"IF($G123=\"\",\"--\",INDEX('lista do wyboru'!$B$6:$F$160,$G123,5))","v":"--"},0,null,{"$f":"IF(FALSE = ISERROR(MATCH(TRUE,OFFSET('lista do wyboru'!$G$6:$G$160,G122,0),0)),G122+MATCH(TRUE,OFFSET('lista do wyboru'!$G$6:$G$160,G122,0),0),\"\")","v":""}]
[{"$f":"IF($G124=\"\",\"--\",INDEX('lista do wyboru'!$B$6:$F$160,$G124,1))","v":"--"},{"$f":"IF($G124=\"\",\"--\",INDEX('lista do wyboru'!$B$6:$F$160,$G124,2))","v":"--"},{"$f":"IF($G124=\"\",\"--\",INDEX('lista do wyboru'!$B$6:$F$160,$G124,4))","v":"--"},{"$f":"IF($G124=\"\",\"--\",INDEX('lista do wyboru'!$B$6:$F$160,$G124,5))","v":"--"},0,null,{"$f":"IF(FALSE = ISERROR(MATCH(TRUE,OFFSET('lista do wyboru'!$G$6:$G$160,G123,0),0)),G123+MATCH(TRUE,OFFSET('lista do wyboru'!$G$6:$G$160,G123,0),0),\"\")","v":""}]
[{"$f":"IF($G125=\"\",\"--\",INDEX('lista do wyboru'!$B$6:$F$160,$G125,1))","v":"--"},{"$f":"IF($G125=\"\",\"--\",INDEX('lista do wyboru'!$B$6:$F$160,$G125,2))","v":"--"},{"$f":"IF($G125=\"\",\"--\",INDEX('lista do wyboru'!$B$6:$F$160,$G125,4))","v":"--"},{"$f":"IF($G125=\"\",\"--\",INDEX('lista do wyboru'!$B$6:$F$160,$G125,5))","v":"--"},0,null,{"$f":"IF(FALSE = ISERROR(MATCH(TRUE,OFFSET('lista do wyboru'!$G$6:$G$160,G124,0),0)),G124+MATCH(TRUE,OFFSET('lista do wyboru'!$G$6:$G$160,G124,0),0),\"\")","v":""}]
[{"$f":"IF($G126=\"\",\"--\",INDEX('lista do wyboru'!$B$6:$F$160,$G126,1))","v":"--"},{"$f":"IF($G126=\"\",\"--\",INDEX('lista do wyboru'!$B$6:$F$160,$G126,2))","v":"--"},{"$f":"IF($G126=\"\",\"--\",INDEX('lista do wyboru'!$B$6:$F$160,$G126,4))","v":"--"},{"$f":"IF($G126=\"\",\"--\",INDEX('lista do wyboru'!$B$6:$F$160,$G126,5))","v":"--"},0,null,{"$f":"IF(FALSE = ISERROR(MATCH(TRUE,OFFSET('lista do wyboru'!$G$6:$G$160,G125,0),0)),G125+MATCH(TRUE,OFFSET('lista do wyboru'!$G$6:$G$160,G125,0),0),\"\")","v":""}]
[{"$f":"IF($G127=\"\",\"--\",INDEX('lista do wyboru'!$B$6:$F$160,$G127,1))","v":"--"},{"$f":"IF($G127=\"\",\"--\",INDEX('lista do wyboru'!$B$6:$F$160,$G127,2))","v":"--"},{"$f":"IF($G127=\"\",\"--\",INDEX('lista do wyboru'!$B$6:$F$160,$G127,4))","v":"--"},{"$f":"IF($G127=\"\",\"--\",INDEX('lista do wyboru'!$B$6:$F$160,$G127,5))","v":"--"},0,null,{"$f":"IF(FALSE = ISERROR(MATCH(TRUE,OFFSET('lista do wyboru'!$G$6:$G$160,G126,0),0)),G126+MATCH(TRUE,OFFSET('lista do wyboru'!$G$6:$G$160,G126,0),0),\"\")","v":""}]
[{"$f":"IF($G128=\"\",\"--\",INDEX('lista do wyboru'!$B$6:$F$160,$G128,1))","v":"--"},{"$f":"IF($G128=\"\",\"--\",INDEX('lista do wyboru'!$B$6:$F$160,$G128,2))","v":"--"},{"$f":"IF($G128=\"\",\"--\",INDEX('lista do wyboru'!$B$6:$F$160,$G128,4))","v":"--"},{"$f":"IF($G128=\"\",\"--\",INDEX('lista do wyboru'!$B$6:$F$160,$G128,5))","v":"--"},0,null,{"$f":"IF(FALSE = ISERROR(MATCH(TRUE,OFFSET('lista do wyboru'!$G$6:$G$160,G127,0),0)),G127+MATCH(TRUE,OFFSET('lista do wyboru'!$G$6:$G$160,G127,0),0),\"\")","v":""}]
[{"$f":"IF($G129=\"\",\"--\",INDEX('lista do wyboru'!$B$6:$F$160,$G129,1))","v":"--"},{"$f":"IF($G129=\"\",\"--\",INDEX('lista do wyboru'!$B$6:$F$160,$G129,2))","v":"--"},{"$f":"IF($G129=\"\",\"--\",INDEX('lista do wyboru'!$B$6:$F$160,$G129,4))","v":"--"},{"$f":"IF($G129=\"\",\"--\",INDEX('lista do wyboru'!$B$6:$F$160,$G129,5))","v":"--"},0,null,{"$f":"IF(FALSE = ISERROR(MATCH(TRUE,OFFSET('lista do wyboru'!$G$6:$G$160,G128,0),0)),G128+MATCH(TRUE,OFFSET('lista do wyboru'!$G$6:$G$160,G128,0),0),\"\")","v":""}]
[{"$f":"IF($G130=\"\",\"--\",INDEX('lista do wyboru'!$B$6:$F$160,$G130,1))","v":"--"},{"$f":"IF($G130=\"\",\"--\",INDEX('lista do wyboru'!$B$6:$F$160,$G130,2))","v":"--"},{"$f":"IF($G130=\"\",\"--\",INDEX('lista do wyboru'!$B$6:$F$160,$G130,4))","v":"--"},{"$f":"IF($G130=\"\",\"--\",INDEX('lista do wyboru'!$B$6:$F$160,$G130,5))","v":"--"},0,null,{"$f":"IF(FALSE = ISERROR(MATCH(TRUE,OFFSET('lista do wyboru'!$G$6:$G$160,G129,0),0)),G129+MATCH(TRUE,OFFSET('lista do wyboru'!$G$6:$G$160,G129,0),0),\"\")","v":""}]
[{"$f":"IF($G131=\"\",\"--\",INDEX('lista do wyboru'!$B$6:$F$160,$G131,1))","v":"--"},{"$f":"IF($G131=\"\",\"--\",INDEX('lista do wyboru'!$B$6:$F$160,$G131,2))","v":"--"},{"$f":"IF($G131=\"\",\"--\",INDEX('lista do wyboru'!$B$6:$F$160,$G131,4))","v":"--"},{"$f":"IF($G131=\"\",\"--\",INDEX('lista do wyboru'!$B$6:$F$160,$G131,5))","v":"--"},0,null,{"$f":"IF(FALSE = ISERROR(MATCH(TRUE,OFFSET('lista do wyboru'!$G$6:$G$160,G130,0),0)),G130+MATCH(TRUE,OFFSET('lista do wyboru'!$G$6:$G$160,G130,0),0),\"\")","v":""}]
[{"$f":"IF($G132=\"\",\"--\",INDEX('lista do wyboru'!$B$6:$F$160,$G132,1))","v":"--"},{"$f":"IF($G132=\"\",\"--\",INDEX('lista do wyboru'!$B$6:$F$160,$G132,2))","v":"--"},{"$f":"IF($G132=\"\",\"--\",INDEX('lista do wyboru'!$B$6:$F$160,$G132,4))","v":"--"},{"$f":"IF($G132=\"\",\"--\",INDEX('lista do wyboru'!$B$6:$F$160,$G132,5))","v":"--"},0,null,{"$f":"IF(FALSE = ISERROR(MATCH(TRUE,OFFSET('lista do wyboru'!$G$6:$G$160,G131,0),0)),G131+MATCH(TRUE,OFFSET('lista do wyboru'!$G$6:$G$160,G131,0),0),\"\")","v":""}]
[{"$f":"IF($G133=\"\",\"--\",INDEX('lista do wyboru'!$B$6:$F$160,$G133,1))","v":"--"},{"$f":"IF($G133=\"\",\"--\",INDEX('lista do wyboru'!$B$6:$F$160,$G133,2))","v":"--"},{"$f":"IF($G133=\"\",\"--\",INDEX('lista do wyboru'!$B$6:$F$160,$G133,4))","v":"--"},{"$f":"IF($G133=\"\",\"--\",INDEX('lista do wyboru'!$B$6:$F$160,$G133,5))","v":"--"},0,null,{"$f":"IF(FALSE = ISERROR(MATCH(TRUE,OFFSET('lista do wyboru'!$G$6:$G$160,G132,0),0)),G132+MATCH(TRUE,OFFSET('lista do wyboru'!$G$6:$G$160,G132,0),0),\"\")","v":""}]
[{"$f":"IF($G134=\"\",\"--\",INDEX('lista do wyboru'!$B$6:$F$160,$G134,1))","v":"--"},{"$f":"IF($G134=\"\",\"--\",INDEX('lista do wyboru'!$B$6:$F$160,$G134,2))","v":"--"},{"$f":"IF($G134=\"\",\"--\",INDEX('lista do wyboru'!$B$6:$F$160,$G134,4))","v":"--"},{"$f":"IF($G134=\"\",\"--\",INDEX('lista do wyboru'!$B$6:$F$160,$G134,5))","v":"--"},{"$f":"IF(C134 = \"--\",0,D134*C134)","v":0},null,{"$f":"IF(FALSE = ISERROR(MATCH(TRUE,OFFSET('lista do wyboru'!$G$6:$G$160,G133,0),0)),G133+MATCH(TRUE,OFFSET('lista do wyboru'!$G$6:$G$160,G133,0),0),\"\")","v":""}]
[{"$f":"IF($G135=\"\",\"--\",INDEX('lista do wyboru'!$B$6:$F$160,$G135,1))","v":"--"},{"$f":"IF($G135=\"\",\"--\",INDEX('lista do wyboru'!$B$6:$F$160,$G135,2))","v":"--"},{"$f":"IF($G135=\"\",\"--\",INDEX('lista do wyboru'!$B$6:$F$160,$G135,4))","v":"--"},{"$f":"IF($G135=\"\",\"--\",INDEX('lista do wyboru'!$B$6:$F$160,$G135,5))","v":"--"},0,null,{"$f":"IF(FALSE = ISERROR(MATCH(TRUE,OFFSET('lista do wyboru'!$G$6:$G$160,G134,0),0)),G134+MATCH(TRUE,OFFSET('lista do wyboru'!$G$6:$G$160,G134,0),0),\"\")","v":""}]
[{"$f":"IF($G136=\"\",\"--\",INDEX('lista do wyboru'!$B$6:$F$160,$G136,1))","v":"--"},{"$f":"IF($G136=\"\",\"--\",INDEX('lista do wyboru'!$B$6:$F$160,$G136,2))","v":"--"},{"$f":"IF($G136=\"\",\"--\",INDEX('lista do wyboru'!$B$6:$F$160,$G136,4))","v":"--"},{"$f":"IF($G136=\"\",\"--\",INDEX('lista do wyboru'!$B$6:$F$160,$G136,5))","v":"--"},0,null,{"$f":"IF(FALSE = ISERROR(MATCH(TRUE,OFFSET('lista do wyboru'!$G$6:$G$160,G135,0),0)),G135+MATCH(TRUE,OFFSET('lista do wyboru'!$G$6:$G$160,G135,0),0),\"\")","v":""}]
[{"$f":"IF($G137=\"\",\"--\",INDEX('lista do wyboru'!$B$6:$F$160,$G137,1))","v":"--"},{"$f":"IF($G137=\"\",\"--\",INDEX('lista do wyboru'!$B$6:$F$160,$G137,2))","v":"--"},{"$f":"IF($G137=\"\",\"--\",INDEX('lista do wyboru'!$B$6:$F$160,$G137,4))","v":"--"},{"$f":"IF($G137=\"\",\"--\",INDEX('lista do wyboru'!$B$6:$F$160,$G137,5))","v":"--"},0,null,{"$f":"IF(FALSE = ISERROR(MATCH(TRUE,OFFSET('lista do wyboru'!$G$6:$G$160,G136,0),0)),G136+MATCH(TRUE,OFFSET('lista do wyboru'!$G$6:$G$160,G136,0),0),\"\")","v":""}]
[{"$f":"IF($G138=\"\",\"--\",INDEX('lista do wyboru'!$B$6:$F$160,$G138,1))","v":"--"},{"$f":"IF($G138=\"\",\"--\",INDEX('lista do wyboru'!$B$6:$F$160,$G138,2))","v":"--"},{"$f":"IF($G138=\"\",\"--\",INDEX('lista do wyboru'!$B$6:$F$160,$G138,4))","v":"--"},{"$f":"IF($G138=\"\",\"--\",INDEX('lista do wyboru'!$B$6:$F$160,$G138,5))","v":"--"},0,null,{"$f":"IF(FALSE = ISERROR(MATCH(TRUE,OFFSET('lista do wyboru'!$G$6:$G$160,G137,0),0)),G137+MATCH(TRUE,OFFSET('lista do wyboru'!$G$6:$G$160,G137,0),0),\"\")","v":""}]
[{"$f":"IF($G139=\"\",\"--\",INDEX('lista do wyboru'!$B$6:$F$160,$G139,1))","v":"--"},{"$f":"IF($G139=\"\",\"--\",INDEX('lista do wyboru'!$B$6:$F$160,$G139,2))","v":"--"},{"$f":"IF($G139=\"\",\"--\",INDEX('lista do wyboru'!$B$6:$F$160,$G139,4))","v":"--"},{"$f":"IF($G139=\"\",\"--\",INDEX('lista do wyboru'!$B$6:$F$160,$G139,5))","v":"--"},0,null,{"$f":"IF(FALSE = ISERROR(MATCH(TRUE,OFFSET('lista do wyboru'!$G$6:$G$160,G138,0),0)),G138+MATCH(TRUE,OFFSET('lista do wyboru'!$G$6:$G$160,G138,0),0),\"\")","v":""}]
[{"$f":"IF($G140=\"\",\"--\",INDEX('lista do wyboru'!$B$6:$F$160,$G140,1))","v":"--"},{"$f":"IF($G140=\"\",\"--\",INDEX('lista do wyboru'!$B$6:$F$160,$G140,2))","v":"--"},{"$f":"IF($G140=\"\",\"--\",INDEX('lista do wyboru'!$B$6:$F$160,$G140,4))","v":"--"},{"$f":"IF($G140=\"\",\"--\",INDEX('lista do wyboru'!$B$6:$F$160,$G140,5))","v":"--"},0,null,{"$f":"IF(FALSE = ISERROR(MATCH(TRUE,OFFSET('lista do wyboru'!$G$6:$G$160,G139,0),0)),G139+MATCH(TRUE,OFFSET('lista do wyboru'!$G$6:$G$160,G139,0),0),\"\")","v":""}]
[{"$f":"IF($G141=\"\",\"--\",INDEX('lista do wyboru'!$B$6:$F$160,$G141,1))","v":"--"},{"$f":"IF($G141=\"\",\"--\",INDEX('lista do wyboru'!$B$6:$F$160,$G141,2))","v":"--"},{"$f":"IF($G141=\"\",\"--\",INDEX('lista do wyboru'!$B$6:$F$160,$G141,4))","v":"--"},{"$f":"IF($G141=\"\",\"--\",INDEX('lista do wyboru'!$B$6:$F$160,$G141,5))","v":"--"},0,null,{"$f":"IF(FALSE = ISERROR(MATCH(TRUE,OFFSET('lista do wyboru'!$G$6:$G$160,G140,0),0)),G140+MATCH(TRUE,OFFSET('lista do wyboru'!$G$6:$G$160,G140,0),0),\"\")","v":""}]
[{"$f":"IF($G142=\"\",\"--\",INDEX('lista do wyboru'!$B$6:$F$160,$G142,1))","v":"--"},{"$f":"IF($G142=\"\",\"--\",INDEX('lista do wyboru'!$B$6:$F$160,$G142,2))","v":"--"},{"$f":"IF($G142=\"\",\"--\",INDEX('lista do wyboru'!$B$6:$F$160,$G142,4))","v":"--"},{"$f":"IF($G142=\"\",\"--\",INDEX('lista do wyboru'!$B$6:$F$160,$G142,5))","v":"--"},0,null,{"$f":"IF(FALSE = ISERROR(MATCH(TRUE,OFFSET('lista do wyboru'!$G$6:$G$160,G141,0),0)),G141+MATCH(TRUE,OFFSET('lista do wyboru'!$G$6:$G$160,G141,0),0),\"\")","v":""}]
[{"$f":"IF($G143=\"\",\"--\",INDEX('lista do wyboru'!$B$6:$F$160,$G143,1))","v":"--"},{"$f":"IF($G143=\"\",\"--\",INDEX('lista do wyboru'!$B$6:$F$160,$G143,2))","v":"--"},{"$f":"IF($G143=\"\",\"--\",INDEX('lista do wyboru'!$B$6:$F$160,$G143,4))","v":"--"},{"$f":"IF($G143=\"\",\"--\",INDEX('lista do wyboru'!$B$6:$F$160,$G143,5))","v":"--"},0,null,{"$f":"IF(FALSE = ISERROR(MATCH(TRUE,OFFSET('lista do wyboru'!$G$6:$G$160,G142,0),0)),G142+MATCH(TRUE,OFFSET('lista do wyboru'!$G$6:$G$160,G142,0),0),\"\")","v":""}]
[{"$f":"IF($G144=\"\",\"--\",INDEX('lista do wyboru'!$B$6:$F$160,$G144,1))","v":"--"},{"$f":"IF($G144=\"\",\"--\",INDEX('lista do wyboru'!$B$6:$F$160,$G144,2))","v":"--"},{"$f":"IF($G144=\"\",\"--\",INDEX('lista do wyboru'!$B$6:$F$160,$G144,4))","v":"--"},{"$f":"IF($G144=\"\",\"--\",INDEX('lista do wyboru'!$B$6:$F$160,$G144,5))","v":"--"},0,null,{"$f":"IF(FALSE = ISERROR(MATCH(TRUE,OFFSET('lista do wyboru'!$G$6:$G$160,G143,0),0)),G143+MATCH(TRUE,OFFSET('lista do wyboru'!$G$6:$G$160,G143,0),0),\"\")","v":""}]
[{"$f":"IF($G145=\"\",\"--\",INDEX('lista do wyboru'!$B$6:$F$160,$G145,1))","v":"--"},{"$f":"IF($G145=\"\",\"--\",INDEX('lista do wyboru'!$B$6:$F$160,$G145,2))","v":"--"},{"$f":"IF($G145=\"\",\"--\",INDEX('lista do wyboru'!$B$6:$F$160,$G145,4))","v":"--"},{"$f":"IF($G145=\"\",\"--\",INDEX('lista do wyboru'!$B$6:$F$160,$G145,5))","v":"--"},0,null,{"$f":"IF(FALSE = ISERROR(MATCH(TRUE,OFFSET('lista do wyboru'!$G$6:$G$160,G144,0),0)),G144+MATCH(TRUE,OFFSET('lista do wyboru'!$G$6:$G$160,G144,0),0),\"\")","v":""}]
[{"$f":"IF($G146=\"\",\"--\",INDEX('lista do wyboru'!$B$6:$F$160,$G146,1))","v":"--"},{"$f":"IF($G146=\"\",\"--\",INDEX('lista do wyboru'!$B$6:$F$160,$G146,2))","v":"--"},{"$f":"IF($G146=\"\",\"--\",INDEX('lista do wyboru'!$B$6:$F$160,$G146,4))","v":"--"},{"$f":"IF($G146=\"\",\"--\",INDEX('lista do wyboru'!$B$6:$F$160,$G146,5))","v":"--"},0,null,{"$f":"IF(FALSE = ISERROR(MATCH(TRUE,OFFSET('lista do wyboru'!$G$6:$G$160,G145,0),0)),G145+MATCH(TRUE,OFFSET('lista do wyboru'!$G$6:$G$160,G145,0),0),\"\")","v":""}]
[{"$f":"IF($G147=\"\",\"--\",INDEX('lista do wyboru'!$B$6:$F$160,$G147,1))","v":"--"},{"$f":"IF($G147=\"\",\"--\",INDEX('lista do wyboru'!$B$6:$F$160,$G147,2))","v":"--"},{"$f":"IF($G147=\"\",\"--\",INDEX('lista do wyboru'!$B$6:$F$160,$G147,4))","v":"--"},{"$f":"IF($G147=\"\",\"--\",INDEX('lista do wyboru'!$B$6:$F$160,$G147,5))","v":"--"},0,null,{"$f":"IF(FALSE = ISERROR(MATCH(TRUE,OFFSET('lista do wyboru'!$G$6:$G$160,G146,0),0)),G146+MATCH(TRUE,OFFSET('lista do wyboru'!$G$6:$G$160,G146,0),0),\"\")","v":""}]
[{"$f":"IF($G148=\"\",\"--\",INDEX('lista do wyboru'!$B$6:$F$160,$G148,1))","v":"--"},{"$f":"IF($G148=\"\",\"--\",INDEX('lista do wyboru'!$B$6:$F$160,$G148,2))","v":"--"},{"$f":"IF($G148=\"\",\"--\",INDEX('lista do wyboru'!$B$6:$F$160,$G148,4))","v":"--"},{"$f":"IF($G148=\"\",\"--\",INDEX('lista do wyboru'!$B$6:$F$160,$G148,5))","v":"--"},0,null,{"$f":"IF(FALSE = ISERROR(MATCH(TRUE,OFFSET('lista do wyboru'!$G$6:$G$160,G147,0),0)),G147+MATCH(TRUE,OFFSET('lista do wyboru'!$G$6:$G$160,G147,0),0),\"\")","v":""}]
[{"$f":"IF($G149=\"\",\"--\",INDEX('lista do wyboru'!$B$6:$F$160,$G149,1))","v":"--"},{"$f":"IF($G149=\"\",\"--\",INDEX('lista do wyboru'!$B$6:$F$160,$G149,2))","v":"--"},{"$f":"IF($G149=\"\",\"--\",INDEX('lista do wyboru'!$B$6:$F$160,$G149,4))","v":"--"},{"$f":"IF($G149=\"\",\"--\",INDEX('lista do wyboru'!$B$6:$F$160,$G149,5))","v":"--"},0,null,{"$f":"IF(FALSE = ISERROR(MATCH(TRUE,OFFSET('lista do wyboru'!$G$6:$G$160,G148,0),0)),G148+MATCH(TRUE,OFFSET('lista do wyboru'!$G$6:$G$160,G148,0),0),\"\")","v":""}]
[{"$f":"IF($G150=\"\",\"--\",INDEX('lista do wyboru'!$B$6:$F$160,$G150,1))","v":"--"},{"$f":"IF($G150=\"\",\"--\",INDEX('lista do wyboru'!$B$6:$F$160,$G150,2))","v":"--"},{"$f":"IF($G150=\"\",\"--\",INDEX('lista do wyboru'!$B$6:$F$160,$G150,4))","v":"--"},{"$f":"IF($G150=\"\",\"--\",INDEX('lista do wyboru'!$B$6:$F$160,$G150,5))","v":"--"},0,null,{"$f":"IF(FALSE = ISERROR(MATCH(TRUE,OFFSET('lista do wyboru'!$G$6:$G$160,G149,0),0)),G149+MATCH(TRUE,OFFSET('lista do wyboru'!$G$6:$G$160,G149,0),0),\"\")","v":""}]
[{"$f":"IF($G151=\"\",\"--\",INDEX('lista do wyboru'!$B$6:$F$160,$G151,1))","v":"--"},{"$f":"IF($G151=\"\",\"--\",INDEX('lista do wyboru'!$B$6:$F$160,$G151,2))","v":"--"},{"$f":"IF($G151=\"\",\"--\",INDEX('lista do wyboru'!$B$6:$F$160,$G151,4))","v":"--"},{"$f":"IF($G151=\"\",\"--\",INDEX('lista do wyboru'!$B$6:$F$160,$G151,5))","v":"--"},0,null,{"$f":"IF(FALSE = ISERROR(MATCH(TRUE,OFFSET('lista do wyboru'!$G$6:$G$160,G150,0),0)),G150+MATCH(TRUE,OFFSET('lista do wyboru'!$G$6:$G$160,G150,0),0),\"\")","v":""}]
[{"$f":"IF($G152=\"\",\"--\",INDEX('lista do wyboru'!$B$6:$F$160,$G152,1))","v":"--"},{"$f":"IF($G152=\"\",\"--\",INDEX('lista do wyboru'!$B$6:$F$160,$G152,2))","v":"--"},{"$f":"IF($G152=\"\",\"--\",INDEX('lista do wyboru'!$B$6:$F$160,$G152,4))","v":"--"},{"$f":"IF($G152=\"\",\"--\",INDEX('lista do wyboru'!$B$6:$F$160,$G152,5))","v":"--"},0,null,{"$f":"IF(FALSE = ISERROR(MATCH(TRUE,OFFSET('lista do wyboru'!$G$6:$G$160,G151,0),0)),G151+MATCH(TRUE,OFFSET('lista do wyboru'!$G$6:$G$160,G151,0),0),\"\")","v":""}]
[{"$f":"IF($G153=\"\",\"--\",INDEX('lista do wyboru'!$B$6:$F$160,$G153,1))","v":"--"},{"$f":"IF($G153=\"\",\"--\",INDEX('lista do wyboru'!$B$6:$F$160,$G153,2))","v":"--"},{"$f":"IF($G153=\"\",\"--\",INDEX('lista do wyboru'!$B$6:$F$160,$G153,4))","v":"--"},{"$f":"IF($G153=\"\",\"--\",INDEX('lista do wyboru'!$B$6:$F$160,$G153,5))","v":"--"},0,null,{"$f":"IF(FALSE = ISERROR(MATCH(TRUE,OFFSET('lista do wyboru'!$G$6:$G$160,G152,0),0)),G152+MATCH(TRUE,OFFSET('lista do wyboru'!$G$6:$G$160,G152,0),0),\"\")","v":""}]
[{"$f":"IF($G154=\"\",\"--\",INDEX('lista do wyboru'!$B$6:$F$160,$G154,1))","v":"--"},{"$f":"IF($G154=\"\",\"--\",INDEX('lista do wyboru'!$B$6:$F$160,$G154,2))","v":"--"},{"$f":"IF($G154=\"\",\"--\",INDEX('lista do wyboru'!$B$6:$F$160,$G154,4))","v":"--"},{"$f":"IF($G154=\"\",\"--\",INDEX('lista do wyboru'!$B$6:$F$160,$G154,5))","v":"--"},0,null,{"$f":"IF(FALSE = ISERROR(MATCH(TRUE,OFFSET('lista do wyboru'!$G$6:$G$160,G153,0),0)),G153+MATCH(TRUE,OFFSET('lista do wyboru'!$G$6:$G$160,G153,0),0),\"\")","v":""}]
[{"$f":"IF($G155=\"\",\"--\",INDEX('lista do wyboru'!$B$6:$F$160,$G155,1))","v":"--"},{"$f":"IF($G155=\"\",\"--\",INDEX('lista do wyboru'!$B$6:$F$160,$G155,2))","v":"--"},{"$f":"IF($G155=\"\",\"--\",INDEX('lista do wyboru'!$B$6:$F$160,$G155,4))","v":"--"},{"$f":"IF($G155=\"\",\"--\",INDEX('lista do wyboru'!$B$6:$F$160,$G155,5))","v":"--"},0,null,{"$f":"IF(FALSE = ISERROR(MATCH(TRUE,OFFSET('lista do wyboru'!$G$6:$G$160,G154,0),0)),G154+MATCH(TRUE,OFFSET('lista do wyboru'!$G$6:$G$160,G154,0),0),\"\")","v":""}]
[{"$f":"IF($G156=\"\",\"--\",INDEX('lista do wyboru'!$B$6:$F$160,$G156,1))","v":"--"},{"$f":"IF($G156=\"\",\"--\",INDEX('lista do wyboru'!$B$6:$F$160,$G156,2))","v":"--"},{"$f":"IF($G156=\"\",\"--\",INDEX('lista do wyboru'!$B$6:$F$160,$G156,4))","v":"--"},{"$f":"IF($G156=\"\",\"--\",INDEX('lista do wyboru'!$B$6:$F$160,$G156,5))","v":"--"},0,null,{"$f":"IF(FALSE = ISERROR(MATCH(TRUE,OFFSET('lista do wyboru'!$G$6:$G$160,G155,0),0)),G155+MATCH(TRUE,OFFSET('lista do wyboru'!$G$6:$G$160,G155,0),0),\"\")","v":""}]
[{"$f":"IF($G157=\"\",\"--\",INDEX('lista do wyboru'!$B$6:$F$160,$G157,1))","v":"--"},{"$f":"IF($G157=\"\",\"--\",INDEX('lista do wyboru'!$B$6:$F$160,$G157,2))","v":"--"},{"$f":"IF($G157=\"\",\"--\",INDEX('lista do wyboru'!$B$6:$F$160,$G157,4))","v":"--"},{"$f":"IF($G157=\"\",\"--\",INDEX('lista do wyboru'!$B$6:$F$160,$G157,5))","v":"--"},0,null,{"$f":"IF(FALSE = ISERROR(MATCH(TRUE,OFFSET('lista do wyboru'!$G$6:$G$160,G156,0),0)),G156+MATCH(TRUE,OFFSET('lista do wyboru'!$G$6:$G$160,G156,0),0),\"\")","v":""}]
[{"$f":"IF($G158=\"\",\"--\",INDEX('lista do wyboru'!$B$6:$F$160,$G158,1))","v":"--"},{"$f":"IF($G158=\"\",\"--\",INDEX('lista do wyboru'!$B$6:$F$160,$G158,2))","v":"--"},{"$f":"IF($G158=\"\",\"--\",INDEX('lista do wyboru'!$B$6:$F$160,$G158,4))","v":"--"},{"$f":"IF($G158=\"\",\"--\",INDEX('lista do wyboru'!$B$6:$F$160,$G158,5))","v":"--"},0,null,{"$f":"IF(FALSE = ISERROR(MATCH(TRUE,OFFSET('lista do wyboru'!$G$6:$G$160,G157,0),0)),G157+MATCH(TRUE,OFFSET('lista do wyboru'!$G$6:$G$160,G157,0),0),\"\")","v":""}]
[{"$f":"IF($G159=\"\",\"--\",INDEX('lista do wyboru'!$B$6:$F$160,$G159,1))","v":"--"},{"$f":"IF($G159=\"\",\"--\",INDEX('lista do wyboru'!$B$6:$F$160,$G159,2))","v":"--"},{"$f":"IF($G159=\"\",\"--\",INDEX('lista do wyboru'!$B$6:$F$160,$G159,4))","v":"--"},{"$f":"IF($G159=\"\",\"--\",INDEX('lista do wyboru'!$B$6:$F$160,$G159,5))","v":"--"},0,null,{"$f":"IF(FALSE = ISERROR(MATCH(TRUE,OFFSET('lista do wyboru'!$G$6:$G$160,G158,0),0)),G158+MATCH(TRUE,OFFSET('lista do wyboru'!$G$6:$G$160,G158,0),0),\"\")","v":""}]
[{"$f":"IF($G160=\"\",\"--\",INDEX('lista do wyboru'!$B$6:$F$160,$G160,1))","v":"--"},{"$f":"IF($G160=\"\",\"--\",INDEX('lista do wyboru'!$B$6:$F$160,$G160,2))","v":"--"},{"$f":"IF($G160=\"\",\"--\",INDEX('lista do wyboru'!$B$6:$F$160,$G160,4))","v":"--"},{"$f":"IF($G160=\"\",\"--\",INDEX('lista do wyboru'!$B$6:$F$160,$G160,5))","v":"--"},0,null,{"$f":"IF(FALSE = ISERROR(MATCH(TRUE,OFFSET('lista do wyboru'!$G$6:$G$160,G159,0),0)),G159+MATCH(TRUE,OFFSET('lista do wyboru'!$G$6:$G$160,G159,0),0),\"\")","v":""}]
[{"$f":"IF($G161=\"\",\"--\",INDEX('lista do wyboru'!$B$6:$F$160,$G161,1))","v":"--"},{"$f":"IF($G161=\"\",\"--\",INDEX('lista do wyboru'!$B$6:$F$160,$G161,2))","v":"--"},{"$f":"IF($G161=\"\",\"--\",INDEX('lista do wyboru'!$B$6:$F$160,$G161,4))","v":"--"},{"$f":"IF($G161=\"\",\"--\",INDEX('lista do wyboru'!$B$6:$F$160,$G161,5))","v":"--"},0,null,{"$f":"IF(FALSE = ISERROR(MATCH(TRUE,OFFSET('lista do wyboru'!$G$6:$G$160,G160,0),0)),G160+MATCH(TRUE,OFFSET('lista do wyboru'!$G$6:$G$160,G160,0),0),\"\")","v":""}]
[{"$f":"IF($G162=\"\",\"--\",INDEX('lista do wyboru'!$B$6:$F$160,$G162,1))","v":"--"},{"$f":"IF($G162=\"\",\"--\",INDEX('lista do wyboru'!$B$6:$F$160,$G162,2))","v":"--"},{"$f":"IF($G162=\"\",\"--\",INDEX('lista do wyboru'!$B$6:$F$160,$G162,4))","v":"--"},{"$f":"IF($G162=\"\",\"--\",INDEX('lista do wyboru'!$B$6:$F$160,$G162,5))","v":"--"},0,null,{"$f":"IF(FALSE = ISERROR(MATCH(TRUE,OFFSET('lista do wyboru'!$G$6:$G$160,G161,0),0)),G161+MATCH(TRUE,OFFSET('lista do wyboru'!$G$6:$G$160,G161,0),0),\"\")","v":""}]
[{"$f":"IF($G163=\"\",\"--\",INDEX('lista do wyboru'!$B$6:$F$160,$G163,1))","v":"--"},{"$f":"IF($G163=\"\",\"--\",INDEX('lista do wyboru'!$B$6:$F$160,$G163,2))","v":"--"},{"$f":"IF($G163=\"\",\"--\",INDEX('lista do wyboru'!$B$6:$F$160,$G163,4))","v":"--"},{"$f":"IF($G163=\"\",\"--\",INDEX('lista do wyboru'!$B$6:$F$160,$G163,5))","v":"--"},0,null,{"$f":"IF(FALSE = ISERROR(MATCH(TRUE,OFFSET('lista do wyboru'!$G$6:$G$160,G162,0),0)),G162+MATCH(TRUE,OFFSET('lista do wyboru'!$G$6:$G$160,G162,0),0),\"\")","v":""}]
[{"$f":"IF($G164=\"\",\"--\",INDEX('lista do wyboru'!$B$6:$F$160,$G164,1))","v":"--"},{"$f":"IF($G164=\"\",\"--\",INDEX('lista do wyboru'!$B$6:$F$160,$G164,2))","v":"--"},{"$f":"IF($G164=\"\",\"--\",INDEX('lista do wyboru'!$B$6:$F$160,$G164,4))","v":"--"},{"$f":"IF($G164=\"\",\"--\",INDEX('lista do wyboru'!$B$6:$F$160,$G164,5))","v":"--"},0,null,{"$f":"IF(FALSE = ISERROR(MATCH(TRUE,OFFSET('lista do wyboru'!$G$6:$G$160,G163,0),0)),G163+MATCH(TRUE,OFFSET('lista do wyboru'!$G$6:$G$160,G163,0),0),\"\")","v":""}]
[{"$f":"IF($G165=\"\",\"--\",INDEX('lista do wyboru'!$B$6:$F$160,$G165,1))","v":"--"},{"$f":"IF($G165=\"\",\"--\",INDEX('lista do wyboru'!$B$6:$F$160,$G165,2))","v":"--"},{"$f":"IF($G165=\"\",\"--\",INDEX('lista do wyboru'!$B$6:$F$160,$G165,4))","v":"--"},{"$f":"IF($G165=\"\",\"--\",INDEX('lista do wyboru'!$B$6:$F$160,$G165,5))","v":"--"},0,null,{"$f":"IF(FALSE = ISERROR(MATCH(TRUE,OFFSET('lista do wyboru'!$G$6:$G$160,G164,0),0)),G164+MATCH(TRUE,OFFSET('lista do wyboru'!$G$6:$G$160,G164,0),0),\"\")","v":""}]
[{"$f":"IF($G166=\"\",\"--\",INDEX('lista do wyboru'!$B$6:$F$160,$G166,1))","v":"--"},{"$f":"IF($G166=\"\",\"--\",INDEX('lista do wyboru'!$B$6:$F$160,$G166,2))","v":"--"},{"$f":"IF($G166=\"\",\"--\",INDEX('lista do wyboru'!$B$6:$F$160,$G166,4))","v":"--"},{"$f":"IF($G166=\"\",\"--\",INDEX('lista do wyboru'!$B$6:$F$160,$G166,5))","v":"--"},0,null,{"$f":"IF(FALSE = ISERROR(MATCH(TRUE,OFFSET('lista do wyboru'!$G$6:$G$160,G165,0),0)),G165+MATCH(TRUE,OFFSET('lista do wyboru'!$G$6:$G$160,G165,0),0),\"\")","v":""}]
[{"$f":"IF($G167=\"\",\"--\",INDEX('lista do wyboru'!$B$6:$F$160,$G167,1))","v":"--"},{"$f":"IF($G167=\"\",\"--\",INDEX('lista do wyboru'!$B$6:$F$160,$G167,2))","v":"--"},{"$f":"IF($G167=\"\",\"--\",INDEX('lista do wyboru'!$B$6:$F$160,$G167,4))","v":"--"},{"$f":"IF($G167=\"\",\"--\",INDEX('lista do wyboru'!$B$6:$F$160,$G167,5))","v":"--"},0,null,{"$f":"IF(FALSE = ISERROR(MATCH(TRUE,OFFSET('lista do wyboru'!$G$6:$G$160,G166,0),0)),G166+MATCH(TRUE,OFFSET('lista do wyboru'!$G$6:$G$160,G166,0),0),\"\")","v":""}]
[{"$f":"IF($G168=\"\",\"--\",INDEX('lista do wyboru'!$B$6:$F$160,$G168,1))","v":"--"},{"$f":"IF($G168=\"\",\"--\",INDEX('lista do wyboru'!$B$6:$F$160,$G168,2))","v":"--"},{"$f":"IF($G168=\"\",\"--\",INDEX('lista do wyboru'!$B$6:$F$160,$G168,4))","v":"--"},{"$f":"IF($G168=\"\",\"--\",INDEX('lista do wyboru'!$B$6:$F$160,$G168,5))","v":"--"},0,null,{"$f":"IF(FALSE = ISERROR(MATCH(TRUE,OFFSET('lista do wyboru'!$G$6:$G$160,G167,0),0)),G167+MATCH(TRUE,OFFSET('lista do wyboru'!$G$6:$G$160,G167,0),0),\"\")","v":""}]
[{"$f":"IF($G169=\"\",\"--\",INDEX('lista do wyboru'!$B$6:$F$160,$G169,1))","v":"--"},{"$f":"IF($G169=\"\",\"--\",INDEX('lista do wyboru'!$B$6:$F$160,$G169,2))","v":"--"},{"$f":"IF($G169=\"\",\"--\",INDEX('lista do wyboru'!$B$6:$F$160,$G169,4))","v":"--"},{"$f":"IF($G169=\"\",\"--\",INDEX('lista do wyboru'!$B$6:$F$160,$G169,5))","v":"--"},0,null,{"$f":"IF(FALSE = ISERROR(MATCH(TRUE,OFFSET('lista do wyboru'!$G$6:$G$160,G168,0),0)),G168+MATCH(TRUE,OFFSET('lista do wyboru'!$G$6:$G$160,G168,0),0),\"\")","v":""}]
[{"$f":"IF($G170=\"\",\"--\",INDEX('lista do wyboru'!$B$6:$F$160,$G170,1))","v":"--"},{"$f":"IF($G170=\"\",\"--\",INDEX('lista do wyboru'!$B$6:$F$160,$G170,2))","v":"--"},{"$f":"IF($G170=\"\",\"--\",INDEX('lista do wyboru'!$B$6:$F$160,$G170,4))","v":"--"},{"$f":"IF($G170=\"\",\"--\",INDEX('lista do wyboru'!$B$6:$F$160,$G170,5))","v":"--"},0,null,{"$f":"IF(FALSE = ISERROR(MATCH(TRUE,OFFSET('lista do wyboru'!$G$6:$G$160,G169,0),0)),G169+MATCH(TRUE,OFFSET('lista do wyboru'!$G$6:$G$160,G169,0),0),\"\")","v":""}]
[{"$f":"IF($G171=\"\",\"--\",INDEX('lista do wyboru'!$B$6:$F$160,$G171,1))","v":"--"},{"$f":"IF($G171=\"\",\"--\",INDEX('lista do wyboru'!$B$6:$F$160,$G171,2))","v":"--"},{"$f":"IF($G171=\"\",\"--\",INDEX('lista do wyboru'!$B$6:$F$160,$G171,4))","v":"--"},{"$f":"IF($G171=\"\",\"--\",INDEX('lista do wyboru'!$B$6:$F$160,$G171,5))","v":"--"},0,null,{"$f":"IF(FALSE = ISERROR(MATCH(TRUE,OFFSET('lista do wyboru'!$G$6:$G$160,G170,0),0)),G170+MATCH(TRUE,OFFSET('lista do wyboru'!$G$6:$G$160,G170,0),0),\"\")","v":""}]
[{"$f":"IF($G172=\"\",\"--\",INDEX('lista do wyboru'!$B$6:$F$160,$G172,1))","v":"--"},{"$f":"IF($G172=\"\",\"--\",INDEX('lista do wyboru'!$B$6:$F$160,$G172,2))","v":"--"},{"$f":"IF($G172=\"\",\"--\",INDEX('lista do wyboru'!$B$6:$F$160,$G172,4))","v":"--"},{"$f":"IF($G172=\"\",\"--\",INDEX('lista do wyboru'!$B$6:$F$160,$G172,5))","v":"--"},0,null,{"$f":"IF(FALSE = ISERROR(MATCH(TRUE,OFFSET('lista do wyboru'!$G$6:$G$160,G171,0),0)),G171+MATCH(TRUE,OFFSET('lista do wyboru'!$G$6:$G$160,G171,0),0),\"\")","v":""}]
[{"$f":"IF($G173=\"\",\"--\",INDEX('lista do wyboru'!$B$6:$F$160,$G173,1))","v":"--"},{"$f":"IF($G173=\"\",\"--\",INDEX('lista do wyboru'!$B$6:$F$160,$G173,2))","v":"--"},{"$f":"IF($G173=\"\",\"--\",INDEX('lista do wyboru'!$B$6:$F$160,$G173,4))","v":"--"},{"$f":"IF($G173=\"\",\"--\",INDEX('lista do wyboru'!$B$6:$F$160,$G173,5))","v":"--"},0,null,{"$f":"IF(FALSE = ISERROR(MATCH(TRUE,OFFSET('lista do wyboru'!$G$6:$G$160,G172,0),0)),G172+MATCH(TRUE,OFFSET('lista do wyboru'!$G$6:$G$160,G172,0),0),\"\")","v":""}]
[{"$f":"IF($G174=\"\",\"--\",INDEX('lista do wyboru'!$B$6:$F$160,$G174,1))","v":"--"},{"$f":"IF($G174=\"\",\"--\",INDEX('lista do wyboru'!$B$6:$F$160,$G174,2))","v":"--"},{"$f":"IF($G174=\"\",\"--\",INDEX('lista do wyboru'!$B$6:$F$160,$G174,4))","v":"--"},{"$f":"IF($G174=\"\",\"--\",INDEX('lista do wyboru'!$B$6:$F$160,$G174,5))","v":"--"},0,null,{"$f":"IF(FALSE = ISERROR(MATCH(TRUE,OFFSET('lista do wyboru'!$G$6:$G$160,G173,0),0)),G173+MATCH(TRUE,OFFSET('lista do wyboru'!$G$6:$G$160,G173,0),0),\"\")","v":""}]
[{"$f":"IF($G175=\"\",\"--\",INDEX('lista do wyboru'!$B$6:$F$160,$G175,1))","v":"--"},{"$f":"IF($G175=\"\",\"--\",INDEX('lista do wyboru'!$B$6:$F$160,$G175,2))","v":"--"},{"$f":"IF($G175=\"\",\"--\",INDEX('lista do wyboru'!$B$6:$F$160,$G175,4))","v":"--"},{"$f":"IF($G175=\"\",\"--\",INDEX('lista do wyboru'!$B$6:$F$160,$G175,5))","v":"--"},0,null,{"$f":"IF(FALSE = ISERROR(MATCH(TRUE,OFFSET('lista do wyboru'!$G$6:$G$160,G174,0),0)),G174+MATCH(TRUE,OFFSET('lista do wyboru'!$G$6:$G$160,G174,0),0),\"\")","v":""}]
[{"$f":"IF($G176=\"\",\"--\",INDEX('lista do wyboru'!$B$6:$F$160,$G176,1))","v":"--"},{"$f":"IF($G176=\"\",\"--\",INDEX('lista do wyboru'!$B$6:$F$160,$G176,2))","v":"--"},{"$f":"IF($G176=\"\",\"--\",INDEX('lista do wyboru'!$B$6:$F$160,$G176,4))","v":"--"},{"$f":"IF($G176=\"\",\"--\",INDEX('lista do wyboru'!$B$6:$F$160,$G176,5))","v":"--"},0,null,{"$f":"IF(FALSE = ISERROR(MATCH(TRUE,OFFSET('lista do wyboru'!$G$6:$G$160,G175,0),0)),G175+MATCH(TRUE,OFFSET('lista do wyboru'!$G$6:$G$160,G175,0),0),\"\")","v":""}]
[{"$f":"IF($G177=\"\",\"--\",INDEX('lista do wyboru'!$B$6:$F$160,$G177,1))","v":"--"},{"$f":"IF($G177=\"\",\"--\",INDEX('lista do wyboru'!$B$6:$F$160,$G177,2))","v":"--"},{"$f":"IF($G177=\"\",\"--\",INDEX('lista do wyboru'!$B$6:$F$160,$G177,4))","v":"--"},{"$f":"IF($G177=\"\",\"--\",INDEX('lista do wyboru'!$B$6:$F$160,$G177,5))","v":"--"},0,null,{"$f":"IF(FALSE = ISERROR(MATCH(TRUE,OFFSET('lista do wyboru'!$G$6:$G$160,G176,0),0)),G176+MATCH(TRUE,OFFSET('lista do wyboru'!$G$6:$G$160,G176,0),0),\"\")","v":""}]
[{"$f":"IF($G178=\"\",\"--\",INDEX('lista do wyboru'!$B$6:$F$160,$G178,1))","v":"--"},{"$f":"IF($G178=\"\",\"--\",INDEX('lista do wyboru'!$B$6:$F$160,$G178,2))","v":"--"},{"$f":"IF($G178=\"\",\"--\",INDEX('lista do wyboru'!$B$6:$F$160,$G178,4))","v":"--"},{"$f":"IF($G178=\"\",\"--\",INDEX('lista do wyboru'!$B$6:$F$160,$G178,5))","v":"--"},0,null,{"$f":"IF(FALSE = ISERROR(MATCH(TRUE,OFFSET('lista do wyboru'!$G$6:$G$160,G177,0),0)),G177+MATCH(TRUE,OFFSET('lista do wyboru'!$G$6:$G$160,G177,0),0),\"\")","v":""}]
[{"$f":"IF($G179=\"\",\"--\",INDEX('lista do wyboru'!$B$6:$F$160,$G179,1))","v":"--"},{"$f":"IF($G179=\"\",\"--\",INDEX('lista do wyboru'!$B$6:$F$160,$G179,2))","v":"--"},{"$f":"IF($G179=\"\",\"--\",INDEX('lista do wyboru'!$B$6:$F$160,$G179,4))","v":"--"},{"$f":"IF($G179=\"\",\"--\",INDEX('lista do wyboru'!$B$6:$F$160,$G179,5))","v":"--"},0,null,{"$f":"IF(FALSE = ISERROR(MATCH(TRUE,OFFSET('lista do wyboru'!$G$6:$G$160,G178,0),0)),G178+MATCH(TRUE,OFFSET('lista do wyboru'!$G$6:$G$160,G178,0),0),\"\")","v":""}]
[{"$f":"IF($G180=\"\",\"--\",INDEX('lista do wyboru'!$B$6:$F$160,$G180,1))","v":"--"},{"$f":"IF($G180=\"\",\"--\",INDEX('lista do wyboru'!$B$6:$F$160,$G180,2))","v":"--"},{"$f":"IF($G180=\"\",\"--\",INDEX('lista do wyboru'!$B$6:$F$160,$G180,4))","v":"--"},{"$f":"IF($G180=\"\",\"--\",INDEX('lista do wyboru'!$B$6:$F$160,$G180,5))","v":"--"},0,null,{"$f":"IF(FALSE = ISERROR(MATCH(TRUE,OFFSET('lista do wyboru'!$G$6:$G$160,G179,0),0)),G179+MATCH(TRUE,OFFSET('lista do wyboru'!$G$6:$G$160,G179,0),0),\"\")","v":""}]
[{"$f":"IF($G181=\"\",\"--\",INDEX('lista do wyboru'!$B$6:$F$160,$G181,1))","v":"--"},{"$f":"IF($G181=\"\",\"--\",INDEX('lista do wyboru'!$B$6:$F$160,$G181,2))","v":"--"},{"$f":"IF($G181=\"\",\"--\",INDEX('lista do wyboru'!$B$6:$F$160,$G181,4))","v":"--"},{"$f":"IF($G181=\"\",\"--\",INDEX('lista do wyboru'!$B$6:$F$160,$G181,5))","v":"--"},0,null,{"$f":"IF(FALSE = ISERROR(MATCH(TRUE,OFFSET('lista do wyboru'!$G$6:$G$160,G180,0),0)),G180+MATCH(TRUE,OFFSET('lista do wyboru'!$G$6:$G$160,G180,0),0),\"\")","v":""}]
[{"$f":"IF($G182=\"\",\"--\",INDEX('lista do wyboru'!$B$6:$F$160,$G182,1))","v":"--"},{"$f":"IF($G182=\"\",\"--\",INDEX('lista do wyboru'!$B$6:$F$160,$G182,2))","v":"--"},{"$f":"IF($G182=\"\",\"--\",INDEX('lista do wyboru'!$B$6:$F$160,$G182,4))","v":"--"},{"$f":"IF($G182=\"\",\"--\",INDEX('lista do wyboru'!$B$6:$F$160,$G182,5))","v":"--"},0,null,{"$f":"IF(FALSE = ISERROR(MATCH(TRUE,OFFSET('lista do wyboru'!$G$6:$G$160,G181,0),0)),G181+MATCH(TRUE,OFFSET('lista do wyboru'!$G$6:$G$160,G181,0),0),\"\")","v":""}]
[{"$f":"IF($G183=\"\",\"--\",INDEX('lista do wyboru'!$B$6:$F$160,$G183,1))","v":"--"},{"$f":"IF($G183=\"\",\"--\",INDEX('lista do wyboru'!$B$6:$F$160,$G183,2))","v":"--"},{"$f":"IF($G183=\"\",\"--\",INDEX('lista do wyboru'!$B$6:$F$160,$G183,4))","v":"--"},{"$f":"IF($G183=\"\",\"--\",INDEX('lista do wyboru'!$B$6:$F$160,$G183,5))","v":"--"},0,null,{"$f":"IF(FALSE = ISERROR(MATCH(TRUE,OFFSET('lista do wyboru'!$G$6:$G$160,G182,0),0)),G182+MATCH(TRUE,OFFSET('lista do wyboru'!$G$6:$G$160,G182,0),0),\"\")","v":""}]
[{"$f":"IF($G184=\"\",\"--\",INDEX('lista do wyboru'!$B$6:$F$160,$G184,1))","v":"--"},{"$f":"IF($G184=\"\",\"--\",INDEX('lista do wyboru'!$B$6:$F$160,$G184,2))","v":"--"},{"$f":"IF($G184=\"\",\"--\",INDEX('lista do wyboru'!$B$6:$F$160,$G184,4))","v":"--"},{"$f":"IF($G184=\"\",\"--\",INDEX('lista do wyboru'!$B$6:$F$160,$G184,5))","v":"--"},0,null,{"$f":"IF(FALSE = ISERROR(MATCH(TRUE,OFFSET('lista do wyboru'!$G$6:$G$160,G183,0),0)),G183+MATCH(TRUE,OFFSET('lista do wyboru'!$G$6:$G$160,G183,0),0),\"\")","v":""}]
[{"$f":"IF($G185=\"\",\"--\",INDEX('lista do wyboru'!$B$6:$F$160,$G185,1))","v":"--"},{"$f":"IF($G185=\"\",\"--\",INDEX('lista do wyboru'!$B$6:$F$160,$G185,2))","v":"--"},{"$f":"IF($G185=\"\",\"--\",INDEX('lista do wyboru'!$B$6:$F$160,$G185,4))","v":"--"},{"$f":"IF($G185=\"\",\"--\",INDEX('lista do wyboru'!$B$6:$F$160,$G185,5))","v":"--"},0,null,{"$f":"IF(FALSE = ISERROR(MATCH(TRUE,OFFSET('lista do wyboru'!$G$6:$G$160,G184,0),0)),G184+MATCH(TRUE,OFFSET('lista do wyboru'!$G$6:$G$160,G184,0),0),\"\")","v":""}]
[{"$f":"IF($G186=\"\",\"--\",INDEX('lista do wyboru'!$B$6:$F$160,$G186,1))","v":"--"},{"$f":"IF($G186=\"\",\"--\",INDEX('lista do wyboru'!$B$6:$F$160,$G186,2))","v":"--"},{"$f":"IF($G186=\"\",\"--\",INDEX('lista do wyboru'!$B$6:$F$160,$G186,4))","v":"--"},{"$f":"IF($G186=\"\",\"--\",INDEX('lista do wyboru'!$B$6:$F$160,$G186,5))","v":"--"},0,null,{"$f":"IF(FALSE = ISERROR(MATCH(TRUE,OFFSET('lista do wyboru'!$G$6:$G$160,G185,0),0)),G185+MATCH(TRUE,OFFSET('lista do wyboru'!$G$6:$G$160,G185,0),0),\"\")","v":""}]
[{"$f":"IF($G187=\"\",\"--\",INDEX('lista do wyboru'!$B$6:$F$160,$G187,1))","v":"--"},{"$f":"IF($G187=\"\",\"--\",INDEX('lista do wyboru'!$B$6:$F$160,$G187,2))","v":"--"},{"$f":"IF($G187=\"\",\"--\",INDEX('lista do wyboru'!$B$6:$F$160,$G187,4))","v":"--"},{"$f":"IF($G187=\"\",\"--\",INDEX('lista do wyboru'!$B$6:$F$160,$G187,5))","v":"--"},0,null,{"$f":"IF(FALSE = ISERROR(MATCH(TRUE,OFFSET('lista do wyboru'!$G$6:$G$160,G186,0),0)),G186+MATCH(TRUE,OFFSET('lista do wyboru'!$G$6:$G$160,G186,0),0),\"\")","v":""}]
[{"$f":"IF($G188=\"\",\"--\",INDEX('lista do wyboru'!$B$6:$F$160,$G188,1))","v":"--"},{"$f":"IF($G188=\"\",\"--\",INDEX('lista do wyboru'!$B$6:$F$160,$G188,2))","v":"--"},{"$f":"IF($G188=\"\",\"--\",INDEX('lista do wyboru'!$B$6:$F$160,$G188,4))","v":"--"},{"$f":"IF($G188=\"\",\"--\",INDEX('lista do wyboru'!$B$6:$F$160,$G188,5))","v":"--"},0,null,{"$f":"IF(FALSE = ISERROR(MATCH(TRUE,OFFSET('lista do wyboru'!$G$6:$G$160,G187,0),0)),G187+MATCH(TRUE,OFFSET('lista do wyboru'!$G$6:$G$160,G187,0),0),\"\")","v":""}]
[{"$f":"IF($G189=\"\",\"--\",INDEX('lista do wyboru'!$B$6:$F$160,$G189,1))","v":"--"},{"$f":"IF($G189=\"\",\"--\",INDEX('lista do wyboru'!$B$6:$F$160,$G189,2))","v":"--"},{"$f":"IF($G189=\"\",\"--\",INDEX('lista do wyboru'!$B$6:$F$160,$G189,4))","v":"--"},{"$f":"IF($G189=\"\",\"--\",INDEX('lista do wyboru'!$B$6:$F$160,$G189,5))","v":"--"},0,null,{"$f":"IF(FALSE = ISERROR(MATCH(TRUE,OFFSET('lista do wyboru'!$G$6:$G$160,G188,0),0)),G188+MATCH(TRUE,OFFSET('lista do wyboru'!$G$6:$G$160,G188,0),0),\"\")","v":""}]
[{"$f":"IF($G190=\"\",\"--\",INDEX('lista do wyboru'!$B$6:$F$160,$G190,1))","v":"--"},{"$f":"IF($G190=\"\",\"--\",INDEX('lista do wyboru'!$B$6:$F$160,$G190,2))","v":"--"},{"$f":"IF($G190=\"\",\"--\",INDEX('lista do wyboru'!$B$6:$F$160,$G190,4))","v":"--"},{"$f":"IF($G190=\"\",\"--\",INDEX('lista do wyboru'!$B$6:$F$160,$G190,5))","v":"--"},0,null,{"$f":"IF(FALSE = ISERROR(MATCH(TRUE,OFFSET('lista do wyboru'!$G$6:$G$160,G189,0),0)),G189+MATCH(TRUE,OFFSET('lista do wyboru'!$G$6:$G$160,G189,0),0),\"\")","v":""}]
[{"$f":"IF($G191=\"\",\"--\",INDEX('lista do wyboru'!$B$6:$F$160,$G191,1))","v":"--"},{"$f":"IF($G191=\"\",\"--\",INDEX('lista do wyboru'!$B$6:$F$160,$G191,2))","v":"--"},{"$f":"IF($G191=\"\",\"--\",INDEX('lista do wyboru'!$B$6:$F$160,$G191,4))","v":"--"},{"$f":"IF($G191=\"\",\"--\",INDEX('lista do wyboru'!$B$6:$F$160,$G191,5))","v":"--"},0,null,{"$f":"IF(FALSE = ISERROR(MATCH(TRUE,OFFSET('lista do wyboru'!$G$6:$G$160,G190,0),0)),G190+MATCH(TRUE,OFFSET('lista do wyboru'!$G$6:$G$160,G190,0),0),\"\")","v":""}]
[{"$f":"IF($G192=\"\",\"--\",INDEX('lista do wyboru'!$B$6:$F$160,$G192,1))","v":"--"},{"$f":"IF($G192=\"\",\"--\",INDEX('lista do wyboru'!$B$6:$F$160,$G192,2))","v":"--"},{"$f":"IF($G192=\"\",\"--\",INDEX('lista do wyboru'!$B$6:$F$160,$G192,4))","v":"--"},{"$f":"IF($G192=\"\",\"--\",INDEX('lista do wyboru'!$B$6:$F$160,$G192,5))","v":"--"},0,null,{"$f":"IF(FALSE = ISERROR(MATCH(TRUE,OFFSET('lista do wyboru'!$G$6:$G$160,G191,0),0)),G191+MATCH(TRUE,OFFSET('lista do wyboru'!$G$6:$G$160,G191,0),0),\"\")","v":""}]
[{"$f":"IF($G193=\"\",\"--\",INDEX('lista do wyboru'!$B$6:$F$160,$G193,1))","v":"--"},{"$f":"IF($G193=\"\",\"--\",INDEX('lista do wyboru'!$B$6:$F$160,$G193,2))","v":"--"},{"$f":"IF($G193=\"\",\"--\",INDEX('lista do wyboru'!$B$6:$F$160,$G193,4))","v":"--"},{"$f":"IF($G193=\"\",\"--\",INDEX('lista do wyboru'!$B$6:$F$160,$G193,5))","v":"--"},0,null,{"$f":"IF(FALSE = ISERROR(MATCH(TRUE,OFFSET('lista do wyboru'!$G$6:$G$160,G192,0),0)),G192+MATCH(TRUE,OFFSET('lista do wyboru'!$G$6:$G$160,G192,0),0),\"\")","v":""}]
[{"$f":"IF($G194=\"\",\"--\",INDEX('lista do wyboru'!$B$6:$F$160,$G194,1))","v":"--"},{"$f":"IF($G194=\"\",\"--\",INDEX('lista do wyboru'!$B$6:$F$160,$G194,2))","v":"--"},{"$f":"IF($G194=\"\",\"--\",INDEX('lista do wyboru'!$B$6:$F$160,$G194,4))","v":"--"},{"$f":"IF($G194=\"\",\"--\",INDEX('lista do wyboru'!$B$6:$F$160,$G194,5))","v":"--"},0,null,{"$f":"IF(FALSE = ISERROR(MATCH(TRUE,OFFSET('lista do wyboru'!$G$6:$G$160,G193,0),0)),G193+MATCH(TRUE,OFFSET('lista do wyboru'!$G$6:$G$160,G193,0),0),\"\")","v":""}]
[{"$f":"IF($G195=\"\",\"--\",INDEX('lista do wyboru'!$B$6:$F$160,$G195,1))","v":"--"},{"$f":"IF($G195=\"\",\"--\",INDEX('lista do wyboru'!$B$6:$F$160,$G195,2))","v":"--"},{"$f":"IF($G195=\"\",\"--\",INDEX('lista do wyboru'!$B$6:$F$160,$G195,4))","v":"--"},{"$f":"IF($G195=\"\",\"--\",INDEX('lista do wyboru'!$B$6:$F$160,$G195,5))","v":"--"},0,null,{"$f":"IF(FALSE = ISERROR(MATCH(TRUE,OFFSET('lista do wyboru'!$G$6:$G$160,G194,0),0)),G194+MATCH(TRUE,OFFSET('lista do wyboru'!$G$6:$G$160,G194,0),0),\"\")","v":""}]
[{"$f":"IF($G196=\"\",\"--\",INDEX('lista do wyboru'!$B$6:$F$160,$G196,1))","v":"--"},{"$f":"IF($G196=\"\",\"--\",INDEX('lista do wyboru'!$B$6:$F$160,$G196,2))","v":"--"},{"$f":"IF($G196=\"\",\"--\",INDEX('lista do wyboru'!$B$6:$F$160,$G196,4))","v":"--"},{"$f":"IF($G196=\"\",\"--\",INDEX('lista do wyboru'!$B$6:$F$160,$G196,5))","v":"--"},0,null,{"$f":"IF(FALSE = ISERROR(MATCH(TRUE,OFFSET('lista do wyboru'!$G$6:$G$160,G195,0),0)),G195+MATCH(TRUE,OFFSET('lista do wyboru'!$G$6:$G$160,G195,0),0),\"\")","v":""}]
[{"$f":"IF($G197=\"\",\"--\",INDEX('lista do wyboru'!$B$6:$F$160,$G197,1))","v":"--"},{"$f":"IF($G197=\"\",\"--\",INDEX('lista do wyboru'!$B$6:$F$160,$G197,2))","v":"--"},{"$f":"IF($G197=\"\",\"--\",INDEX('lista do wyboru'!$B$6:$F$160,$G197,4))","v":"--"},{"$f":"IF($G197=\"\",\"--\",INDEX('lista do wyboru'!$B$6:$F$160,$G197,5))","v":"--"},0,null,{"$f":"IF(FALSE = ISERROR(MATCH(TRUE,OFFSET('lista do wyboru'!$G$6:$G$160,G196,0),0)),G196+MATCH(TRUE,OFFSET('lista do wyboru'!$G$6:$G$160,G196,0),0),\"\")","v":""}]
[{"$f":"IF($G198=\"\",\"--\",INDEX('lista do wyboru'!$B$6:$F$160,$G198,1))","v":"--"},{"$f":"IF($G198=\"\",\"--\",INDEX('lista do wyboru'!$B$6:$F$160,$G198,2))","v":"--"},{"$f":"IF($G198=\"\",\"--\",INDEX('lista do wyboru'!$B$6:$F$160,$G198,4))","v":"--"},{"$f":"IF($G198=\"\",\"--\",INDEX('lista do wyboru'!$B$6:$F$160,$G198,5))","v":"--"},{"$f":"IF(C198 = \"--\",0,D198*C198)","v":0},null,{"$f":"IF(FALSE = ISERROR(MATCH(TRUE,OFFSET('lista do wyboru'!$G$6:$G$160,G197,0),0)),G197+MATCH(TRUE,OFFSET('lista do wyboru'!$G$6:$G$160,G197,0),0),\"\")","v":""}]
[{"$f":"IF($G199=\"\",\"--\",INDEX('lista do wyboru'!$B$6:$F$160,$G199,1))","v":"--"},{"$f":"IF($G199=\"\",\"--\",INDEX('lista do wyboru'!$B$6:$F$160,$G199,2))","v":"--"},{"$f":"IF($G199=\"\",\"--\",INDEX('lista do wyboru'!$B$6:$F$160,$G199,4))","v":"--"},{"$f":"IF($G199=\"\",\"--\",INDEX('lista do wyboru'!$B$6:$F$160,$G199,5))","v":"--"},0,null,{"$f":"IF(FALSE = ISERROR(MATCH(TRUE,OFFSET('lista do wyboru'!$G$6:$G$160,G198,0),0)),G198+MATCH(TRUE,OFFSET('lista do wyboru'!$G$6:$G$160,G198,0),0),\"\")","v":""}]
[{"$f":"IF($G200=\"\",\"--\",INDEX('lista do wyboru'!$B$6:$F$160,$G200,1))","v":"--"},{"$f":"IF($G200=\"\",\"--\",INDEX('lista do wyboru'!$B$6:$F$160,$G200,2))","v":"--"},{"$f":"IF($G200=\"\",\"--\",INDEX('lista do wyboru'!$B$6:$F$160,$G200,4))","v":"--"},{"$f":"IF($G200=\"\",\"--\",INDEX('lista do wyboru'!$B$6:$F$160,$G200,5))","v":"--"},0,null,{"$f":"IF(FALSE = ISERROR(MATCH(TRUE,OFFSET('lista do wyboru'!$G$6:$G$160,G199,0),0)),G199+MATCH(TRUE,OFFSET('lista do wyboru'!$G$6:$G$160,G199,0),0),\"\")","v":""}]
[{"$f":"IF($G201=\"\",\"--\",INDEX('lista do wyboru'!$B$6:$F$160,$G201,1))","v":"--"},{"$f":"IF($G201=\"\",\"--\",INDEX('lista do wyboru'!$B$6:$F$160,$G201,2))","v":"--"},{"$f":"IF($G201=\"\",\"--\",INDEX('lista do wyboru'!$B$6:$F$160,$G201,4))","v":"--"},{"$f":"IF($G201=\"\",\"--\",INDEX('lista do wyboru'!$B$6:$F$160,$G201,5))","v":"--"},0,null,{"$f":"IF(FALSE = ISERROR(MATCH(TRUE,OFFSET('lista do wyboru'!$G$6:$G$160,G200,0),0)),G200+MATCH(TRUE,OFFSET('lista do wyboru'!$G$6:$G$160,G200,0),0),\"\")","v":""}]
[{"$f":"IF($G202=\"\",\"--\",INDEX('lista do wyboru'!$B$6:$F$160,$G202,1))","v":"--"},{"$f":"IF($G202=\"\",\"--\",INDEX('lista do wyboru'!$B$6:$F$160,$G202,2))","v":"--"},{"$f":"IF($G202=\"\",\"--\",INDEX('lista do wyboru'!$B$6:$F$160,$G202,4))","v":"--"},{"$f":"IF($G202=\"\",\"--\",INDEX('lista do wyboru'!$B$6:$F$160,$G202,5))","v":"--"},0,null,{"$f":"IF(FALSE = ISERROR(MATCH(TRUE,OFFSET('lista do wyboru'!$G$6:$G$160,G201,0),0)),G201+MATCH(TRUE,OFFSET('lista do wyboru'!$G$6:$G$160,G201,0),0),\"\")","v":""}]
[{"$f":"IF($G203=\"\",\"--\",INDEX('lista do wyboru'!$B$6:$F$160,$G203,1))","v":"--"},{"$f":"IF($G203=\"\",\"--\",INDEX('lista do wyboru'!$B$6:$F$160,$G203,2))","v":"--"},{"$f":"IF($G203=\"\",\"--\",INDEX('lista do wyboru'!$B$6:$F$160,$G203,4))","v":"--"},{"$f":"IF($G203=\"\",\"--\",INDEX('lista do wyboru'!$B$6:$F$160,$G203,5))","v":"--"},0,null,{"$f":"IF(FALSE = ISERROR(MATCH(TRUE,OFFSET('lista do wyboru'!$G$6:$G$160,G202,0),0)),G202+MATCH(TRUE,OFFSET('lista do wyboru'!$G$6:$G$160,G202,0),0),\"\")","v":""}]
[{"$f":"IF($G204=\"\",\"--\",INDEX('lista do wyboru'!$B$6:$F$160,$G204,1))","v":"--"},{"$f":"IF($G204=\"\",\"--\",INDEX('lista do wyboru'!$B$6:$F$160,$G204,2))","v":"--"},{"$f":"IF($G204=\"\",\"--\",INDEX('lista do wyboru'!$B$6:$F$160,$G204,4))","v":"--"},{"$f":"IF($G204=\"\",\"--\",INDEX('lista do wyboru'!$B$6:$F$160,$G204,5))","v":"--"},0,null,{"$f":"IF(FALSE = ISERROR(MATCH(TRUE,OFFSET('lista do wyboru'!$G$6:$G$160,G203,0),0)),G203+MATCH(TRUE,OFFSET('lista do wyboru'!$G$6:$G$160,G203,0),0),\"\")","v":""}]
[{"$f":"IF($G205=\"\",\"--\",INDEX('lista do wyboru'!$B$6:$F$160,$G205,1))","v":"--"},{"$f":"IF($G205=\"\",\"--\",INDEX('lista do wyboru'!$B$6:$F$160,$G205,2))","v":"--"},{"$f":"IF($G205=\"\",\"--\",INDEX('lista do wyboru'!$B$6:$F$160,$G205,4))","v":"--"},{"$f":"IF($G205=\"\",\"--\",INDEX('lista do wyboru'!$B$6:$F$160,$G205,5))","v":"--"},0,null,{"$f":"IF(FALSE = ISERROR(MATCH(TRUE,OFFSET('lista do wyboru'!$G$6:$G$160,G204,0),0)),G204+MATCH(TRUE,OFFSET('lista do wyboru'!$G$6:$G$160,G204,0),0),\"\")","v":""}]
[{"$f":"IF($G206=\"\",\"--\",INDEX('lista do wyboru'!$B$6:$F$160,$G206,1))","v":"--"},{"$f":"IF($G206=\"\",\"--\",INDEX('lista do wyboru'!$B$6:$F$160,$G206,2))","v":"--"},{"$f":"IF($G206=\"\",\"--\",INDEX('lista do wyboru'!$B$6:$F$160,$G206,4))","v":"--"},{"$f":"IF($G206=\"\",\"--\",INDEX('lista do wyboru'!$B$6:$F$160,$G206,5))","v":"--"},0,null,{"$f":"IF(FALSE = ISERROR(MATCH(TRUE,OFFSET('lista do wyboru'!$G$6:$G$160,G205,0),0)),G205+MATCH(TRUE,OFFSET('lista do wyboru'!$G$6:$G$160,G205,0),0),\"\")","v":""}]
[{"$f":"IF($G207=\"\",\"--\",INDEX('lista do wyboru'!$B$6:$F$160,$G207,1))","v":"--"},{"$f":"IF($G207=\"\",\"--\",INDEX('lista do wyboru'!$B$6:$F$160,$G207,2))","v":"--"},{"$f":"IF($G207=\"\",\"--\",INDEX('lista do wyboru'!$B$6:$F$160,$G207,4))","v":"--"},{"$f":"IF($G207=\"\",\"--\",INDEX('lista do wyboru'!$B$6:$F$160,$G207,5))","v":"--"},0,null,{"$f":"IF(FALSE = ISERROR(MATCH(TRUE,OFFSET('lista do wyboru'!$G$6:$G$160,G206,0),0)),G206+MATCH(TRUE,OFFSET('lista do wyboru'!$G$6:$G$160,G206,0),0),\"\")","v":""}]
[{"$f":"IF($G208=\"\",\"--\",INDEX('lista do wyboru'!$B$6:$F$160,$G208,1))","v":"--"},{"$f":"IF($G208=\"\",\"--\",INDEX('lista do wyboru'!$B$6:$F$160,$G208,2))","v":"--"},{"$f":"IF($G208=\"\",\"--\",INDEX('lista do wyboru'!$B$6:$F$160,$G208,4))","v":"--"},{"$f":"IF($G208=\"\",\"--\",INDEX('lista do wyboru'!$B$6:$F$160,$G208,5))","v":"--"},0,null,{"$f":"IF(FALSE = ISERROR(MATCH(TRUE,OFFSET('lista do wyboru'!$G$6:$G$160,G207,0),0)),G207+MATCH(TRUE,OFFSET('lista do wyboru'!$G$6:$G$160,G207,0),0),\"\")","v":""}]
[{"$f":"IF($G209=\"\",\"--\",INDEX('lista do wyboru'!$B$6:$F$160,$G209,1))","v":"--"},{"$f":"IF($G209=\"\",\"--\",INDEX('lista do wyboru'!$B$6:$F$160,$G209,2))","v":"--"},{"$f":"IF($G209=\"\",\"--\",INDEX('lista do wyboru'!$B$6:$F$160,$G209,4))","v":"--"},{"$f":"IF($G209=\"\",\"--\",INDEX('lista do wyboru'!$B$6:$F$160,$G209,5))","v":"--"},0,null,{"$f":"IF(FALSE = ISERROR(MATCH(TRUE,OFFSET('lista do wyboru'!$G$6:$G$160,G208,0),0)),G208+MATCH(TRUE,OFFSET('lista do wyboru'!$G$6:$G$160,G208,0),0),\"\")","v":""}]
[{"$f":"IF($G210=\"\",\"--\",INDEX('lista do wyboru'!$B$6:$F$160,$G210,1))","v":"--"},{"$f":"IF($G210=\"\",\"--\",INDEX('lista do wyboru'!$B$6:$F$160,$G210,2))","v":"--"},{"$f":"IF($G210=\"\",\"--\",INDEX('lista do wyboru'!$B$6:$F$160,$G210,4))","v":"--"},{"$f":"IF($G210=\"\",\"--\",INDEX('lista do wyboru'!$B$6:$F$160,$G210,5))","v":"--"},0,null,{"$f":"IF(FALSE = ISERROR(MATCH(TRUE,OFFSET('lista do wyboru'!$G$6:$G$160,G209,0),0)),G209+MATCH(TRUE,OFFSET('lista do wyboru'!$G$6:$G$160,G209,0),0),\"\")","v":""}]
[{"$f":"IF($G211=\"\",\"--\",INDEX('lista do wyboru'!$B$6:$F$160,$G211,1))","v":"--"},{"$f":"IF($G211=\"\",\"--\",INDEX('lista do wyboru'!$B$6:$F$160,$G211,2))","v":"--"},{"$f":"IF($G211=\"\",\"--\",INDEX('lista do wyboru'!$B$6:$F$160,$G211,4))","v":"--"},{"$f":"IF($G211=\"\",\"--\",INDEX('lista do wyboru'!$B$6:$F$160,$G211,5))","v":"--"},0,null,{"$f":"IF(FALSE = ISERROR(MATCH(TRUE,OFFSET('lista do wyboru'!$G$6:$G$160,G210,0),0)),G210+MATCH(TRUE,OFFSET('lista do wyboru'!$G$6:$G$160,G210,0),0),\"\")","v":""}]
[{"$f":"IF($G212=\"\",\"--\",INDEX('lista do wyboru'!$B$6:$F$160,$G212,1))","v":"--"},{"$f":"IF($G212=\"\",\"--\",INDEX('lista do wyboru'!$B$6:$F$160,$G212,2))","v":"--"},{"$f":"IF($G212=\"\",\"--\",INDEX('lista do wyboru'!$B$6:$F$160,$G212,4))","v":"--"},{"$f":"IF($G212=\"\",\"--\",INDEX('lista do wyboru'!$B$6:$F$160,$G212,5))","v":"--"},0,null,{"$f":"IF(FALSE = ISERROR(MATCH(TRUE,OFFSET('lista do wyboru'!$G$6:$G$160,G211,0),0)),G211+MATCH(TRUE,OFFSET('lista do wyboru'!$G$6:$G$160,G211,0),0),\"\")","v":""}]
[{"$f":"IF($G213=\"\",\"--\",INDEX('lista do wyboru'!$B$6:$F$160,$G213,1))","v":"--"},{"$f":"IF($G213=\"\",\"--\",INDEX('lista do wyboru'!$B$6:$F$160,$G213,2))","v":"--"},{"$f":"IF($G213=\"\",\"--\",INDEX('lista do wyboru'!$B$6:$F$160,$G213,4))","v":"--"},{"$f":"IF($G213=\"\",\"--\",INDEX('lista do wyboru'!$B$6:$F$160,$G213,5))","v":"--"},0,null,{"$f":"IF(FALSE = ISERROR(MATCH(TRUE,OFFSET('lista do wyboru'!$G$6:$G$160,G212,0),0)),G212+MATCH(TRUE,OFFSET('lista do wyboru'!$G$6:$G$160,G212,0),0),\"\")","v":""}]
[{"$f":"IF($G214=\"\",\"--\",INDEX('lista do wyboru'!$B$6:$F$160,$G214,1))","v":"--"},{"$f":"IF($G214=\"\",\"--\",INDEX('lista do wyboru'!$B$6:$F$160,$G214,2))","v":"--"},{"$f":"IF($G214=\"\",\"--\",INDEX('lista do wyboru'!$B$6:$F$160,$G214,4))","v":"--"},{"$f":"IF($G214=\"\",\"--\",INDEX('lista do wyboru'!$B$6:$F$160,$G214,5))","v":"--"},0,null,{"$f":"IF(FALSE = ISERROR(MATCH(TRUE,OFFSET('lista do wyboru'!$G$6:$G$160,G213,0),0)),G213+MATCH(TRUE,OFFSET('lista do wyboru'!$G$6:$G$160,G213,0),0),\"\")","v":""}]
[{"$f":"IF($G215=\"\",\"--\",INDEX('lista do wyboru'!$B$6:$F$160,$G215,1))","v":"--"},{"$f":"IF($G215=\"\",\"--\",INDEX('lista do wyboru'!$B$6:$F$160,$G215,2))","v":"--"},{"$f":"IF($G215=\"\",\"--\",INDEX('lista do wyboru'!$B$6:$F$160,$G215,4))","v":"--"},{"$f":"IF($G215=\"\",\"--\",INDEX('lista do wyboru'!$B$6:$F$160,$G215,5))","v":"--"},0,null,{"$f":"IF(FALSE = ISERROR(MATCH(TRUE,OFFSET('lista do wyboru'!$G$6:$G$160,G214,0),0)),G214+MATCH(TRUE,OFFSET('lista do wyboru'!$G$6:$G$160,G214,0),0),\"\")","v":""}]
[{"$f":"IF($G216=\"\",\"--\",INDEX('lista do wyboru'!$B$6:$F$160,$G216,1))","v":"--"},{"$f":"IF($G216=\"\",\"--\",INDEX('lista do wyboru'!$B$6:$F$160,$G216,2))","v":"--"},{"$f":"IF($G216=\"\",\"--\",INDEX('lista do wyboru'!$B$6:$F$160,$G216,4))","v":"--"},{"$f":"IF($G216=\"\",\"--\",INDEX('lista do wyboru'!$B$6:$F$160,$G216,5))","v":"--"},0,null,{"$f":"IF(FALSE = ISERROR(MATCH(TRUE,OFFSET('lista do wyboru'!$G$6:$G$160,G215,0),0)),G215+MATCH(TRUE,OFFSET('lista do wyboru'!$G$6:$G$160,G215,0),0),\"\")","v":""}]
[{"$f":"IF($G217=\"\",\"--\",INDEX('lista do wyboru'!$B$6:$F$160,$G217,1))","v":"--"},{"$f":"IF($G217=\"\",\"--\",INDEX('lista do wyboru'!$B$6:$F$160,$G217,2))","v":"--"},{"$f":"IF($G217=\"\",\"--\",INDEX('lista do wyboru'!$B$6:$F$160,$G217,4))","v":"--"},{"$f":"IF($G217=\"\",\"--\",INDEX('lista do wyboru'!$B$6:$F$160,$G217,5))","v":"--"},0,null,{"$f":"IF(FALSE = ISERROR(MATCH(TRUE,OFFSET('lista do wyboru'!$G$6:$G$160,G216,0),0)),G216+MATCH(TRUE,OFFSET('lista do wyboru'!$G$6:$G$160,G216,0),0),\"\")","v":""}]
[{"$f":"IF($G218=\"\",\"--\",INDEX('lista do wyboru'!$B$6:$F$160,$G218,1))","v":"--"},{"$f":"IF($G218=\"\",\"--\",INDEX('lista do wyboru'!$B$6:$F$160,$G218,2))","v":"--"},{"$f":"IF($G218=\"\",\"--\",INDEX('lista do wyboru'!$B$6:$F$160,$G218,4))","v":"--"},{"$f":"IF($G218=\"\",\"--\",INDEX('lista do wyboru'!$B$6:$F$160,$G218,5))","v":"--"},0,null,{"$f":"IF(FALSE = ISERROR(MATCH(TRUE,OFFSET('lista do wyboru'!$G$6:$G$160,G217,0),0)),G217+MATCH(TRUE,OFFSET('lista do wyboru'!$G$6:$G$160,G217,0),0),\"\")","v":""}]
[{"$f":"IF($G219=\"\",\"--\",INDEX('lista do wyboru'!$B$6:$F$160,$G219,1))","v":"--"},{"$f":"IF($G219=\"\",\"--\",INDEX('lista do wyboru'!$B$6:$F$160,$G219,2))","v":"--"},{"$f":"IF($G219=\"\",\"--\",INDEX('lista do wyboru'!$B$6:$F$160,$G219,4))","v":"--"},{"$f":"IF($G219=\"\",\"--\",INDEX('lista do wyboru'!$B$6:$F$160,$G219,5))","v":"--"},0,null,{"$f":"IF(FALSE = ISERROR(MATCH(TRUE,OFFSET('lista do wyboru'!$G$6:$G$160,G218,0),0)),G218+MATCH(TRUE,OFFSET('lista do wyboru'!$G$6:$G$160,G218,0),0),\"\")","v":""}]
[{"$f":"IF($G220=\"\",\"--\",INDEX('lista do wyboru'!$B$6:$F$160,$G220,1))","v":"--"},{"$f":"IF($G220=\"\",\"--\",INDEX('lista do wyboru'!$B$6:$F$160,$G220,2))","v":"--"},{"$f":"IF($G220=\"\",\"--\",INDEX('lista do wyboru'!$B$6:$F$160,$G220,4))","v":"--"},{"$f":"IF($G220=\"\",\"--\",INDEX('lista do wyboru'!$B$6:$F$160,$G220,5))","v":"--"},0,null,{"$f":"IF(FALSE = ISERROR(MATCH(TRUE,OFFSET('lista do wyboru'!$G$6:$G$160,G219,0),0)),G219+MATCH(TRUE,OFFSET('lista do wyboru'!$G$6:$G$160,G219,0),0),\"\")","v":""}]
[{"$f":"IF($G221=\"\",\"--\",INDEX('lista do wyboru'!$B$6:$F$160,$G221,1))","v":"--"},{"$f":"IF($G221=\"\",\"--\",INDEX('lista do wyboru'!$B$6:$F$160,$G221,2))","v":"--"},{"$f":"IF($G221=\"\",\"--\",INDEX('lista do wyboru'!$B$6:$F$160,$G221,4))","v":"--"},{"$f":"IF($G221=\"\",\"--\",INDEX('lista do wyboru'!$B$6:$F$160,$G221,5))","v":"--"},0,null,{"$f":"IF(FALSE = ISERROR(MATCH(TRUE,OFFSET('lista do wyboru'!$G$6:$G$160,G220,0),0)),G220+MATCH(TRUE,OFFSET('lista do wyboru'!$G$6:$G$160,G220,0),0),\"\")","v":""}]
[{"$f":"IF($G222=\"\",\"--\",INDEX('lista do wyboru'!$B$6:$F$160,$G222,1))","v":"--"},{"$f":"IF($G222=\"\",\"--\",INDEX('lista do wyboru'!$B$6:$F$160,$G222,2))","v":"--"},{"$f":"IF($G222=\"\",\"--\",INDEX('lista do wyboru'!$B$6:$F$160,$G222,4))","v":"--"},{"$f":"IF($G222=\"\",\"--\",INDEX('lista do wyboru'!$B$6:$F$160,$G222,5))","v":"--"},0,null,{"$f":"IF(FALSE = ISERROR(MATCH(TRUE,OFFSET('lista do wyboru'!$G$6:$G$160,G221,0),0)),G221+MATCH(TRUE,OFFSET('lista do wyboru'!$G$6:$G$160,G221,0),0),\"\")","v":""}]
[{"$f":"IF($G223=\"\",\"--\",INDEX('lista do wyboru'!$B$6:$F$160,$G223,1))","v":"--"},{"$f":"IF($G223=\"\",\"--\",INDEX('lista do wyboru'!$B$6:$F$160,$G223,2))","v":"--"},{"$f":"IF($G223=\"\",\"--\",INDEX('lista do wyboru'!$B$6:$F$160,$G223,4))","v":"--"},{"$f":"IF($G223=\"\",\"--\",INDEX('lista do wyboru'!$B$6:$F$160,$G223,5))","v":"--"},0,null,{"$f":"IF(FALSE = ISERROR(MATCH(TRUE,OFFSET('lista do wyboru'!$G$6:$G$160,G222,0),0)),G222+MATCH(TRUE,OFFSET('lista do wyboru'!$G$6:$G$160,G222,0),0),\"\")","v":""}]
[{"$f":"IF($G224=\"\",\"--\",INDEX('lista do wyboru'!$B$6:$F$160,$G224,1))","v":"--"},{"$f":"IF($G224=\"\",\"--\",INDEX('lista do wyboru'!$B$6:$F$160,$G224,2))","v":"--"},{"$f":"IF($G224=\"\",\"--\",INDEX('lista do wyboru'!$B$6:$F$160,$G224,4))","v":"--"},{"$f":"IF($G224=\"\",\"--\",INDEX('lista do wyboru'!$B$6:$F$160,$G224,5))","v":"--"},0,null,{"$f":"IF(FALSE = ISERROR(MATCH(TRUE,OFFSET('lista do wyboru'!$G$6:$G$160,G223,0),0)),G223+MATCH(TRUE,OFFSET('lista do wyboru'!$G$6:$G$160,G223,0),0),\"\")","v":""}]
[{"$f":"IF($G225=\"\",\"--\",INDEX('lista do wyboru'!$B$6:$F$160,$G225,1))","v":"--"},{"$f":"IF($G225=\"\",\"--\",INDEX('lista do wyboru'!$B$6:$F$160,$G225,2))","v":"--"},{"$f":"IF($G225=\"\",\"--\",INDEX('lista do wyboru'!$B$6:$F$160,$G225,4))","v":"--"},{"$f":"IF($G225=\"\",\"--\",INDEX('lista do wyboru'!$B$6:$F$160,$G225,5))","v":"--"},0,null,{"$f":"IF(FALSE = ISERROR(MATCH(TRUE,OFFSET('lista do wyboru'!$G$6:$G$160,G224,0),0)),G224+MATCH(TRUE,OFFSET('lista do wyboru'!$G$6:$G$160,G224,0),0),\"\")","v":""}]
[{"$f":"IF($G226=\"\",\"--\",INDEX('lista do wyboru'!$B$6:$F$160,$G226,1))","v":"--"},{"$f":"IF($G226=\"\",\"--\",INDEX('lista do wyboru'!$B$6:$F$160,$G226,2))","v":"--"},{"$f":"IF($G226=\"\",\"--\",INDEX('lista do wyboru'!$B$6:$F$160,$G226,4))","v":"--"},{"$f":"IF($G226=\"\",\"--\",INDEX('lista do wyboru'!$B$6:$F$160,$G226,5))","v":"--"},0,null,{"$f":"IF(FALSE = ISERROR(MATCH(TRUE,OFFSET('lista do wyboru'!$G$6:$G$160,G225,0),0)),G225+MATCH(TRUE,OFFSET('lista do wyboru'!$G$6:$G$160,G225,0),0),\"\")","v":""}]
[{"$f":"IF($G227=\"\",\"--\",INDEX('lista do wyboru'!$B$6:$F$160,$G227,1))","v":"--"},{"$f":"IF($G227=\"\",\"--\",INDEX('lista do wyboru'!$B$6:$F$160,$G227,2))","v":"--"},{"$f":"IF($G227=\"\",\"--\",INDEX('lista do wyboru'!$B$6:$F$160,$G227,4))","v":"--"},{"$f":"IF($G227=\"\",\"--\",INDEX('lista do wyboru'!$B$6:$F$160,$G227,5))","v":"--"},0,null,{"$f":"IF(FALSE = ISERROR(MATCH(TRUE,OFFSET('lista do wyboru'!$G$6:$G$160,G226,0),0)),G226+MATCH(TRUE,OFFSET('lista do wyboru'!$G$6:$G$160,G226,0),0),\"\")","v":""}]
[{"$f":"IF($G228=\"\",\"--\",INDEX('lista do wyboru'!$B$6:$F$160,$G228,1))","v":"--"},{"$f":"IF($G228=\"\",\"--\",INDEX('lista do wyboru'!$B$6:$F$160,$G228,2))","v":"--"},{"$f":"IF($G228=\"\",\"--\",INDEX('lista do wyboru'!$B$6:$F$160,$G228,4))","v":"--"},{"$f":"IF($G228=\"\",\"--\",INDEX('lista do wyboru'!$B$6:$F$160,$G228,5))","v":"--"},0,null,{"$f":"IF(FALSE = ISERROR(MATCH(TRUE,OFFSET('lista do wyboru'!$G$6:$G$160,G227,0),0)),G227+MATCH(TRUE,OFFSET('lista do wyboru'!$G$6:$G$160,G227,0),0),\"\")","v":""}]
[{"$f":"IF($G229=\"\",\"--\",INDEX('lista do wyboru'!$B$6:$F$160,$G229,1))","v":"--"},{"$f":"IF($G229=\"\",\"--\",INDEX('lista do wyboru'!$B$6:$F$160,$G229,2))","v":"--"},{"$f":"IF($G229=\"\",\"--\",INDEX('lista do wyboru'!$B$6:$F$160,$G229,4))","v":"--"},{"$f":"IF($G229=\"\",\"--\",INDEX('lista do wyboru'!$B$6:$F$160,$G229,5))","v":"--"},0,null,{"$f":"IF(FALSE = ISERROR(MATCH(TRUE,OFFSET('lista do wyboru'!$G$6:$G$160,G228,0),0)),G228+MATCH(TRUE,OFFSET('lista do wyboru'!$G$6:$G$160,G228,0),0),\"\")","v":""}]
[{"$f":"IF($G230=\"\",\"--\",INDEX('lista do wyboru'!$B$6:$F$160,$G230,1))","v":"--"},{"$f":"IF($G230=\"\",\"--\",INDEX('lista do wyboru'!$B$6:$F$160,$G230,2))","v":"--"},{"$f":"IF($G230=\"\",\"--\",INDEX('lista do wyboru'!$B$6:$F$160,$G230,4))","v":"--"},{"$f":"IF($G230=\"\",\"--\",INDEX('lista do wyboru'!$B$6:$F$160,$G230,5))","v":"--"},0,null,{"$f":"IF(FALSE = ISERROR(MATCH(TRUE,OFFSET('lista do wyboru'!$G$6:$G$160,G229,0),0)),G229+MATCH(TRUE,OFFSET('lista do wyboru'!$G$6:$G$160,G229,0),0),\"\")","v":""}]
[{"$f":"IF($G231=\"\",\"--\",INDEX('lista do wyboru'!$B$6:$F$160,$G231,1))","v":"--"},{"$f":"IF($G231=\"\",\"--\",INDEX('lista do wyboru'!$B$6:$F$160,$G231,2))","v":"--"},{"$f":"IF($G231=\"\",\"--\",INDEX('lista do wyboru'!$B$6:$F$160,$G231,4))","v":"--"},{"$f":"IF($G231=\"\",\"--\",INDEX('lista do wyboru'!$B$6:$F$160,$G231,5))","v":"--"},0,null,{"$f":"IF(FALSE = ISERROR(MATCH(TRUE,OFFSET('lista do wyboru'!$G$6:$G$160,G230,0),0)),G230+MATCH(TRUE,OFFSET('lista do wyboru'!$G$6:$G$160,G230,0),0),\"\")","v":""}]
[{"$f":"IF($G232=\"\",\"--\",INDEX('lista do wyboru'!$B$6:$F$160,$G232,1))","v":"--"},{"$f":"IF($G232=\"\",\"--\",INDEX('lista do wyboru'!$B$6:$F$160,$G232,2))","v":"--"},{"$f":"IF($G232=\"\",\"--\",INDEX('lista do wyboru'!$B$6:$F$160,$G232,4))","v":"--"},{"$f":"IF($G232=\"\",\"--\",INDEX('lista do wyboru'!$B$6:$F$160,$G232,5))","v":"--"},0,null,{"$f":"IF(FALSE = ISERROR(MATCH(TRUE,OFFSET('lista do wyboru'!$G$6:$G$160,G231,0),0)),G231+MATCH(TRUE,OFFSET('lista do wyboru'!$G$6:$G$160,G231,0),0),\"\")","v":""}]
[{"$f":"IF($G233=\"\",\"--\",INDEX('lista do wyboru'!$B$6:$F$160,$G233,1))","v":"--"},{"$f":"IF($G233=\"\",\"--\",INDEX('lista do wyboru'!$B$6:$F$160,$G233,2))","v":"--"},{"$f":"IF($G233=\"\",\"--\",INDEX('lista do wyboru'!$B$6:$F$160,$G233,4))","v":"--"},{"$f":"IF($G233=\"\",\"--\",INDEX('lista do wyboru'!$B$6:$F$160,$G233,5))","v":"--"},0,null,{"$f":"IF(FALSE = ISERROR(MATCH(TRUE,OFFSET('lista do wyboru'!$G$6:$G$160,G232,0),0)),G232+MATCH(TRUE,OFFSET('lista do wyboru'!$G$6:$G$160,G232,0),0),\"\")","v":""}]
[{"$f":"IF($G234=\"\",\"--\",INDEX('lista do wyboru'!$B$6:$F$160,$G234,1))","v":"--"},{"$f":"IF($G234=\"\",\"--\",INDEX('lista do wyboru'!$B$6:$F$160,$G234,2))","v":"--"},{"$f":"IF($G234=\"\",\"--\",INDEX('lista do wyboru'!$B$6:$F$160,$G234,4))","v":"--"},{"$f":"IF($G234=\"\",\"--\",INDEX('lista do wyboru'!$B$6:$F$160,$G234,5))","v":"--"},0,null,{"$f":"IF(FALSE = ISERROR(MATCH(TRUE,OFFSET('lista do wyboru'!$G$6:$G$160,G233,0),0)),G233+MATCH(TRUE,OFFSET('lista do wyboru'!$G$6:$G$160,G233,0),0),\"\")","v":""}]
[{"$f":"IF($G235=\"\",\"--\",INDEX('lista do wyboru'!$B$6:$F$160,$G235,1))","v":"--"},{"$f":"IF($G235=\"\",\"--\",INDEX('lista do wyboru'!$B$6:$F$160,$G235,2))","v":"--"},{"$f":"IF($G235=\"\",\"--\",INDEX('lista do wyboru'!$B$6:$F$160,$G235,4))","v":"--"},{"$f":"IF($G235=\"\",\"--\",INDEX('lista do wyboru'!$B$6:$F$160,$G235,5))","v":"--"},0,null,{"$f":"IF(FALSE = ISERROR(MATCH(TRUE,OFFSET('lista do wyboru'!$G$6:$G$160,G234,0),0)),G234+MATCH(TRUE,OFFSET('lista do wyboru'!$G$6:$G$160,G234,0),0),\"\")","v":""}]
[{"$f":"IF($G236=\"\",\"--\",INDEX('lista do wyboru'!$B$6:$F$160,$G236,1))","v":"--"},{"$f":"IF($G236=\"\",\"--\",INDEX('lista do wyboru'!$B$6:$F$160,$G236,2))","v":"--"},{"$f":"IF($G236=\"\",\"--\",INDEX('lista do wyboru'!$B$6:$F$160,$G236,4))","v":"--"},{"$f":"IF($G236=\"\",\"--\",INDEX('lista do wyboru'!$B$6:$F$160,$G236,5))","v":"--"},0,null,{"$f":"IF(FALSE = ISERROR(MATCH(TRUE,OFFSET('lista do wyboru'!$G$6:$G$160,G235,0),0)),G235+MATCH(TRUE,OFFSET('lista do wyboru'!$G$6:$G$160,G235,0),0),\"\")","v":""}]
[{"$f":"IF($G237=\"\",\"--\",INDEX('lista do wyboru'!$B$6:$F$160,$G237,1))","v":"--"},{"$f":"IF($G237=\"\",\"--\",INDEX('lista do wyboru'!$B$6:$F$160,$G237,2))","v":"--"},{"$f":"IF($G237=\"\",\"--\",INDEX('lista do wyboru'!$B$6:$F$160,$G237,4))","v":"--"},{"$f":"IF($G237=\"\",\"--\",INDEX('lista do wyboru'!$B$6:$F$160,$G237,5))","v":"--"},0,null,{"$f":"IF(FALSE = ISERROR(MATCH(TRUE,OFFSET('lista do wyboru'!$G$6:$G$160,G236,0),0)),G236+MATCH(TRUE,OFFSET('lista do wyboru'!$G$6:$G$160,G236,0),0),\"\")","v":""}]
[{"$f":"IF($G238=\"\",\"--\",INDEX('lista do wyboru'!$B$6:$F$160,$G238,1))","v":"--"},{"$f":"IF($G238=\"\",\"--\",INDEX('lista do wyboru'!$B$6:$F$160,$G238,2))","v":"--"},{"$f":"IF($G238=\"\",\"--\",INDEX('lista do wyboru'!$B$6:$F$160,$G238,4))","v":"--"},{"$f":"IF($G238=\"\",\"--\",INDEX('lista do wyboru'!$B$6:$F$160,$G238,5))","v":"--"},0,null,{"$f":"IF(FALSE = ISERROR(MATCH(TRUE,OFFSET('lista do wyboru'!$G$6:$G$160,G237,0),0)),G237+MATCH(TRUE,OFFSET('lista do wyboru'!$G$6:$G$160,G237,0),0),\"\")","v":""}]
[{"$f":"IF($G239=\"\",\"--\",INDEX('lista do wyboru'!$B$6:$F$160,$G239,1))","v":"--"},{"$f":"IF($G239=\"\",\"--\",INDEX('lista do wyboru'!$B$6:$F$160,$G239,2))","v":"--"},{"$f":"IF($G239=\"\",\"--\",INDEX('lista do wyboru'!$B$6:$F$160,$G239,4))","v":"--"},{"$f":"IF($G239=\"\",\"--\",INDEX('lista do wyboru'!$B$6:$F$160,$G239,5))","v":"--"},0,null,{"$f":"IF(FALSE = ISERROR(MATCH(TRUE,OFFSET('lista do wyboru'!$G$6:$G$160,G238,0),0)),G238+MATCH(TRUE,OFFSET('lista do wyboru'!$G$6:$G$160,G238,0),0),\"\")","v":""}]
[{"$f":"IF($G240=\"\",\"--\",INDEX('lista do wyboru'!$B$6:$F$160,$G240,1))","v":"--"},{"$f":"IF($G240=\"\",\"--\",INDEX('lista do wyboru'!$B$6:$F$160,$G240,2))","v":"--"},{"$f":"IF($G240=\"\",\"--\",INDEX('lista do wyboru'!$B$6:$F$160,$G240,4))","v":"--"},{"$f":"IF($G240=\"\",\"--\",INDEX('lista do wyboru'!$B$6:$F$160,$G240,5))","v":"--"},0,null,{"$f":"IF(FALSE = ISERROR(MATCH(TRUE,OFFSET('lista do wyboru'!$G$6:$G$160,G239,0),0)),G239+MATCH(TRUE,OFFSET('lista do wyboru'!$G$6:$G$160,G239,0),0),\"\")","v":""}]
[{"$f":"IF($G241=\"\",\"--\",INDEX('lista do wyboru'!$B$6:$F$160,$G241,1))","v":"--"},{"$f":"IF($G241=\"\",\"--\",INDEX('lista do wyboru'!$B$6:$F$160,$G241,2))","v":"--"},{"$f":"IF($G241=\"\",\"--\",INDEX('lista do wyboru'!$B$6:$F$160,$G241,4))","v":"--"},{"$f":"IF($G241=\"\",\"--\",INDEX('lista do wyboru'!$B$6:$F$160,$G241,5))","v":"--"},0,null,{"$f":"IF(FALSE = ISERROR(MATCH(TRUE,OFFSET('lista do wyboru'!$G$6:$G$160,G240,0),0)),G240+MATCH(TRUE,OFFSET('lista do wyboru'!$G$6:$G$160,G240,0),0),\"\")","v":""}]
[{"$f":"IF($G242=\"\",\"--\",INDEX('lista do wyboru'!$B$6:$F$160,$G242,1))","v":"--"},{"$f":"IF($G242=\"\",\"--\",INDEX('lista do wyboru'!$B$6:$F$160,$G242,2))","v":"--"},{"$f":"IF($G242=\"\",\"--\",INDEX('lista do wyboru'!$B$6:$F$160,$G242,4))","v":"--"},{"$f":"IF($G242=\"\",\"--\",INDEX('lista do wyboru'!$B$6:$F$160,$G242,5))","v":"--"},0,null,{"$f":"IF(FALSE = ISERROR(MATCH(TRUE,OFFSET('lista do wyboru'!$G$6:$G$160,G241,0),0)),G241+MATCH(TRUE,OFFSET('lista do wyboru'!$G$6:$G$160,G241,0),0),\"\")","v":""}]
[{"$f":"IF($G243=\"\",\"--\",INDEX('lista do wyboru'!$B$6:$F$160,$G243,1))","v":"--"},{"$f":"IF($G243=\"\",\"--\",INDEX('lista do wyboru'!$B$6:$F$160,$G243,2))","v":"--"},{"$f":"IF($G243=\"\",\"--\",INDEX('lista do wyboru'!$B$6:$F$160,$G243,4))","v":"--"},{"$f":"IF($G243=\"\",\"--\",INDEX('lista do wyboru'!$B$6:$F$160,$G243,5))","v":"--"},0,null,{"$f":"IF(FALSE = ISERROR(MATCH(TRUE,OFFSET('lista do wyboru'!$G$6:$G$160,G242,0),0)),G242+MATCH(TRUE,OFFSET('lista do wyboru'!$G$6:$G$160,G242,0),0),\"\")","v":""}]
[{"$f":"IF($G244=\"\",\"--\",INDEX('lista do wyboru'!$B$6:$F$160,$G244,1))","v":"--"},{"$f":"IF($G244=\"\",\"--\",INDEX('lista do wyboru'!$B$6:$F$160,$G244,2))","v":"--"},{"$f":"IF($G244=\"\",\"--\",INDEX('lista do wyboru'!$B$6:$F$160,$G244,4))","v":"--"},{"$f":"IF($G244=\"\",\"--\",INDEX('lista do wyboru'!$B$6:$F$160,$G244,5))","v":"--"},0,null,{"$f":"IF(FALSE = ISERROR(MATCH(TRUE,OFFSET('lista do wyboru'!$G$6:$G$160,G243,0),0)),G243+MATCH(TRUE,OFFSET('lista do wyboru'!$G$6:$G$160,G243,0),0),\"\")","v":""}]
[{"$f":"IF($G245=\"\",\"--\",INDEX('lista do wyboru'!$B$6:$F$160,$G245,1))","v":"--"},{"$f":"IF($G245=\"\",\"--\",INDEX('lista do wyboru'!$B$6:$F$160,$G245,2))","v":"--"},{"$f":"IF($G245=\"\",\"--\",INDEX('lista do wyboru'!$B$6:$F$160,$G245,4))","v":"--"},{"$f":"IF($G245=\"\",\"--\",INDEX('lista do wyboru'!$B$6:$F$160,$G245,5))","v":"--"},0,null,{"$f":"IF(FALSE = ISERROR(MATCH(TRUE,OFFSET('lista do wyboru'!$G$6:$G$160,G244,0),0)),G244+MATCH(TRUE,OFFSET('lista do wyboru'!$G$6:$G$160,G244,0),0),\"\")","v":""}]
[{"$f":"IF($G246=\"\",\"--\",INDEX('lista do wyboru'!$B$6:$F$160,$G246,1))","v":"--"},{"$f":"IF($G246=\"\",\"--\",INDEX('lista do wyboru'!$B$6:$F$160,$G246,2))","v":"--"},{"$f":"IF($G246=\"\",\"--\",INDEX('lista do wyboru'!$B$6:$F$160,$G246,4))","v":"--"},{"$f":"IF($G246=\"\",\"--\",INDEX('lista do wyboru'!$B$6:$F$160,$G246,5))","v":"--"},0,null,{"$f":"IF(FALSE = ISERROR(MATCH(TRUE,OFFSET('lista do wyboru'!$G$6:$G$160,G245,0),0)),G245+MATCH(TRUE,OFFSET('lista do wyboru'!$G$6:$G$160,G245,0),0),\"\")","v":""}]
[{"$f":"IF($G247=\"\",\"--\",INDEX('lista do wyboru'!$B$6:$F$160,$G247,1))","v":"--"},{"$f":"IF($G247=\"\",\"--\",INDEX('lista do wyboru'!$B$6:$F$160,$G247,2))","v":"--"},{"$f":"IF($G247=\"\",\"--\",INDEX('lista do wyboru'!$B$6:$F$160,$G247,4))","v":"--"},{"$f":"IF($G247=\"\",\"--\",INDEX('lista do wyboru'!$B$6:$F$160,$G247,5))","v":"--"},0,null,{"$f":"IF(FALSE = ISERROR(MATCH(TRUE,OFFSET('lista do wyboru'!$G$6:$G$160,G246,0),0)),G246+MATCH(TRUE,OFFSET('lista do wyboru'!$G$6:$G$160,G246,0),0),\"\")","v":""}]
[{"$f":"IF($G248=\"\",\"--\",INDEX('lista do wyboru'!$B$6:$F$160,$G248,1))","v":"--"},{"$f":"IF($G248=\"\",\"--\",INDEX('lista do wyboru'!$B$6:$F$160,$G248,2))","v":"--"},{"$f":"IF($G248=\"\",\"--\",INDEX('lista do wyboru'!$B$6:$F$160,$G248,4))","v":"--"},{"$f":"IF($G248=\"\",\"--\",INDEX('lista do wyboru'!$B$6:$F$160,$G248,5))","v":"--"},0,null,{"$f":"IF(FALSE = ISERROR(MATCH(TRUE,OFFSET('lista do wyboru'!$G$6:$G$160,G247,0),0)),G247+MATCH(TRUE,OFFSET('lista do wyboru'!$G$6:$G$160,G247,0),0),\"\")","v":""}]
[{"$f":"IF($G249=\"\",\"--\",INDEX('lista do wyboru'!$B$6:$F$160,$G249,1))","v":"--"},{"$f":"IF($G249=\"\",\"--\",INDEX('lista do wyboru'!$B$6:$F$160,$G249,2))","v":"--"},{"$f":"IF($G249=\"\",\"--\",INDEX('lista do wyboru'!$B$6:$F$160,$G249,4))","v":"--"},{"$f":"IF($G249=\"\",\"--\",INDEX('lista do wyboru'!$B$6:$F$160,$G249,5))","v":"--"},0,null,{"$f":"IF(FALSE = ISERROR(MATCH(TRUE,OFFSET('lista do wyboru'!$G$6:$G$160,G248,0),0)),G248+MATCH(TRUE,OFFSET('lista do wyboru'!$G$6:$G$160,G248,0),0),\"\")","v":""}]
[{"$f":"IF($G250=\"\",\"--\",INDEX('lista do wyboru'!$B$6:$F$160,$G250,1))","v":"--"},{"$f":"IF($G250=\"\",\"--\",INDEX('lista do wyboru'!$B$6:$F$160,$G250,2))","v":"--"},{"$f":"IF($G250=\"\",\"--\",INDEX('lista do wyboru'!$B$6:$F$160,$G250,4))","v":"--"},{"$f":"IF($G250=\"\",\"--\",INDEX('lista do wyboru'!$B$6:$F$160,$G250,5))","v":"--"},0,null,{"$f":"IF(FALSE = ISERROR(MATCH(TRUE,OFFSET('lista do wyboru'!$G$6:$G$160,G249,0),0)),G249+MATCH(TRUE,OFFSET('lista do wyboru'!$G$6:$G$160,G249,0),0),\"\")","v":""}]
[{"$f":"IF($G251=\"\",\"--\",INDEX('lista do wyboru'!$B$6:$F$160,$G251,1))","v":"--"},{"$f":"IF($G251=\"\",\"--\",INDEX('lista do wyboru'!$B$6:$F$160,$G251,2))","v":"--"},{"$f":"IF($G251=\"\",\"--\",INDEX('lista do wyboru'!$B$6:$F$160,$G251,4))","v":"--"},{"$f":"IF($G251=\"\",\"--\",INDEX('lista do wyboru'!$B$6:$F$160,$G251,5))","v":"--"},0,null,{"$f":"IF(FALSE = ISERROR(MATCH(TRUE,OFFSET('lista do wyboru'!$G$6:$G$160,G250,0),0)),G250+MATCH(TRUE,OFFSET('lista do wyboru'!$G$6:$G$160,G250,0),0),\"\")","v":""}]
[{"$f":"IF($G252=\"\",\"--\",INDEX('lista do wyboru'!$B$6:$F$160,$G252,1))","v":"--"},{"$f":"IF($G252=\"\",\"--\",INDEX('lista do wyboru'!$B$6:$F$160,$G252,2))","v":"--"},{"$f":"IF($G252=\"\",\"--\",INDEX('lista do wyboru'!$B$6:$F$160,$G252,4))","v":"--"},{"$f":"IF($G252=\"\",\"--\",INDEX('lista do wyboru'!$B$6:$F$160,$G252,5))","v":"--"},0,null,{"$f":"IF(FALSE = ISERROR(MATCH(TRUE,OFFSET('lista do wyboru'!$G$6:$G$160,G251,0),0)),G251+MATCH(TRUE,OFFSET('lista do wyboru'!$G$6:$G$160,G251,0),0),\"\")","v":""}]
[{"$f":"IF($G253=\"\",\"--\",INDEX('lista do wyboru'!$B$6:$F$160,$G253,1))","v":"--"},{"$f":"IF($G253=\"\",\"--\",INDEX('lista do wyboru'!$B$6:$F$160,$G253,2))","v":"--"},{"$f":"IF($G253=\"\",\"--\",INDEX('lista do wyboru'!$B$6:$F$160,$G253,4))","v":"--"},{"$f":"IF($G253=\"\",\"--\",INDEX('lista do wyboru'!$B$6:$F$160,$G253,5))","v":"--"},0,null,{"$f":"IF(FALSE = ISERROR(MATCH(TRUE,OFFSET('lista do wyboru'!$G$6:$G$160,G252,0),0)),G252+MATCH(TRUE,OFFSET('lista do wyboru'!$G$6:$G$160,G252,0),0),\"\")","v":""}]
[{"$f":"IF($G254=\"\",\"--\",INDEX('lista do wyboru'!$B$6:$F$160,$G254,1))","v":"--"},{"$f":"IF($G254=\"\",\"--\",INDEX('lista do wyboru'!$B$6:$F$160,$G254,2))","v":"--"},{"$f":"IF($G254=\"\",\"--\",INDEX('lista do wyboru'!$B$6:$F$160,$G254,4))","v":"--"},{"$f":"IF($G254=\"\",\"--\",INDEX('lista do wyboru'!$B$6:$F$160,$G254,5))","v":"--"},0,null,{"$f":"IF(FALSE = ISERROR(MATCH(TRUE,OFFSET('lista do wyboru'!$G$6:$G$160,G253,0),0)),G253+MATCH(TRUE,OFFSET('lista do wyboru'!$G$6:$G$160,G253,0),0),\"\")","v":""}]
[{"$f":"IF($G255=\"\",\"--\",INDEX('lista do wyboru'!$B$6:$F$160,$G255,1))","v":"--"},{"$f":"IF($G255=\"\",\"--\",INDEX('lista do wyboru'!$B$6:$F$160,$G255,2))","v":"--"},{"$f":"IF($G255=\"\",\"--\",INDEX('lista do wyboru'!$B$6:$F$160,$G255,4))","v":"--"},{"$f":"IF($G255=\"\",\"--\",INDEX('lista do wyboru'!$B$6:$F$160,$G255,5))","v":"--"},0,null,{"$f":"IF(FALSE = ISERROR(MATCH(TRUE,OFFSET('lista do wyboru'!$G$6:$G$160,G254,0),0)),G254+MATCH(TRUE,OFFSET('lista do wyboru'!$G$6:$G$160,G254,0),0),\"\")","v":""}]
[{"$f":"IF($G256=\"\",\"--\",INDEX('lista do wyboru'!$B$6:$F$160,$G256,1))","v":"--"},{"$f":"IF($G256=\"\",\"--\",INDEX('lista do wyboru'!$B$6:$F$160,$G256,2))","v":"--"},{"$f":"IF($G256=\"\",\"--\",INDEX('lista do wyboru'!$B$6:$F$160,$G256,4))","v":"--"},{"$f":"IF($G256=\"\",\"--\",INDEX('lista do wyboru'!$B$6:$F$160,$G256,5))","v":"--"},0,null,{"$f":"IF(FALSE = ISERROR(MATCH(TRUE,OFFSET('lista do wyboru'!$G$6:$G$160,G255,0),0)),G255+MATCH(TRUE,OFFSET('lista do wyboru'!$G$6:$G$160,G255,0),0),\"\")","v":""}]
[{"$f":"IF($G257=\"\",\"--\",INDEX('lista do wyboru'!$B$6:$F$160,$G257,1))","v":"--"},{"$f":"IF($G257=\"\",\"--\",INDEX('lista do wyboru'!$B$6:$F$160,$G257,2))","v":"--"},{"$f":"IF($G257=\"\",\"--\",INDEX('lista do wyboru'!$B$6:$F$160,$G257,4))","v":"--"},{"$f":"IF($G257=\"\",\"--\",INDEX('lista do wyboru'!$B$6:$F$160,$G257,5))","v":"--"},0,null,{"$f":"IF(FALSE = ISERROR(MATCH(TRUE,OFFSET('lista do wyboru'!$G$6:$G$160,G256,0),0)),G256+MATCH(TRUE,OFFSET('lista do wyboru'!$G$6:$G$160,G256,0),0),\"\")","v":""}]
[{"$f":"IF($G258=\"\",\"--\",INDEX('lista do wyboru'!$B$6:$F$160,$G258,1))","v":"--"},{"$f":"IF($G258=\"\",\"--\",INDEX('lista do wyboru'!$B$6:$F$160,$G258,2))","v":"--"},{"$f":"IF($G258=\"\",\"--\",INDEX('lista do wyboru'!$B$6:$F$160,$G258,4))","v":"--"},{"$f":"IF($G258=\"\",\"--\",INDEX('lista do wyboru'!$B$6:$F$160,$G258,5))","v":"--"},0,null,{"$f":"IF(FALSE = ISERROR(MATCH(TRUE,OFFSET('lista do wyboru'!$G$6:$G$160,G257,0),0)),G257+MATCH(TRUE,OFFSET('lista do wyboru'!$G$6:$G$160,G257,0),0),\"\")","v":""}]
[{"$f":"IF($G259=\"\",\"--\",INDEX('lista do wyboru'!$B$6:$F$160,$G259,1))","v":"--"},{"$f":"IF($G259=\"\",\"--\",INDEX('lista do wyboru'!$B$6:$F$160,$G259,2))","v":"--"},{"$f":"IF($G259=\"\",\"--\",INDEX('lista do wyboru'!$B$6:$F$160,$G259,4))","v":"--"},{"$f":"IF($G259=\"\",\"--\",INDEX('lista do wyboru'!$B$6:$F$160,$G259,5))","v":"--"},0,null,{"$f":"IF(FALSE = ISERROR(MATCH(TRUE,OFFSET('lista do wyboru'!$G$6:$G$160,G258,0),0)),G258+MATCH(TRUE,OFFSET('lista do wyboru'!$G$6:$G$160,G258,0),0),\"\")","v":""}]
[{"$f":"IF($G260=\"\",\"--\",INDEX('lista do wyboru'!$B$6:$F$160,$G260,1))","v":"--"},{"$f":"IF($G260=\"\",\"--\",INDEX('lista do wyboru'!$B$6:$F$160,$G260,2))","v":"--"},{"$f":"IF($G260=\"\",\"--\",INDEX('lista do wyboru'!$B$6:$F$160,$G260,4))","v":"--"},{"$f":"IF($G260=\"\",\"--\",INDEX('lista do wyboru'!$B$6:$F$160,$G260,5))","v":"--"},0,null,{"$f":"IF(FALSE = ISERROR(MATCH(TRUE,OFFSET('lista do wyboru'!$G$6:$G$160,G259,0),0)),G259+MATCH(TRUE,OFFSET('lista do wyboru'!$G$6:$G$160,G259,0),0),\"\")","v":""}]
[{"$f":"IF($G261=\"\",\"--\",INDEX('lista do wyboru'!$B$6:$F$160,$G261,1))","v":"--"},{"$f":"IF($G261=\"\",\"--\",INDEX('lista do wyboru'!$B$6:$F$160,$G261,2))","v":"--"},{"$f":"IF($G261=\"\",\"--\",INDEX('lista do wyboru'!$B$6:$F$160,$G261,4))","v":"--"},{"$f":"IF($G261=\"\",\"--\",INDEX('lista do wyboru'!$B$6:$F$160,$G261,5))","v":"--"},0,null,{"$f":"IF(FALSE = ISERROR(MATCH(TRUE,OFFSET('lista do wyboru'!$G$6:$G$160,G260,0),0)),G260+MATCH(TRUE,OFFSET('lista do wyboru'!$G$6:$G$160,G260,0),0),\"\")","v":""}]
[{"$f":"IF($G262=\"\",\"--\",INDEX('lista do wyboru'!$B$6:$F$160,$G262,1))","v":"--"},{"$f":"IF($G262=\"\",\"--\",INDEX('lista do wyboru'!$B$6:$F$160,$G262,2))","v":"--"},{"$f":"IF($G262=\"\",\"--\",INDEX('lista do wyboru'!$B$6:$F$160,$G262,4))","v":"--"},{"$f":"IF($G262=\"\",\"--\",INDEX('lista do wyboru'!$B$6:$F$160,$G262,5))","v":"--"},{"$f":"IF(C262 = \"--\",0,D262*C262)","v":0},null,{"$f":"IF(FALSE = ISERROR(MATCH(TRUE,OFFSET('lista do wyboru'!$G$6:$G$160,G261,0),0)),G261+MATCH(TRUE,OFFSET('lista do wyboru'!$G$6:$G$160,G261,0),0),\"\")","v":""}]
[{"$f":"IF($G263=\"\",\"--\",INDEX('lista do wyboru'!$B$6:$F$160,$G263,1))","v":"--"},{"$f":"IF($G263=\"\",\"--\",INDEX('lista do wyboru'!$B$6:$F$160,$G263,2))","v":"--"},{"$f":"IF($G263=\"\",\"--\",INDEX('lista do wyboru'!$B$6:$F$160,$G263,4))","v":"--"},{"$f":"IF($G263=\"\",\"--\",INDEX('lista do wyboru'!$B$6:$F$160,$G263,5))","v":"--"},0,null,{"$f":"IF(FALSE = ISERROR(MATCH(TRUE,OFFSET('lista do wyboru'!$G$6:$G$160,G262,0),0)),G262+MATCH(TRUE,OFFSET('lista do wyboru'!$G$6:$G$160,G262,0),0),\"\")","v":""}]
[{"$f":"IF($G264=\"\",\"--\",INDEX('lista do wyboru'!$B$6:$F$160,$G264,1))","v":"--"},{"$f":"IF($G264=\"\",\"--\",INDEX('lista do wyboru'!$B$6:$F$160,$G264,2))","v":"--"},{"$f":"IF($G264=\"\",\"--\",INDEX('lista do wyboru'!$B$6:$F$160,$G264,4))","v":"--"},{"$f":"IF($G264=\"\",\"--\",INDEX('lista do wyboru'!$B$6:$F$160,$G264,5))","v":"--"},0,null,{"$f":"IF(FALSE = ISERROR(MATCH(TRUE,OFFSET('lista do wyboru'!$G$6:$G$160,G263,0),0)),G263+MATCH(TRUE,OFFSET('lista do wyboru'!$G$6:$G$160,G263,0),0),\"\")","v":""}]
[{"$f":"IF($G265=\"\",\"--\",INDEX('lista do wyboru'!$B$6:$F$160,$G265,1))","v":"--"},{"$f":"IF($G265=\"\",\"--\",INDEX('lista do wyboru'!$B$6:$F$160,$G265,2))","v":"--"},{"$f":"IF($G265=\"\",\"--\",INDEX('lista do wyboru'!$B$6:$F$160,$G265,4))","v":"--"},{"$f":"IF($G265=\"\",\"--\",INDEX('lista do wyboru'!$B$6:$F$160,$G265,5))","v":"--"},0,null,{"$f":"IF(FALSE = ISERROR(MATCH(TRUE,OFFSET('lista do wyboru'!$G$6:$G$160,G264,0),0)),G264+MATCH(TRUE,OFFSET('lista do wyboru'!$G$6:$G$160,G264,0),0),\"\")","v":""}]
[{"$f":"IF($G266=\"\",\"--\",INDEX('lista do wyboru'!$B$6:$F$160,$G266,1))","v":"--"},{"$f":"IF($G266=\"\",\"--\",INDEX('lista do wyboru'!$B$6:$F$160,$G266,2))","v":"--"},{"$f":"IF($G266=\"\",\"--\",INDEX('lista do wyboru'!$B$6:$F$160,$G266,4))","v":"--"},{"$f":"IF($G266=\"\",\"--\",INDEX('lista do wyboru'!$B$6:$F$160,$G266,5))","v":"--"},0,null,{"$f":"IF(FALSE = ISERROR(MATCH(TRUE,OFFSET('lista do wyboru'!$G$6:$G$160,G265,0),0)),G265+MATCH(TRUE,OFFSET('lista do wyboru'!$G$6:$G$160,G265,0),0),\"\")","v":""}]
[{"$f":"IF($G267=\"\",\"--\",INDEX('lista do wyboru'!$B$6:$F$160,$G267,1))","v":"--"},{"$f":"IF($G267=\"\",\"--\",INDEX('lista do wyboru'!$B$6:$F$160,$G267,2))","v":"--"},{"$f":"IF($G267=\"\",\"--\",INDEX('lista do wyboru'!$B$6:$F$160,$G267,4))","v":"--"},{"$f":"IF($G267=\"\",\"--\",INDEX('lista do wyboru'!$B$6:$F$160,$G267,5))","v":"--"},0,null,{"$f":"IF(FALSE = ISERROR(MATCH(TRUE,OFFSET('lista do wyboru'!$G$6:$G$160,G266,0),0)),G266+MATCH(TRUE,OFFSET('lista do wyboru'!$G$6:$G$160,G266,0),0),\"\")","v":""}]
[{"$f":"IF($G268=\"\",\"--\",INDEX('lista do wyboru'!$B$6:$F$160,$G268,1))","v":"--"},{"$f":"IF($G268=\"\",\"--\",INDEX('lista do wyboru'!$B$6:$F$160,$G268,2))","v":"--"},{"$f":"IF($G268=\"\",\"--\",INDEX('lista do wyboru'!$B$6:$F$160,$G268,4))","v":"--"},{"$f":"IF($G268=\"\",\"--\",INDEX('lista do wyboru'!$B$6:$F$160,$G268,5))","v":"--"},0,null,{"$f":"IF(FALSE = ISERROR(MATCH(TRUE,OFFSET('lista do wyboru'!$G$6:$G$160,G267,0),0)),G267+MATCH(TRUE,OFFSET('lista do wyboru'!$G$6:$G$160,G267,0),0),\"\")","v":""}]
[{"$f":"IF($G269=\"\",\"--\",INDEX('lista do wyboru'!$B$6:$F$160,$G269,1))","v":"--"},{"$f":"IF($G269=\"\",\"--\",INDEX('lista do wyboru'!$B$6:$F$160,$G269,2))","v":"--"},{"$f":"IF($G269=\"\",\"--\",INDEX('lista do wyboru'!$B$6:$F$160,$G269,4))","v":"--"},{"$f":"IF($G269=\"\",\"--\",INDEX('lista do wyboru'!$B$6:$F$160,$G269,5))","v":"--"},0,null,{"$f":"IF(FALSE = ISERROR(MATCH(TRUE,OFFSET('lista do wyboru'!$G$6:$G$160,G268,0),0)),G268+MATCH(TRUE,OFFSET('lista do wyboru'!$G$6:$G$160,G268,0),0),\"\")","v":""}]
[{"$f":"IF($G270=\"\",\"--\",INDEX('lista do wyboru'!$B$6:$F$160,$G270,1))","v":"--"},{"$f":"IF($G270=\"\",\"--\",INDEX('lista do wyboru'!$B$6:$F$160,$G270,2))","v":"--"},{"$f":"IF($G270=\"\",\"--\",INDEX('lista do wyboru'!$B$6:$F$160,$G270,4))","v":"--"},{"$f":"IF($G270=\"\",\"--\",INDEX('lista do wyboru'!$B$6:$F$160,$G270,5))","v":"--"},0,null,{"$f":"IF(FALSE = ISERROR(MATCH(TRUE,OFFSET('lista do wyboru'!$G$6:$G$160,G269,0),0)),G269+MATCH(TRUE,OFFSET('lista do wyboru'!$G$6:$G$160,G269,0),0),\"\")","v":""}]
[{"$f":"IF($G271=\"\",\"--\",INDEX('lista do wyboru'!$B$6:$F$160,$G271,1))","v":"--"},{"$f":"IF($G271=\"\",\"--\",INDEX('lista do wyboru'!$B$6:$F$160,$G271,2))","v":"--"},{"$f":"IF($G271=\"\",\"--\",INDEX('lista do wyboru'!$B$6:$F$160,$G271,4))","v":"--"},{"$f":"IF($G271=\"\",\"--\",INDEX('lista do wyboru'!$B$6:$F$160,$G271,5))","v":"--"},0,null,{"$f":"IF(FALSE = ISERROR(MATCH(TRUE,OFFSET('lista do wyboru'!$G$6:$G$160,G270,0),0)),G270+MATCH(TRUE,OFFSET('lista do wyboru'!$G$6:$G$160,G270,0),0),\"\")","v":""}]
[{"$f":"IF($G272=\"\",\"--\",INDEX('lista do wyboru'!$B$6:$F$160,$G272,1))","v":"--"},{"$f":"IF($G272=\"\",\"--\",INDEX('lista do wyboru'!$B$6:$F$160,$G272,2))","v":"--"},{"$f":"IF($G272=\"\",\"--\",INDEX('lista do wyboru'!$B$6:$F$160,$G272,4))","v":"--"},{"$f":"IF($G272=\"\",\"--\",INDEX('lista do wyboru'!$B$6:$F$160,$G272,5))","v":"--"},0,null,{"$f":"IF(FALSE = ISERROR(MATCH(TRUE,OFFSET('lista do wyboru'!$G$6:$G$160,G271,0),0)),G271+MATCH(TRUE,OFFSET('lista do wyboru'!$G$6:$G$160,G271,0),0),\"\")","v":""}]
[{"$f":"IF($G273=\"\",\"--\",INDEX('lista do wyboru'!$B$6:$F$160,$G273,1))","v":"--"},{"$f":"IF($G273=\"\",\"--\",INDEX('lista do wyboru'!$B$6:$F$160,$G273,2))","v":"--"},{"$f":"IF($G273=\"\",\"--\",INDEX('lista do wyboru'!$B$6:$F$160,$G273,4))","v":"--"},{"$f":"IF($G273=\"\",\"--\",INDEX('lista do wyboru'!$B$6:$F$160,$G273,5))","v":"--"},0,null,{"$f":"IF(FALSE = ISERROR(MATCH(TRUE,OFFSET('lista do wyboru'!$G$6:$G$160,G272,0),0)),G272+MATCH(TRUE,OFFSET('lista do wyboru'!$G$6:$G$160,G272,0),0),\"\")","v":""}]
[{"$f":"IF($G274=\"\",\"--\",INDEX('lista do wyboru'!$B$6:$F$160,$G274,1))","v":"--"},{"$f":"IF($G274=\"\",\"--\",INDEX('lista do wyboru'!$B$6:$F$160,$G274,2))","v":"--"},{"$f":"IF($G274=\"\",\"--\",INDEX('lista do wyboru'!$B$6:$F$160,$G274,4))","v":"--"},{"$f":"IF($G274=\"\",\"--\",INDEX('lista do wyboru'!$B$6:$F$160,$G274,5))","v":"--"},0,null,{"$f":"IF(FALSE = ISERROR(MATCH(TRUE,OFFSET('lista do wyboru'!$G$6:$G$160,G273,0),0)),G273+MATCH(TRUE,OFFSET('lista do wyboru'!$G$6:$G$160,G273,0),0),\"\")","v":""}]
[{"$f":"IF($G275=\"\",\"--\",INDEX('lista do wyboru'!$B$6:$F$160,$G275,1))","v":"--"},{"$f":"IF($G275=\"\",\"--\",INDEX('lista do wyboru'!$B$6:$F$160,$G275,2))","v":"--"},{"$f":"IF($G275=\"\",\"--\",INDEX('lista do wyboru'!$B$6:$F$160,$G275,4))","v":"--"},{"$f":"IF($G275=\"\",\"--\",INDEX('lista do wyboru'!$B$6:$F$160,$G275,5))","v":"--"},0,null,{"$f":"IF(FALSE = ISERROR(MATCH(TRUE,OFFSET('lista do wyboru'!$G$6:$G$160,G274,0),0)),G274+MATCH(TRUE,OFFSET('lista do wyboru'!$G$6:$G$160,G274,0),0),\"\")","v":""}]
[{"$f":"IF($G276=\"\",\"--\",INDEX('lista do wyboru'!$B$6:$F$160,$G276,1))","v":"--"},{"$f":"IF($G276=\"\",\"--\",INDEX('lista do wyboru'!$B$6:$F$160,$G276,2))","v":"--"},{"$f":"IF($G276=\"\",\"--\",INDEX('lista do wyboru'!$B$6:$F$160,$G276,4))","v":"--"},{"$f":"IF($G276=\"\",\"--\",INDEX('lista do wyboru'!$B$6:$F$160,$G276,5))","v":"--"},0,null,{"$f":"IF(FALSE = ISERROR(MATCH(TRUE,OFFSET('lista do wyboru'!$G$6:$G$160,G275,0),0)),G275+MATCH(TRUE,OFFSET('lista do wyboru'!$G$6:$G$160,G275,0),0),\"\")","v":""}]
[{"$f":"IF($G277=\"\",\"--\",INDEX('lista do wyboru'!$B$6:$F$160,$G277,1))","v":"--"},{"$f":"IF($G277=\"\",\"--\",INDEX('lista do wyboru'!$B$6:$F$160,$G277,2))","v":"--"},{"$f":"IF($G277=\"\",\"--\",INDEX('lista do wyboru'!$B$6:$F$160,$G277,4))","v":"--"},{"$f":"IF($G277=\"\",\"--\",INDEX('lista do wyboru'!$B$6:$F$160,$G277,5))","v":"--"},0,null,{"$f":"IF(FALSE = ISERROR(MATCH(TRUE,OFFSET('lista do wyboru'!$G$6:$G$160,G276,0),0)),G276+MATCH(TRUE,OFFSET('lista do wyboru'!$G$6:$G$160,G276,0),0),\"\")","v":""}]
[{"$f":"IF($G278=\"\",\"--\",INDEX('lista do wyboru'!$B$6:$F$160,$G278,1))","v":"--"},{"$f":"IF($G278=\"\",\"--\",INDEX('lista do wyboru'!$B$6:$F$160,$G278,2))","v":"--"},{"$f":"IF($G278=\"\",\"--\",INDEX('lista do wyboru'!$B$6:$F$160,$G278,4))","v":"--"},{"$f":"IF($G278=\"\",\"--\",INDEX('lista do wyboru'!$B$6:$F$160,$G278,5))","v":"--"},0,null,{"$f":"IF(FALSE = ISERROR(MATCH(TRUE,OFFSET('lista do wyboru'!$G$6:$G$160,G277,0),0)),G277+MATCH(TRUE,OFFSET('lista do wyboru'!$G$6:$G$160,G277,0),0),\"\")","v":""}]
[{"$f":"IF($G279=\"\",\"--\",INDEX('lista do wyboru'!$B$6:$F$160,$G279,1))","v":"--"},{"$f":"IF($G279=\"\",\"--\",INDEX('lista do wyboru'!$B$6:$F$160,$G279,2))","v":"--"},{"$f":"IF($G279=\"\",\"--\",INDEX('lista do wyboru'!$B$6:$F$160,$G279,4))","v":"--"},{"$f":"IF($G279=\"\",\"--\",INDEX('lista do wyboru'!$B$6:$F$160,$G279,5))","v":"--"},0,null,{"$f":"IF(FALSE = ISERROR(MATCH(TRUE,OFFSET('lista do wyboru'!$G$6:$G$160,G278,0),0)),G278+MATCH(TRUE,OFFSET('lista do wyboru'!$G$6:$G$160,G278,0),0),\"\")","v":""}]
[{"$f":"IF($G280=\"\",\"--\",INDEX('lista do wyboru'!$B$6:$F$160,$G280,1))","v":"--"},{"$f":"IF($G280=\"\",\"--\",INDEX('lista do wyboru'!$B$6:$F$160,$G280,2))","v":"--"},{"$f":"IF($G280=\"\",\"--\",INDEX('lista do wyboru'!$B$6:$F$160,$G280,4))","v":"--"},{"$f":"IF($G280=\"\",\"--\",INDEX('lista do wyboru'!$B$6:$F$160,$G280,5))","v":"--"},0,null,{"$f":"IF(FALSE = ISERROR(MATCH(TRUE,OFFSET('lista do wyboru'!$G$6:$G$160,G279,0),0)),G279+MATCH(TRUE,OFFSET('lista do wyboru'!$G$6:$G$160,G279,0),0),\"\")","v":""}]
[{"$f":"IF($G281=\"\",\"--\",INDEX('lista do wyboru'!$B$6:$F$160,$G281,1))","v":"--"},{"$f":"IF($G281=\"\",\"--\",INDEX('lista do wyboru'!$B$6:$F$160,$G281,2))","v":"--"},{"$f":"IF($G281=\"\",\"--\",INDEX('lista do wyboru'!$B$6:$F$160,$G281,4))","v":"--"},{"$f":"IF($G281=\"\",\"--\",INDEX('lista do wyboru'!$B$6:$F$160,$G281,5))","v":"--"},0,null,{"$f":"IF(FALSE = ISERROR(MATCH(TRUE,OFFSET('lista do wyboru'!$G$6:$G$160,G280,0),0)),G280+MATCH(TRUE,OFFSET('lista do wyboru'!$G$6:$G$160,G280,0),0),\"\")","v":""}]